BEGIN:VCALENDAR
VERSION:2.0
PRODID:-//Fordham Now - ECPv6.15.20//NONSGML v1.0//EN
CALSCALE:GREGORIAN
METHOD:PUBLISH
X-WR-CALNAME:Fordham Now
X-ORIGINAL-URL:https://newsuat.fordham.edu
X-WR-CALDESC:Events for Fordham Now
REFRESH-INTERVAL;VALUE=DURATION:PT1H
X-Robots-Tag:noindex
X-PUBLISHED-TTL:PT1H
BEGIN:VTIMEZONE
TZID:America/New_York
BEGIN:DAYLIGHT
TZOFFSETFROM:-0500
TZOFFSETTO:-0400
TZNAME:EDT
DTSTART:20150308T070000
END:DAYLIGHT
BEGIN:STANDARD
TZOFFSETFROM:-0400
TZOFFSETTO:-0500
TZNAME:EST
DTSTART:20151101T060000
END:STANDARD
BEGIN:DAYLIGHT
TZOFFSETFROM:-0500
TZOFFSETTO:-0400
TZNAME:EDT
DTSTART:20160313T070000
END:DAYLIGHT
BEGIN:STANDARD
TZOFFSETFROM:-0400
TZOFFSETTO:-0500
TZNAME:EST
DTSTART:20161106T060000
END:STANDARD
BEGIN:DAYLIGHT
TZOFFSETFROM:-0500
TZOFFSETTO:-0400
TZNAME:EDT
DTSTART:20170312T070000
END:DAYLIGHT
BEGIN:STANDARD
TZOFFSETFROM:-0400
TZOFFSETTO:-0500
TZNAME:EST
DTSTART:20171105T060000
END:STANDARD
BEGIN:DAYLIGHT
TZOFFSETFROM:-0500
TZOFFSETTO:-0400
TZNAME:EDT
DTSTART:20180311T070000
END:DAYLIGHT
BEGIN:STANDARD
TZOFFSETFROM:-0400
TZOFFSETTO:-0500
TZNAME:EST
DTSTART:20181104T060000
END:STANDARD
BEGIN:DAYLIGHT
TZOFFSETFROM:-0500
TZOFFSETTO:-0400
TZNAME:EDT
DTSTART:20190310T070000
END:DAYLIGHT
BEGIN:STANDARD
TZOFFSETFROM:-0400
TZOFFSETTO:-0500
TZNAME:EST
DTSTART:20191103T060000
END:STANDARD
END:VTIMEZONE
BEGIN:VEVENT
DTSTART;TZID=America/New_York:20180315T180000
DTEND;TZID=America/New_York:20180315T200000
DTSTAMP:20260426T003333
CREATED:20180214T204449Z
LAST-MODIFIED:20180214T204449Z
UID:10006344-1521136800-1521144000@newsuat.fordham.edu
SUMMARY:Invest in the Future of Social Work
DESCRIPTION:L.E.A.P\, a Fordham Graduate School of Social Service student-run project to inspire future social workers\, enables students to feel empowered about realistic social work opportunities\, drives engagement within the Fordham student body and alumni network\, and encourages a new generation of social workers to think outside of the box. \nThe students of L.E.A.P. invite you to an empowering night of networking with students and alumni. Join us to hear about the careers and work of dynamic social work leaders in the industry. \nSCHEDULE \n6 – 6:30 p.m.\nDoors Open\nRefreshments and Networking \n6:30 p.m.\nProgram Begins\nWelcome from Student Committee\nKeynote Speakers\nRaffle \n7:30 p.m.\nEngagement with Speakers\, Students\, and Alumni\nNetworking \n8 p.m.\nEvent Concludes
URL:https://newsuat.fordham.edu/event/invest-future-social-work/
LOCATION:Bateman Room\, 150 West 62nd Street\, New York\, NY\, 10023\, United States
CATEGORIES:Conferences and Symposia,Networking and Career
ATTACH;FMTTYPE=image/jpeg:https://newsuat.fordham.edu/wp-content/uploads/2018/02/LEAPFordhamMaroon_2.jpg
GEO:40.7716809;-73.984777
X-APPLE-STRUCTURED-LOCATION;VALUE=URI;X-ADDRESS=Bateman Room 150 West 62nd Street New York NY 10023 United States;X-APPLE-RADIUS=500;X-TITLE=150 West 62nd Street:geo:-73.984777,40.7716809
END:VEVENT
BEGIN:VEVENT
DTSTART;TZID=America/New_York:20170712T080000
DTEND;TZID=America/New_York:20170712T093000
DTSTAMP:20260426T003333
CREATED:20170628T191400Z
LAST-MODIFIED:20170628T191400Z
UID:10006016-1499846400-1499851800@newsuat.fordham.edu
SUMMARY:Fordham/Accenture Compliance Series: Future of Regulation
DESCRIPTION:After a period of sweeping reform of the rules and regulations affecting the global financial services industry\, organizations have shifted their focus to implementation. However\, with every region\, product\, and legal entity closely regulated\, financial institutions are challenged to make smart decisions that account for the unknown in areas from overall business strategy to risk management. Join us and a panel of industry experts to discuss the actions organizations are taking to address the uncertain future of financial services in the era of “regulatory reform.” \nPANELISTS \nMichael R. Manley\nPartner\nVenable LLP \nJohnny Vilela\nHead of Regulatory Affairs\nRabobank \nVenetia Woo\nSenior Principal\, Finance and Risk Management\nAccenture \nModerator\nKimberly Versace\nCounsel\nRichards Kibbe & Orbe LLP \nPresented in partnership with the Fordham Corporate Law Center.\nBreakfast will be served. 
URL:https://newsuat.fordham.edu/event/fordhamaccenture-compliance-series-future-of-regulation/
LOCATION:Bateman Room\, 150 West 62nd Street\, New York\, NY\, 10023\, United States
ORGANIZER;CN="Fordham Corporate Law Center":MAILTO:corporatecenter@law.fordham.edu 
GEO:40.7716809;-73.984777
X-APPLE-STRUCTURED-LOCATION;VALUE=URI;X-ADDRESS=Bateman Room 150 West 62nd Street New York NY 10023 United States;X-APPLE-RADIUS=500;X-TITLE=150 West 62nd Street:geo:-73.984777,40.7716809
END:VEVENT
BEGIN:VEVENT
DTSTART;TZID=America/New_York:20160427T083000
DTEND;TZID=America/New_York:20160427T100000
DTSTAMP:20260426T003333
CREATED:20160426T172313Z
LAST-MODIFIED:20160426T172313Z
UID:10005598-1461745800-1461751200@newsuat.fordham.edu
SUMMARY:Discussion: When Nonprofits Fail: What To Do When Deficits Hit
DESCRIPTION:A panel of experts from the nonprofit sector will talk about why nonprofits fail\, warning signs\, and what to do to fix and/or avoid them. Co-sponsored by the Center for Nonprofit Leaders\, the Graduate School of Social Service\, and the Gabelli School of Business.
URL:https://newsuat.fordham.edu/event/discussion-when-nonprofits-fail-what-to-do-when-deficits-hit/
LOCATION:Bateman Room\, 150 West 62nd Street\, New York\, NY\, 10023\, United States
ORGANIZER;CN="Sandra Guerra":MAILTO:sguerra@fordham.edu 
GEO:40.7716809;-73.984777
X-APPLE-STRUCTURED-LOCATION;VALUE=URI;X-ADDRESS=Bateman Room 150 West 62nd Street New York NY 10023 United States;X-APPLE-RADIUS=500;X-TITLE=150 West 62nd Street:geo:-73.984777,40.7716809
END:VEVENT
BEGIN:VEVENT
DTSTART;TZID=America/New_York:20160417T150000
DTEND;TZID=America/New_York:20160417T170000
DTSTAMP:20260426T003333
CREATED:20160414T142824Z
LAST-MODIFIED:20160414T142824Z
UID:10005567-1460905200-1460912400@newsuat.fordham.edu
SUMMARY:An Afternoon with Anne Enright
DESCRIPTION:Fordham’s Institute of Irish Studies will welcome Anne Enright\, author of The Green Road (W. W. Norton & Company\, 2015) and The Gathering (Black Cat/Grove/Atlantic\, 2007).
URL:https://newsuat.fordham.edu/event/an-afternoon-with-anne-enright/
LOCATION:Bateman Room\, 150 West 62nd Street\, New York\, NY\, 10023\, United States
ORGANIZER;CN="Susan Perciasepe":MAILTO:perciasepe@fordham.edu
GEO:40.7716809;-73.984777
X-APPLE-STRUCTURED-LOCATION;VALUE=URI;X-ADDRESS=Bateman Room 150 West 62nd Street New York NY 10023 United States;X-APPLE-RADIUS=500;X-TITLE=150 West 62nd Street:geo:-73.984777,40.7716809
END:VEVENT
BEGIN:VEVENT
DTSTART;TZID=America/New_York:20160415T113000
DTEND;TZID=America/New_York:20160415T130000
DTSTAMP:20260426T003333
CREATED:20160414T142218Z
LAST-MODIFIED:20160414T142218Z
UID:10005564-1460719800-1460725200@newsuat.fordham.edu
SUMMARY:The Reid Family Writers of Color Reading Series featuring Claudia Rankine
DESCRIPTION:Fordham’s Creative Writing Program welcomes author and poet Claudia Rankine for a reading\, Q&A\, and book signing as part of the 2016 Reid Family Writers of Color Reading Series.
URL:https://newsuat.fordham.edu/event/the-reid-family-writers-of-color-reading-series-featuring-claudia-rankine/
LOCATION:Bateman Room\, 150 West 62nd Street\, New York\, NY\, 10023\, United States
ORGANIZER;CN="Sarah Gambito":MAILTO:gambito@fordham.edu 
GEO:40.7716809;-73.984777
X-APPLE-STRUCTURED-LOCATION;VALUE=URI;X-ADDRESS=Bateman Room 150 West 62nd Street New York NY 10023 United States;X-APPLE-RADIUS=500;X-TITLE=150 West 62nd Street:geo:-73.984777,40.7716809
END:VEVENT
BEGIN:VEVENT
DTSTART;TZID=America/New_York:20160412T083000
DTEND;TZID=America/New_York:20160412T100000
DTSTAMP:20260426T003333
CREATED:20160411T174509Z
LAST-MODIFIED:20160411T174509Z
UID:10005539-1460449800-1460455200@newsuat.fordham.edu
SUMMARY:Governance in New York City: The Bloomberg Years
DESCRIPTION:Moderator and host Bill Baker\, journalist-in-residence and distinguished professor of education at Fordham\, will conduct a special interview with Robert Steel\, former New York City deputy mayor for economic development.
URL:https://newsuat.fordham.edu/event/governance-in-new-york-city-the-bloomberg-years-2/
LOCATION:Bateman Room\, 150 West 62nd Street\, New York\, NY\, 10023\, United States
ORGANIZER;CN="Tom Dunne":MAILTO:tdunne@fordham.edu 
GEO:40.7716809;-73.984777
X-APPLE-STRUCTURED-LOCATION;VALUE=URI;X-ADDRESS=Bateman Room 150 West 62nd Street New York NY 10023 United States;X-APPLE-RADIUS=500;X-TITLE=150 West 62nd Street:geo:-73.984777,40.7716809
END:VEVENT
BEGIN:VEVENT
DTSTART;TZID=America/New_York:20160406T140000
DTEND;TZID=America/New_York:20160406T160000
DTSTAMP:20260426T003333
CREATED:20160405T141226Z
LAST-MODIFIED:20160405T141226Z
UID:10005517-1459951200-1459958400@newsuat.fordham.edu
SUMMARY:Lecture: Cornel West and Adolph Reed\, Jr. on Higher Education in 2016
DESCRIPTION:Speakers: Cornel West\, PhD\, professor of philosophy and Christian practice at Union Theological Seminary\, and Adolph Reed\, Jr.\, professor of political science at the University of Pennsylvania\, will discuss America’s system of higher education and how these issues may be addressed in the 2016 presidential campaign and beyond. Sponsored by Fordham American Studies.
URL:https://newsuat.fordham.edu/event/lecture-cornel-west-and-adolph-reed-jr-on-higher-education-in-2016/
LOCATION:Bateman Room\, 150 West 62nd Street\, New York\, NY\, 10023\, United States
ORGANIZER;CN="Fordham American Studies":MAILTO:amerstudies@fordham.edu 
GEO:40.7716809;-73.984777
X-APPLE-STRUCTURED-LOCATION;VALUE=URI;X-ADDRESS=Bateman Room 150 West 62nd Street New York NY 10023 United States;X-APPLE-RADIUS=500;X-TITLE=150 West 62nd Street:geo:-73.984777,40.7716809
END:VEVENT
BEGIN:VEVENT
DTSTART;TZID=America/New_York:20160202T163000
DTEND;TZID=America/New_York:20160202T180000
DTSTAMP:20260426T003333
CREATED:20160201T170139Z
LAST-MODIFIED:20160201T170139Z
UID:10005342-1454430600-1454436000@newsuat.fordham.edu
SUMMARY:Discussion: Cura Personalis and the Rights and Dignity of Pregnant People
DESCRIPTION:A panel of experts will examine and defend the civil and human rights of all pregnant people. Sponsored by the Departments of Sociology and Anthropology\, American Studies\, and Women’s Studies\, and the student organization Law Students for Reproductive Justice.
URL:https://newsuat.fordham.edu/event/discussion-cura-personalis-and-the-rights-and-dignity-of-pregnant-people/
LOCATION:Bateman Room\, 150 West 62nd Street\, New York\, NY\, 10023\, United States
ORGANIZER;CN="Jeanne Flavin":MAILTO:jflavin@fordham.edu
GEO:40.7716809;-73.984777
X-APPLE-STRUCTURED-LOCATION;VALUE=URI;X-ADDRESS=Bateman Room 150 West 62nd Street New York NY 10023 United States;X-APPLE-RADIUS=500;X-TITLE=150 West 62nd Street:geo:-73.984777,40.7716809
END:VEVENT
END:VCALENDAR