BEGIN:VCALENDAR
VERSION:2.0
PRODID:-//Fordham Now - ECPv6.15.20//NONSGML v1.0//EN
CALSCALE:GREGORIAN
METHOD:PUBLISH
X-ORIGINAL-URL:https://newsuat.fordham.edu
X-WR-CALDESC:Events for Fordham Now
REFRESH-INTERVAL;VALUE=DURATION:PT1H
X-Robots-Tag:noindex
X-PUBLISHED-TTL:PT1H
BEGIN:VTIMEZONE
TZID:America/New_York
BEGIN:DAYLIGHT
TZOFFSETFROM:-0500
TZOFFSETTO:-0400
TZNAME:EDT
DTSTART:20210314T070000
END:DAYLIGHT
BEGIN:STANDARD
TZOFFSETFROM:-0400
TZOFFSETTO:-0500
TZNAME:EST
DTSTART:20211107T060000
END:STANDARD
BEGIN:DAYLIGHT
TZOFFSETFROM:-0500
TZOFFSETTO:-0400
TZNAME:EDT
DTSTART:20220313T070000
END:DAYLIGHT
BEGIN:STANDARD
TZOFFSETFROM:-0400
TZOFFSETTO:-0500
TZNAME:EST
DTSTART:20221106T060000
END:STANDARD
BEGIN:DAYLIGHT
TZOFFSETFROM:-0500
TZOFFSETTO:-0400
TZNAME:EDT
DTSTART:20230312T070000
END:DAYLIGHT
BEGIN:STANDARD
TZOFFSETFROM:-0400
TZOFFSETTO:-0500
TZNAME:EST
DTSTART:20231105T060000
END:STANDARD
BEGIN:DAYLIGHT
TZOFFSETFROM:-0500
TZOFFSETTO:-0400
TZNAME:EDT
DTSTART:20240310T070000
END:DAYLIGHT
BEGIN:STANDARD
TZOFFSETFROM:-0400
TZOFFSETTO:-0500
TZNAME:EST
DTSTART:20241103T060000
END:STANDARD
END:VTIMEZONE
BEGIN:VEVENT
DTSTART;TZID=America/New_York:20230728T190000
DTEND;TZID=America/New_York:20230728T210000
DTSTAMP:20260415T124846
CREATED:20230502T193415Z
LAST-MODIFIED:20230502T193415Z
UID:10005115-1690570800-1690578000@newsuat.fordham.edu
SUMMARY:Alumni Chapter of Washington\, D.C.: 2023 Washington Spirit vs. NJ/NY Gotham
DESCRIPTION:Come kick it with the Alumni Chapter of Washington\, D.C.\, as the Washington Spirit host the New York/New Jersey Gotham FC. Friends and family are welcome to join us. Seats are located in section 118 for $30 each. All tickets are electronic and will be forwarded via email. \nSpace is limited\, and registrations will be honored on a first-come\, first-served basis. RSVP by July 26. \nPlease consider making a gift of $25 or more to support Cura Personalis | For Every Fordham Student.
URL:https://newsuat.fordham.edu/event/alumni-chapter-of-washington-d-c-2023-washington-spirit-vs-nj-ny-gotham/
LOCATION:Audi Field\, 100 Potomac Ave\, SW\, Washington\, DC\, 20024\, United States
CATEGORIES:Social
ORGANIZER;CN="Deanna Howes Spiro":MAILTO:fordham.club.dc@gmail.com
END:VEVENT
BEGIN:VEVENT
DTSTART;TZID=America/New_York:20220917T190000
DTEND;TZID=America/New_York:20220917T220000
DTSTAMP:20260415T124846
CREATED:20220719T143348Z
LAST-MODIFIED:20220719T143348Z
UID:10004772-1663441200-1663452000@newsuat.fordham.edu
SUMMARY:Alumni Chapter of Washington\, D.C.: 2022 Washington Spirit Soccer Game
DESCRIPTION:Alumni\, family\, and friends are invited to cheer on the Washington Spirit women’s soccer team as they take on the NJ/NY Gotham FC this fall! Join us for a fun\, family-friendly evening at Audi Field in Washington\, D.C. \nTickets are $20 each and are located in section 132. Tickets will be distributed electronically. RSVP by September 13.
URL:https://newsuat.fordham.edu/event/alumni-chapter-of-washington-d-c-2022-washington-spirit-soccer-game/
LOCATION:Audi Field\, 100 Potomac Ave\, SW\, Washington\, DC\, 20024\, United States
CATEGORIES:Athletics,Social
ORGANIZER;CN="Alumni Chapter of Washington%2C D.C.":MAILTO:fordham.club.dc@gmail.com
END:VEVENT
END:VCALENDAR