BEGIN:VCALENDAR
VERSION:2.0
PRODID:-//Fordham Now - ECPv6.15.20//NONSGML v1.0//EN
CALSCALE:GREGORIAN
METHOD:PUBLISH
X-WR-CALNAME:Fordham Now
X-ORIGINAL-URL:https://newsuat.fordham.edu
X-WR-CALDESC:Events for Fordham Now
REFRESH-INTERVAL;VALUE=DURATION:PT1H
X-Robots-Tag:noindex
X-PUBLISHED-TTL:PT1H
BEGIN:VTIMEZONE
TZID:America/New_York
BEGIN:DAYLIGHT
TZOFFSETFROM:-0500
TZOFFSETTO:-0400
TZNAME:EDT
DTSTART:20180311T070000
END:DAYLIGHT
BEGIN:STANDARD
TZOFFSETFROM:-0400
TZOFFSETTO:-0500
TZNAME:EST
DTSTART:20181104T060000
END:STANDARD
BEGIN:DAYLIGHT
TZOFFSETFROM:-0500
TZOFFSETTO:-0400
TZNAME:EDT
DTSTART:20190310T070000
END:DAYLIGHT
BEGIN:STANDARD
TZOFFSETFROM:-0400
TZOFFSETTO:-0500
TZNAME:EST
DTSTART:20191103T060000
END:STANDARD
BEGIN:DAYLIGHT
TZOFFSETFROM:-0500
TZOFFSETTO:-0400
TZNAME:EDT
DTSTART:20200308T070000
END:DAYLIGHT
BEGIN:STANDARD
TZOFFSETFROM:-0400
TZOFFSETTO:-0500
TZNAME:EST
DTSTART:20201101T060000
END:STANDARD
BEGIN:DAYLIGHT
TZOFFSETFROM:-0500
TZOFFSETTO:-0400
TZNAME:EDT
DTSTART:20210314T070000
END:DAYLIGHT
BEGIN:STANDARD
TZOFFSETFROM:-0400
TZOFFSETTO:-0500
TZNAME:EST
DTSTART:20211107T060000
END:STANDARD
END:VTIMEZONE
BEGIN:VEVENT
DTSTART;TZID=America/New_York:20200204T190000
DTEND;TZID=America/New_York:20200204T220000
DTSTAMP:20260426T001554
CREATED:20200109T204921Z
LAST-MODIFIED:20200109T204921Z
UID:10003840-1580842800-1580853600@newsuat.fordham.edu
SUMMARY:Alumni Chapter of Tampa: Lightning Hockey Game
DESCRIPTION:Join Tampa Bay alumni as the Lightning take on the Vegas Golden Knights! Our block of tickets is located in Section 307. \nGame tickets cost $56 each and should be picked up at Will Call on game day. \nRSVP by January 16\, 2020.
URL:https://newsuat.fordham.edu/event/alumni-chapter-of-tampa-lightning-hockey-game/
LOCATION:Amalie Arena\, 401 Channelside Drive\, Tampa\, FL\, 33602\, United States
CATEGORIES:Social
ORGANIZER;CN="Alumni Chapter of Tampa":MAILTO:dansomma1@gmail.com
END:VEVENT
BEGIN:VEVENT
DTSTART;TZID=America/New_York:20190108T190000
DTEND;TZID=America/New_York:20190108T190000
DTSTAMP:20260426T001554
CREATED:20181120T134102Z
LAST-MODIFIED:20181120T134102Z
UID:10006711-1546974000-1546974000@newsuat.fordham.edu
SUMMARY:Alumni Chapters of Tampa and Sarasota: Lightning Hockey Game
DESCRIPTION:Join Tampa Bay and Sarasota alumni as the Lightning take on the Columbus Blue Jackets! Our block of tickets is located in the terrace sideline seating area. \nTickets cost $37 each and should be picked up at will call on game day.
URL:https://newsuat.fordham.edu/event/alumni-chapters-of-tampa-and-sarasota-lightning-hockey-game/
LOCATION:Amalie Arena\, 401 Channelside Drive\, Tampa\, FL\, 33602\, United States
CATEGORIES:Social
ORGANIZER;CN="Dan Somma":MAILTO:dansomma1@gmail.com
END:VEVENT
END:VCALENDAR