BEGIN:VCALENDAR
VERSION:2.0
PRODID:-//Fordham Now - ECPv6.15.20//NONSGML v1.0//EN
CALSCALE:GREGORIAN
METHOD:PUBLISH
X-WR-CALNAME:Fordham Now
X-ORIGINAL-URL:https://newsuat.fordham.edu
X-WR-CALDESC:Events for Fordham Now
REFRESH-INTERVAL;VALUE=DURATION:PT1H
X-Robots-Tag:noindex
X-PUBLISHED-TTL:PT1H
BEGIN:VTIMEZONE
TZID:America/New_York
BEGIN:DAYLIGHT
TZOFFSETFROM:-0500
TZOFFSETTO:-0400
TZNAME:EDT
DTSTART:20180311T070000
END:DAYLIGHT
BEGIN:STANDARD
TZOFFSETFROM:-0400
TZOFFSETTO:-0500
TZNAME:EST
DTSTART:20181104T060000
END:STANDARD
BEGIN:DAYLIGHT
TZOFFSETFROM:-0500
TZOFFSETTO:-0400
TZNAME:EDT
DTSTART:20190310T070000
END:DAYLIGHT
BEGIN:STANDARD
TZOFFSETFROM:-0400
TZOFFSETTO:-0500
TZNAME:EST
DTSTART:20191103T060000
END:STANDARD
BEGIN:DAYLIGHT
TZOFFSETFROM:-0500
TZOFFSETTO:-0400
TZNAME:EDT
DTSTART:20200308T070000
END:DAYLIGHT
BEGIN:STANDARD
TZOFFSETFROM:-0400
TZOFFSETTO:-0500
TZNAME:EST
DTSTART:20201101T060000
END:STANDARD
END:VTIMEZONE
BEGIN:VEVENT
DTSTART;TZID=America/New_York:20191108T190000
DTEND;TZID=America/New_York:20191108T220000
DTSTAMP:20260425T064927
CREATED:20191011T152030Z
LAST-MODIFIED:20191011T152030Z
UID:10007276-1573239600-1573250400@newsuat.fordham.edu
SUMMARY:Alumni Chapter of Miami: Ring of Fire at the Actors’ Playhouse
DESCRIPTION:Join alumni and friends for a wonderful evening at the historic Actors’ Playhouse in Coral Gables. We will be enjoying a performance of Ring of Fire\, featuring the music of Johnny Cash. Featuring five incredible actors/singers/musicians who play 20 different instruments\, this exciting musical is a salute to a unique legend. \nTickets are $45 each. There are a limited number\, so make sure to purchase yours soon! Concessions are available for purchase at the theater. Light refreshments\, including wine and cheese\, will be provided by the Office of Alumni Relations before the show.
URL:https://newsuat.fordham.edu/event/alumni-chapter-of-miami-ring-of-fire-at-the-actors-playhouse/
LOCATION:Actors’ Playhouse\, 280 Miracle Mile\, Coral Gables\, FL\, 33134\, United States
CATEGORIES:Cultural,Receptions,Social
ORGANIZER;CN="Alumni Chapter of Miami":MAILTO:emartinez@etlaw.com
GEO:25.7488596;-80.2604624
X-APPLE-STRUCTURED-LOCATION;VALUE=URI;X-ADDRESS=Actors’ Playhouse 280 Miracle Mile Coral Gables FL 33134 United States;X-APPLE-RADIUS=500;X-TITLE=280 Miracle Mile:geo:-80.2604624,25.7488596
END:VEVENT
END:VCALENDAR