BEGIN:VCALENDAR
VERSION:2.0
PRODID:-//Fordham Now - ECPv6.15.20//NONSGML v1.0//EN
CALSCALE:GREGORIAN
METHOD:PUBLISH
X-ORIGINAL-URL:https://newsuat.fordham.edu
X-WR-CALDESC:Events for Fordham Now
REFRESH-INTERVAL;VALUE=DURATION:PT1H
X-Robots-Tag:noindex
X-PUBLISHED-TTL:PT1H
BEGIN:VTIMEZONE
TZID:America/New_York
BEGIN:DAYLIGHT
TZOFFSETFROM:-0500
TZOFFSETTO:-0400
TZNAME:EDT
DTSTART:20160313T070000
END:DAYLIGHT
BEGIN:STANDARD
TZOFFSETFROM:-0400
TZOFFSETTO:-0500
TZNAME:EST
DTSTART:20161106T060000
END:STANDARD
BEGIN:DAYLIGHT
TZOFFSETFROM:-0500
TZOFFSETTO:-0400
TZNAME:EDT
DTSTART:20170312T070000
END:DAYLIGHT
BEGIN:STANDARD
TZOFFSETFROM:-0400
TZOFFSETTO:-0500
TZNAME:EST
DTSTART:20171105T060000
END:STANDARD
BEGIN:DAYLIGHT
TZOFFSETFROM:-0500
TZOFFSETTO:-0400
TZNAME:EDT
DTSTART:20180311T070000
END:DAYLIGHT
BEGIN:STANDARD
TZOFFSETFROM:-0400
TZOFFSETTO:-0500
TZNAME:EST
DTSTART:20181104T060000
END:STANDARD
END:VTIMEZONE
BEGIN:VEVENT
DTSTART;TZID=America/New_York:20170927T133000
DTEND;TZID=America/New_York:20170927T170000
DTSTAMP:20260425T160249
CREATED:20170830T132729Z
LAST-MODIFIED:20170830T132729Z
UID:10006033-1506519000-1506531600@newsuat.fordham.edu
SUMMARY:5th Annual Bronx Science Consortium Poster Symposium
DESCRIPTION:High school\, undergraduate\, graduate\, and post-doctoral level researchers who are working are affiliated with Bronx Science Consortium partner institutions (Fordham University\, Albert Einstein College of Medicine/Motefiore Health System\, Bronx Zoo/WCS\, and the New York Botanical Garden) will present their science research. \n1:30 – 2:30 pm: Keynote address by Jason Munshi-South\, Ph.D. on “Evolution of Life in Urban Environments”\n3:00 – 5:00 pm: Poster Session \nThis event is open to the public on a “free Wednesday” at the Bronx Zoo.
URL:https://newsuat.fordham.edu/event/5th-annual-bronx-science-consortium-poster-symposium/
LOCATION:Schiff Hall\, Bronx Zoo
CATEGORIES:Conferences and Symposia
ATTACH;FMTTYPE=image/jpeg:https://newsuat.fordham.edu/wp-content/uploads/2017/08/BSC-Poster-Symposium.jpg
ORGANIZER;CN="Bronx Science Consortium":MAILTO:c/o Dr. Ron Jacobson (jacobson@fordham.edu)
END:VEVENT
END:VCALENDAR