BEGIN:VCALENDAR
VERSION:2.0
PRODID:-//Fordham Now - ECPv6.15.20//NONSGML v1.0//EN
CALSCALE:GREGORIAN
METHOD:PUBLISH
X-WR-CALNAME:Fordham Now
X-ORIGINAL-URL:https://newsuat.fordham.edu
X-WR-CALDESC:Events for Fordham Now
REFRESH-INTERVAL;VALUE=DURATION:PT1H
X-Robots-Tag:noindex
X-PUBLISHED-TTL:PT1H
BEGIN:VTIMEZONE
TZID:America/New_York
BEGIN:DAYLIGHT
TZOFFSETFROM:-0500
TZOFFSETTO:-0400
TZNAME:EDT
DTSTART:20220313T070000
END:DAYLIGHT
BEGIN:STANDARD
TZOFFSETFROM:-0400
TZOFFSETTO:-0500
TZNAME:EST
DTSTART:20221106T060000
END:STANDARD
BEGIN:DAYLIGHT
TZOFFSETFROM:-0500
TZOFFSETTO:-0400
TZNAME:EDT
DTSTART:20230312T070000
END:DAYLIGHT
BEGIN:STANDARD
TZOFFSETFROM:-0400
TZOFFSETTO:-0500
TZNAME:EST
DTSTART:20231105T060000
END:STANDARD
BEGIN:DAYLIGHT
TZOFFSETFROM:-0500
TZOFFSETTO:-0400
TZNAME:EDT
DTSTART:20240310T070000
END:DAYLIGHT
BEGIN:STANDARD
TZOFFSETFROM:-0400
TZOFFSETTO:-0500
TZNAME:EST
DTSTART:20241103T060000
END:STANDARD
END:VTIMEZONE
BEGIN:VEVENT
DTSTART;TZID=America/New_York:20230826T120000
DTEND;TZID=America/New_York:20230826T180000
DTSTAMP:20260421T170111
CREATED:20230818T180835Z
LAST-MODIFIED:20230818T180835Z
UID:10005165-1693051200-1693072800@newsuat.fordham.edu
SUMMARY:Lincoln Center Back-to-School Event
DESCRIPTION:Join the New York Society for Ethical Culture\, Fordham University\, Lincoln Center for the Performing Arts\, and the 20th precinct of the NYPD in distributing school supplies to families living in NYCHA Amsterdam Houses. \nThis is a fantastic opportunity to make a positive impact on the lives of our young scholars and their families as they gear up for the new school year. By becoming a volunteer\, you’ll play an essential role in creating an unforgettable experience for everyone attending.
URL:https://newsuat.fordham.edu/event/lincoln-center-back-to-school-event/
LOCATION:218 W 64th St\, 218 W 64th St\, New York\, NY\, 10023
CATEGORIES:Spiritual and Service,Volunteer
ORGANIZER;CN="Adam Bermudedz":MAILTO:abermudez1@fordham.edu
END:VEVENT
END:VCALENDAR