BEGIN:VCALENDAR
VERSION:2.0
PRODID:-//Fordham Now - ECPv6.15.20//NONSGML v1.0//EN
CALSCALE:GREGORIAN
METHOD:PUBLISH
X-WR-CALNAME:Fordham Now
X-ORIGINAL-URL:https://newsuat.fordham.edu
X-WR-CALDESC:Events for Fordham Now
REFRESH-INTERVAL;VALUE=DURATION:PT1H
X-Robots-Tag:noindex
X-PUBLISHED-TTL:PT1H
BEGIN:VTIMEZONE
TZID:America/New_York
BEGIN:DAYLIGHT
TZOFFSETFROM:-0500
TZOFFSETTO:-0400
TZNAME:EDT
DTSTART:20220313T070000
END:DAYLIGHT
BEGIN:STANDARD
TZOFFSETFROM:-0400
TZOFFSETTO:-0500
TZNAME:EST
DTSTART:20221106T060000
END:STANDARD
BEGIN:DAYLIGHT
TZOFFSETFROM:-0500
TZOFFSETTO:-0400
TZNAME:EDT
DTSTART:20230312T070000
END:DAYLIGHT
BEGIN:STANDARD
TZOFFSETFROM:-0400
TZOFFSETTO:-0500
TZNAME:EST
DTSTART:20231105T060000
END:STANDARD
BEGIN:DAYLIGHT
TZOFFSETFROM:-0500
TZOFFSETTO:-0400
TZNAME:EDT
DTSTART:20240310T070000
END:DAYLIGHT
BEGIN:STANDARD
TZOFFSETFROM:-0400
TZOFFSETTO:-0500
TZNAME:EST
DTSTART:20241103T060000
END:STANDARD
END:VTIMEZONE
BEGIN:VTIMEZONE
TZID:America/Denver
BEGIN:DAYLIGHT
TZOFFSETFROM:-0700
TZOFFSETTO:-0600
TZNAME:MDT
DTSTART:20220313T090000
END:DAYLIGHT
BEGIN:STANDARD
TZOFFSETFROM:-0600
TZOFFSETTO:-0700
TZNAME:MST
DTSTART:20221106T080000
END:STANDARD
BEGIN:DAYLIGHT
TZOFFSETFROM:-0700
TZOFFSETTO:-0600
TZNAME:MDT
DTSTART:20230312T090000
END:DAYLIGHT
BEGIN:STANDARD
TZOFFSETFROM:-0600
TZOFFSETTO:-0700
TZNAME:MST
DTSTART:20231105T080000
END:STANDARD
BEGIN:DAYLIGHT
TZOFFSETFROM:-0700
TZOFFSETTO:-0600
TZNAME:MDT
DTSTART:20240310T090000
END:DAYLIGHT
BEGIN:STANDARD
TZOFFSETFROM:-0600
TZOFFSETTO:-0700
TZNAME:MST
DTSTART:20241103T080000
END:STANDARD
END:VTIMEZONE
BEGIN:VTIMEZONE
TZID:Asia/Seoul
BEGIN:STANDARD
TZOFFSETFROM:+0900
TZOFFSETTO:+0900
TZNAME:KST
DTSTART:20220101T000000
END:STANDARD
END:VTIMEZONE
BEGIN:VTIMEZONE
TZID:America/Los_Angeles
BEGIN:DAYLIGHT
TZOFFSETFROM:-0800
TZOFFSETTO:-0700
TZNAME:PDT
DTSTART:20220313T100000
END:DAYLIGHT
BEGIN:STANDARD
TZOFFSETFROM:-0700
TZOFFSETTO:-0800
TZNAME:PST
DTSTART:20221106T090000
END:STANDARD
BEGIN:DAYLIGHT
TZOFFSETFROM:-0800
TZOFFSETTO:-0700
TZNAME:PDT
DTSTART:20230312T100000
END:DAYLIGHT
BEGIN:STANDARD
TZOFFSETFROM:-0700
TZOFFSETTO:-0800
TZNAME:PST
DTSTART:20231105T090000
END:STANDARD
BEGIN:DAYLIGHT
TZOFFSETFROM:-0800
TZOFFSETTO:-0700
TZNAME:PDT
DTSTART:20240310T100000
END:DAYLIGHT
BEGIN:STANDARD
TZOFFSETFROM:-0700
TZOFFSETTO:-0800
TZNAME:PST
DTSTART:20241103T090000
END:STANDARD
END:VTIMEZONE
BEGIN:VTIMEZONE
TZID:America/Phoenix
BEGIN:STANDARD
TZOFFSETFROM:-0700
TZOFFSETTO:-0700
TZNAME:MST
DTSTART:20220101T000000
END:STANDARD
END:VTIMEZONE
BEGIN:VEVENT
DTSTART;TZID=America/New_York:20230601T180000
DTEND;TZID=America/New_York:20230601T210000
DTSTAMP:20260421T145010
CREATED:20230321T205510Z
LAST-MODIFIED:20230321T205510Z
UID:10005042-1685642400-1685653200@newsuat.fordham.edu
SUMMARY:Professional Boundaries: Ethical Obligations of Social Workers
DESCRIPTION:Can mental health professionals work with clients that they know from outside of the job? Can you barter with clients for your services? Mental health professionals are charged with the legal and ethical responsibility to maintain professional boundaries\, but the obligation isn’t always so easy to discern. This class brings real-world context to ethical concerns often experienced by professionals in practice in maintaining appropriate professional boundaries. This class will provide a framework to contemplate ethical dilemmas and make informed decisions that insulate professionals from legal liability while protecting clients from harm. \nRegister for May 4 \nRegister for June 1 \nCompletion of this class will result in the receipt of three continuing education hours. \n\nThis class is designed to meet the New York state requirement that mental health professionals receive three hours of training on maintaining appropriate professional boundaries (effective April 2023). This class is not specific to New York state and can satisfy ethics and boundaries training requirements for any state.
URL:https://newsuat.fordham.edu/event/professional-boundaries-ethical-obligations-of-social-workers/2023-06-01/
LOCATION:Zoom
CATEGORIES:Lectures
END:VEVENT
BEGIN:VEVENT
DTSTART;VALUE=DATE:20230602
DTEND;VALUE=DATE:20230605
DTSTAMP:20260421T145010
CREATED:20230105T215857Z
LAST-MODIFIED:20230105T215857Z
UID:10004912-1685664000-1685923199@newsuat.fordham.edu
SUMMARY:Jubilee 2023
DESCRIPTION:Members of class years ending in ‘3 and ‘8 are invited back for a fun-filled weekend at Rose Hill to celebrate their reunion!
URL:https://newsuat.fordham.edu/event/jubilee-2023/
LOCATION:Rose Hill Campus\, Fordham University\, The Bronx\, NY\, USA\, Bronx\, NY\, 10458\, United States
CATEGORIES:Reunions
ATTACH;FMTTYPE=image/png:https://newsuat.fordham.edu/wp-content/uploads/2023/01/Calendar-Image-Jubilee.png
ORGANIZER;CN="Office of Alumni Relations":MAILTO:alumnioffice@fordham.edu
GEO:40.861203;-73.8892181
X-APPLE-STRUCTURED-LOCATION;VALUE=URI;X-ADDRESS=Rose Hill Campus Fordham University The Bronx NY USA Bronx NY 10458 United States;X-APPLE-RADIUS=500;X-TITLE=Fordham University\, The Bronx\, NY\, USA:geo:-73.8892181,40.861203
END:VEVENT
BEGIN:VEVENT
DTSTART;TZID=America/New_York:20230606T180000
DTEND;TZID=America/New_York:20230606T200000
DTSTAMP:20260421T145010
CREATED:20230505T160651Z
LAST-MODIFIED:20230505T160651Z
UID:10005118-1686074400-1686081600@newsuat.fordham.edu
SUMMARY:2023 New Jersey Law Alumni Reception
DESCRIPTION:Join the Fordham Law Alumni Association for the New Jersey Law Alumni Reception in Montclair\, New Jersey.
URL:https://newsuat.fordham.edu/event/2023-new-jersey-law-alumni-reception/
LOCATION:Porta Montclair\, 499 Bloomfield Ave\, Montclair\, NJ\, 07042\, United States
CATEGORIES:Receptions
ORGANIZER;CN="Anne Marie Bernhart":MAILTO:abernhart@fordham.edu
END:VEVENT
BEGIN:VEVENT
DTSTART;VALUE=DATE:20230609
DTEND;VALUE=DATE:20230610
DTSTAMP:20260421T145010
CREATED:20230105T215736Z
LAST-MODIFIED:20230105T215736Z
UID:10004913-1686268800-1686355199@newsuat.fordham.edu
SUMMARY:Block Party at Lincoln Center 2023
DESCRIPTION:Alumni of all Lincoln Center-based schools are welcome back for a festive evening on the plaza!
URL:https://newsuat.fordham.edu/event/2023-block-party-at-lincoln-center/
LOCATION:Lincoln Center Campus\, 113 West 60th Street\, New York\, NY\, 10023\, United States
CATEGORIES:Reunions
ATTACH;FMTTYPE=image/png:https://newsuat.fordham.edu/wp-content/uploads/2023/01/Calendar-Image-Block-Party.png
ORGANIZER;CN="Office of Alumni Relations":MAILTO:alumnioffice@fordham.edu
GEO:40.7708109;-73.9851512
X-APPLE-STRUCTURED-LOCATION;VALUE=URI;X-ADDRESS=Lincoln Center Campus 113 West 60th Street New York NY 10023 United States;X-APPLE-RADIUS=500;X-TITLE=113 West 60th Street:geo:-73.9851512,40.7708109
END:VEVENT
BEGIN:VEVENT
DTSTART;TZID=America/New_York:20230609T180000
DTEND;TZID=America/New_York:20230609T200000
DTSTAMP:20260421T145010
CREATED:20230502T195417Z
LAST-MODIFIED:20230502T195417Z
UID:10005114-1686333600-1686340800@newsuat.fordham.edu
SUMMARY:Alumni Chapter of Rhode Island: 2023 Summer Happy Hour
DESCRIPTION:Calling all Rhode Island Rams! Enjoy an evening by the water with a happy hour gathering at Narragansett Brewery. Connect with fellow Fordham grads from all class years and enjoy a night of mingling and networking. Alumni\, family\, and friends are welcome to attend. \nAfter the event\, we’ll be asking for your feedback and ideas for future meetups and events to make a Rhode Island chapter a reality. \nThis event cost includes a selection of appetizer platters and a drink ticket. A cash bar will be available\, and there is free parking. Hope to see you there! \nPlease consider making a gift of $25 or more to support Cura Personalis | For Every Fordham Student.
URL:https://newsuat.fordham.edu/event/alumni-chapter-of-rhode-island-2023-summer-happy-hour/
LOCATION:Narragansett Brewery\, 271 Tockwotton St.\, Providence\, RI\, 02903\, United States
CATEGORIES:Social
ORGANIZER;CN="Anne Quirk":MAILTO:anne.shaknis@gmail.com
END:VEVENT
BEGIN:VEVENT
DTSTART;TZID=America/New_York:20230615T120000
DTEND;TZID=America/New_York:20230615T130000
DTSTAMP:20260421T145010
CREATED:20230515T183607Z
LAST-MODIFIED:20230515T183607Z
UID:10005123-1686830400-1686834000@newsuat.fordham.edu
SUMMARY:Financial Issues Forum: Edward Chancellor on The Price of Time: The Real Story of Interest
DESCRIPTION:In the beginning\, there was the loan\, and the loan carried interest. For at least five millennia\, people have been borrowing and lending at interest. The practice wasn’t always popular: In the ancient world\, usury was generally viewed as exploitative\, a potential path to debt bondage and slavery. Yet as capitalism became established from the late Middle Ages onward\, denunciations of interest were tempered because interest was a necessary reward for lenders who parted with their capital. And interest performs many other vital functions: It encourages people to save; enables them to place a value on precious assets\, such as houses and other financial securities; and allows us to price risk. \nOver the first two decades of the 21st century\, interest rates have sunk lower than ever before. Easy money after the global financial crisis in 2007–2008 has produced several ill effects\, including multiple asset price bubbles\, a reduction in productivity growth\, discouraging savings and exacerbated inequality\, and forcing yield-starved investors to take on excessive risk. The financial world now finds itself caught between a rock and a hard place\, and Edward Chancellor is here to tell us why. In The Price of Time\, he explores the history of interest and its essential function in determining how capital is allocated and priced. \nAbout the Speaker\nEdward Chancellor is the author of The Price of Time and Devil Take the Hindmost: A History of Financial Speculation\, a New York Times Notable Book of the Year. He also writes the specialist report Crunch-Time for Credit?\, a prescient analysis of the credit boom in the U.S. and the U.K. In addition\, Chancellor has edited two investment books\, Capital Account and Capital Returns. An award-winning financial journalist\, he is currently a columnist for Reuters Breakingviews and has contributed to many other publications\, including the Wall Street Journal\, MoneyWeek\, New York Review of Books\, and Financial Times.
URL:https://newsuat.fordham.edu/event/financial-issues-forum-edward-chancellor-on-the-price-of-time-the-real-story-of-interest/
LOCATION:Zoom
CATEGORIES:Lectures
ORGANIZER;CN="Malika Gogia":MAILTO:mgogia1@fordham.edu
END:VEVENT
BEGIN:VEVENT
DTSTART;TZID=America/New_York:20230615T140000
DTEND;TZID=America/New_York:20230615T170000
DTSTAMP:20260421T145010
CREATED:20230425T120846Z
LAST-MODIFIED:20230425T120846Z
UID:10005108-1686837600-1686848400@newsuat.fordham.edu
SUMMARY:Trauma Spectrum Disorders: Reintegrating America's Returning Warriors
DESCRIPTION:Much attention is given to returning veterans with war-induced syndromes\, such as PTSD. An estimated 10% to 20% of returning soldiers have PTSD. The experiences of the other 80% to 90% are not as well understood\, including whether or not their experiences are clinically significant or indicative of psychosocial problems. There is a growing body of literature on subthreshold posttraumatic stress disorder\, but little empirical evidence on subthreshold PTSD and its implications. Reliance on diagnostic models of psychiatric disorders has led to a lack of investigation of the posttraumatic sequelae that do not meet the criteria for a PTSD diagnosis and has limited the way clinicians interact with returning veterans. \nThis class will discuss the subtle aspects of coming home from a war zone\, the nature of the subclinical presentation of PTSD\, and what social workers should be attuned to with respect to returning warriors. Intimate stories from real cases\, and Colonel Jeffrey S. Yarvis\, Ph.D.\, will use his own wartime experiences to explore the challenges associated with caring for warriors and their families when the warrior comes home with so-called war-induced trauma spectrum disorders\, military sexual trauma\, moral injuries\, substance use disorders\, intimacy and communication concerns\, and readjustment issues to the family\, the workplace\, and campus. Issues particular to female veterans and the role of social workers also will be addressed. Finally\, social justice and social impact issues will be considered\, as well. \nCompletion of this class will result in the receipt of 3 continuing education hours.
URL:https://newsuat.fordham.edu/event/trauma-spectrum-disorders-reintegrating-americas-returning-warriors/
LOCATION:Zoom
CATEGORIES:Lectures
END:VEVENT
BEGIN:VEVENT
DTSTART;TZID=America/New_York:20230615T183000
DTEND;TZID=America/New_York:20230615T203000
DTSTAMP:20260421T145010
CREATED:20230523T170608Z
LAST-MODIFIED:20230523T170608Z
UID:10005133-1686853800-1686861000@newsuat.fordham.edu
SUMMARY:Fordham Real Estate Institute Awards Event
DESCRIPTION:Join the Fordham Real Estate Institute in celebrating the visionary leaders that are changing the city’s landscape and supporting the future real estate leaders of tomorrow. \nAwards \nGroundbreakers Award: Jeff Levine\, founder and chairman\, Douglaston Development\, Levine Builders\, and Clinton Management \nVisionary Award: MaryAnne Gilmartin\, FCRH ’86\, founder and CEO\, MAG Partners \nTitan of Tomorrow: Nicholas Fusco\, PCS ’22\, commercial general manager\, Related Companies Hudson Yards \nIntroductions will be made by Ryan O’Connor\, Clinton Management; Chris Mills\, Electra USA; and Bess Freedman\, Brown Harris Stevens.
URL:https://newsuat.fordham.edu/event/fordham-real-estate-institute-awards-event/
LOCATION:3Eleven\, 311 11th Avenue\, New York\, NY\, 10001\, United States
CATEGORIES:Receptions
ORGANIZER;CN="Andie Marais":MAILTO:realestate@fordham.edu
END:VEVENT
BEGIN:VEVENT
DTSTART;TZID=America/New_York:20230620T120000
DTEND;TZID=America/New_York:20230620T131500
DTSTAMP:20260421T145010
CREATED:20230615T173033Z
LAST-MODIFIED:20230615T173033Z
UID:10005140-1687262400-1687266900@newsuat.fordham.edu
SUMMARY:Making Freedom Dreams Reality: Black Activism\, Constitutional Rights\, and the Ongoing Struggle for Liberation
DESCRIPTION:Fordham first celebrated Juneteenth\, also known as Freedom Day\, Jubilee Day\, Liberation Day\, and Emancipation Day\, in June 2020. Juneteenth commemorates June 19\, 1865\, when the announcement of General Order No. 3 by Union Army General Gordon Granger proclaimed African Americans’ freedom from slavery in the state of Texas\, roughly two months after the official end of the Civil War.\nAccording to our featured guest\, historian Allison Dorsey\, Ph.D.\, the true value of Juneteenth lies not in the idea of the “celebration” of freedom\, but in the way the story of Juneteenth captures the tension between Black freedom dreams and the violent actions by white citizens\, bolstered by the state\, to deny those dreams. The Juneteenth holiday also offers everyone an opportunity to learn about Black hopes and aspirations—and equally important—Black actions to secure liberty during Reconstruction\, and throughout the 160 years since President Abraham Lincoln first issued the Emancipation Proclamation.\nJoin the lecture via Zoom.\nAbout the Speaker\nDorsey is professor emerita of history at Swarthmore College\, where her research and teaching interests include the history of African Americans\, the 20th-century Civil Rights Movement\, African American film\, and food history. She is the author of numerous publications\, including To Build Our Lives Together: Community Formation in Black Atlanta\, 1875-1906 (University of Georgia Press\, 2007)\, “The great cry of our people is land! Black Settlement and Community Development on Ossabaw Island\, Georgia\, 1865-1900\,” published in African American Life in the Georgia Lowcountry: The Atlantic World and the Gullah Geechee (University of Georgia Press\,2010)\, and “We’ve Taken Old Gods and Given Them New Names’: The Spirit of Sankofa in Daughters of the Dust\,” published in Writing History with Lightening: Cinematic Representations of Nineteenth Century America (Louisiana State University Press\, 2019).\nDorsey was also founding director of the Swarthmore Summer Scholars Program (S3P) from 2014 to 2017\, and has returned to research on black freedmen along the Georgia seacoast.
URL:https://newsuat.fordham.edu/event/making-freedom-dreams-reality-black-activism-constitutional-rights-and-the-ongoing-struggle-for-liberation/
LOCATION:McShane Campus Center\, Room 112\, 441 E. Fordham Road\, Bronx\, NY\, 10468
CATEGORIES:Lectures
ORGANIZER;CN="Chief Diversity Officer":MAILTO:emarte5@fordham.edu
END:VEVENT
BEGIN:VEVENT
DTSTART;TZID=America/New_York:20230620T130000
DTEND;TZID=America/New_York:20230620T133000
DTSTAMP:20260421T145010
CREATED:20230515T185504Z
LAST-MODIFIED:20230515T185504Z
UID:10005124-1687266000-1687267800@newsuat.fordham.edu
SUMMARY:Susan Chevlowe on 'Missing Generations: Photographs by Jill Freedman'
DESCRIPTION:Susan Chevlowe\, Ph.D.\, will speak about the exhibition she organized at the Derfner Judaica Museum in Riverdale\, New York\, on view through July 16. The exhibition includes 36 black-and-white images by noted street photographer Jill Freedman (1939–2019)\, documenting sites of destruction and the resurgence of Jewish life after the Holocaust in Hungary\, Poland\, and the Czech Republic. Dating from 1993 to 1994\, they feature survivors at commemorative events at Auschwitz-Birkenau and the Warsaw Ghetto Memorial in Poland\, images from Terezín (Theresienstadt) in former Czechoslovakia\, and the Jewish quarters in Prague and Kraków\, as well as portraits of survivors in Florida and New York. Chevlowe will also discuss Freedman’s project in the context of work by other photographers in the decades after the Shoah who sought to represent the aftermath of this traumatic history in their images. \nJill Freedman gained acclaim for her photographs of Resurrection City—a six-week encampment organized by the Poor People’s Campaign on the Mall in Washington\, D.C.\, that took place after Martin Luther King’s death in 1968. She is also known for the work she did when she embedded with New York City firefighters in the Bronx and in Harlem in the 1970s\, and the NYPD from 1978 to 1981. Her work is in the collections of the Museum of Modern Art\, International Center of Photography\, George Eastman House\, Smithsonian American Art Museum\, New York Public Library\, Museum of Fine Arts\, Houston\, Bibliothèque Nationale\, Paris\, and more. \nAbout the Speaker\nSusan Chevlowe is chief curator and museum director of Derfner Judaica Museum and the Art Collection at Hebrew Home at Riverdale\, where she has organized numerous exhibitions since 2009\, including the museum’s ongoing exhibition\, “Tradition and Remembrance: Treasures of the Derfner Judaica Museum”\, and solo exhibitions of Leonard Freed\, Archie Rand\, and Jill Nathanson\, and many others. A former curator at the Jewish Museum in New York\, she organized such exhibitions as “Painting a Place in America: Jewish Artists in New York” (with Norman L. Kleeblatt)\, “Common Man”\, “Mythic Vision: The Paintings of Ben Shahn\, 1936-1962”\, and “The Jewish Identity Project: New American Photography.” She has also written or co-written accompanying catalog essays. An advisor to the Jewish Art Salon\, she is the author and contributor to numerous books and exhibition catalogs on Jewish visual culture. Chevlowe received her Ph.D. in art history from the Graduate Center\, CUNY.
URL:https://newsuat.fordham.edu/event/susan-chevlowe-on-missing-generations-photographs-by-jill-freedman/
LOCATION:Zoom
CATEGORIES:Cultural,Lectures
ATTACH;FMTTYPE=image/jpeg:https://newsuat.fordham.edu/wp-content/uploads/2023/05/Jill-Freedman-in-Jewish-cemetery-Poland-1993-e1684176035755.jpg
ORGANIZER;CN="Magda Teter":MAILTO:jewishstudies@fordham.edu
END:VEVENT
BEGIN:VEVENT
DTSTART;TZID=America/Denver:20230621T183000
DTEND;TZID=America/Denver:20230621T203000
DTSTAMP:20260421T145010
CREATED:20230517T182523Z
LAST-MODIFIED:20230517T182523Z
UID:10005130-1687372200-1687379400@newsuat.fordham.edu
SUMMARY:2023 Denver Presidential Welcome Reception
DESCRIPTION:The Office of Alumni Relations and Tania Tetlow\, president of Fordham University\, cordially invite you to a reception for alumni\, parents\, and friends. Please join us as we welcome Tania Tetlow as Fordham’s 33rd president—the first woman and layperson to serve as president in the University’s history. \nSpace is limited\, and advance registration is required. RSVP by June 16. \nPlease consider making a gift of $25 or more to support Cura Personalis | For Every Fordham Student.
URL:https://newsuat.fordham.edu/event/2023-denver-presidential-welcome-reception/
LOCATION:The Brown Palace Hotel and Spa\, 321 17th Street\, Denver\, CO\, 80202\, United States
CATEGORIES:Networking and Career,Receptions,Social
ORGANIZER;CN="Office of Alumni Relations":MAILTO:alumnioffice@fordham.edu
END:VEVENT
BEGIN:VEVENT
DTSTART;TZID=America/New_York:20230622T180000
DTEND;TZID=America/New_York:20230622T200000
DTSTAMP:20260421T145010
CREATED:20230522T184800Z
LAST-MODIFIED:20230522T184800Z
UID:10005132-1687456800-1687464000@newsuat.fordham.edu
SUMMARY:NYC All-Jesuit Summer Happy Hour 2023
DESCRIPTION:Fordham University’s Young Alumni Committee invites alumni and friends of all Jesuit colleges and universities to join us for the summer edition of the NYC All-Jesuit Happy Hour. Come welcome the newest batch of graduates to the alumni community and reconnect with classmates. Also\, come meet fellow #JesuitEducated alumni! \nYour ticket includes your first drink and light appetizers.
URL:https://newsuat.fordham.edu/event/nyc-all-jesuit-summer-happy-hour-2023/
LOCATION:Wicked Willy’s\, 149 Bleecker St\, New York\, NY\, 10012\, United States
CATEGORIES:Receptions,Social
END:VEVENT
BEGIN:VEVENT
DTSTART;TZID=Asia/Seoul:20230622T183000
DTEND;TZID=Asia/Seoul:20230622T210000
DTSTAMP:20260421T145010
CREATED:20230530T192240Z
LAST-MODIFIED:20230530T192240Z
UID:10005135-1687458600-1687467600@newsuat.fordham.edu
SUMMARY:Alumni Chapter of Korea: 2023 Summer Happy Hour
DESCRIPTION:The Office of Alumni Relations and the Alumni Chapter of Korea cordially invite you to a Fordham happy hour! Graduates of all classes and years are welcome to attend and reconnect. Guests will be joined by Youngjae Lee\, professor of law and associate dean for research at Fordham Law School. \nAn array of food and beverages provided by the Office of Alumni Relations. \nSpace is limited\, and advance registration is required. RSVP by June 18.
URL:https://newsuat.fordham.edu/event/alumni-chapter-of-korea-2023-happy-hour/
LOCATION:Tap Public Hannam\, 244 Itaewon-ro\, Yongsan-gu\, Seoul\, Korea\, Democratic People's Republic of
CATEGORIES:Social
ORGANIZER;CN="Dohee  Kim%2C LAW %E2%80%9916":MAILTO:doheekim@lacwkrr.com
END:VEVENT
BEGIN:VEVENT
DTSTART;VALUE=DATE:20230623
DTEND;VALUE=DATE:20230625
DTSTAMP:20260421T145010
CREATED:20230505T162528Z
LAST-MODIFIED:20230505T162528Z
UID:10005119-1687478400-1687651199@newsuat.fordham.edu
SUMMARY:2023 Law European Alumni Reunion
DESCRIPTION:We are looking forward to the 2023 Fordham Law School European Reunion in Paris! This year’s academic program is titled “The Changing Geo-Political Landscape and the Effect on Law and Business.” Light breakfast and lunch will be served\, along with dinner after the academic program as we celebrate with fellow alumni and friends. We look forward to welcoming friends and alumni from all Fordham schools! \nModerator: Dean Matthew Diller \nSpeakers \nLorenzo Corte\, Partner\, Mergers and Acquisitions\, Skadden\, Arps\, Slate\, Meagher & Flom LLP and Affiliates \nProfessor Ioannis Kokkoris\, Professor of Competition Law and Economics\, Director of the Centre for Commercial Law Studies\, Queen Mary University of London \nAdditional speakers will be announced as information becomes available. \nLocations \nAcademic Program (10 a.m. – 2 p.m. CET): Centre Panthéon | R12 place du Panthéon | 75231 Paris \nReunion Dinner (7:30 p.m. CET): Eats Thyme | 44 Rue Coquilliére | 75001 Paris \n 
URL:https://newsuat.fordham.edu/event/2023-law-european-alumni-reunion/
LOCATION:Multiple Locations\, NY\, United States
CATEGORIES:Reunions
ORGANIZER;CN="Anne Marie Bernhart":MAILTO:abernhart@fordham.edu
GEO:40.7127837;-74.0059413
END:VEVENT
BEGIN:VEVENT
DTSTART;TZID=America/Los_Angeles:20230627T183000
DTEND;TZID=America/Los_Angeles:20230627T220000
DTSTAMP:20260421T145010
CREATED:20230522T184645Z
LAST-MODIFIED:20230522T184645Z
UID:10005131-1687890600-1687903200@newsuat.fordham.edu
SUMMARY:Alumni Chapter of Northern California: 2023 Yankees at A’s Alumni Outing
DESCRIPTION:Join the Alumni Chapter of Northern California for our 17th annual Fordham Alumni Night at the RingCentral Coliseum as we cheer on the Bronx Bombers versus the Oakland A’s on Tuesday\, June 27. First pitch is at 6:40 p.m. Tickets are $68 each and the seats are located in lower box 109\, beginning in row one off the field behind the Yankees dugout. We also have discounted parking available for $20. Alumni\, family\, and friends are welcome to join! \nRSVP by June 15. We are planning a pre-game social in the parking lot; details will be provided two weeks prior to the game.  \nPlease note: All tickets are electronic and will be forwarded via the MLB Ballpark app to the email used by the primary registrant. Registrants who purchased parking will receive their pass via the MLB Ballpark app. \nPlease consider making a gift of $25 or more to support Cura Personalis | For Every Fordham Student.
URL:https://newsuat.fordham.edu/event/alumni-chapter-of-northern-california-2023-yankees-at-as-alumni-outing/
LOCATION:RingCentral Coliseum\, 7000 S Coliseum Way\, Oakland\, CA\, 94621\, United States
CATEGORIES:Athletics,Social
ORGANIZER;CN="Mark Di Giorgio":MAILTO:markadigiorgio@att.net
END:VEVENT
BEGIN:VEVENT
DTSTART;TZID=America/Phoenix:20230629T170000
DTEND;TZID=America/Phoenix:20230629T190000
DTSTAMP:20260421T145010
CREATED:20230608T161516Z
LAST-MODIFIED:20230608T161516Z
UID:10005136-1688058000-1688065200@newsuat.fordham.edu
SUMMARY:Alumni Chapter of Phoenix: 2023 Summer Happy Hour
DESCRIPTION:Calling all Phoenix-area alumni! Come out and join local alumni\, family\, and friends for a summer happy hour. Appetizers and lite fare will be provided compliments of the Alumni Chapter of Phoenix. A cash bar will be available. \nSpace is limited\, and advance registration is required. RSVP by June 28. \nPlease consider making a gift of $25 or more to support Cura Personalis | For Every Fordham Student.
URL:https://newsuat.fordham.edu/event/alumni-chapter-of-phoenix-2023-summer-happy-hour/
LOCATION:The Spot Arcadia\, 4801 E. Indian School Rd.\, Phoenix\, AZ\, 85018\, United States
CATEGORIES:Social
ORGANIZER;CN="Trae Farrell":MAILTO:Traefarrell@gmail.com
END:VEVENT
END:VCALENDAR