BEGIN:VCALENDAR
VERSION:2.0
PRODID:-//Fordham Now - ECPv6.15.20//NONSGML v1.0//EN
CALSCALE:GREGORIAN
METHOD:PUBLISH
X-ORIGINAL-URL:https://newsuat.fordham.edu
X-WR-CALDESC:Events for Fordham Now
REFRESH-INTERVAL;VALUE=DURATION:PT1H
X-Robots-Tag:noindex
X-PUBLISHED-TTL:PT1H
BEGIN:VTIMEZONE
TZID:America/New_York
BEGIN:DAYLIGHT
TZOFFSETFROM:-0500
TZOFFSETTO:-0400
TZNAME:EDT
DTSTART:20210314T070000
END:DAYLIGHT
BEGIN:STANDARD
TZOFFSETFROM:-0400
TZOFFSETTO:-0500
TZNAME:EST
DTSTART:20211107T060000
END:STANDARD
BEGIN:DAYLIGHT
TZOFFSETFROM:-0500
TZOFFSETTO:-0400
TZNAME:EDT
DTSTART:20220313T070000
END:DAYLIGHT
BEGIN:STANDARD
TZOFFSETFROM:-0400
TZOFFSETTO:-0500
TZNAME:EST
DTSTART:20221106T060000
END:STANDARD
BEGIN:DAYLIGHT
TZOFFSETFROM:-0500
TZOFFSETTO:-0400
TZNAME:EDT
DTSTART:20230312T070000
END:DAYLIGHT
BEGIN:STANDARD
TZOFFSETFROM:-0400
TZOFFSETTO:-0500
TZNAME:EST
DTSTART:20231105T060000
END:STANDARD
END:VTIMEZONE
BEGIN:VTIMEZONE
TZID:Asia/Seoul
BEGIN:STANDARD
TZOFFSETFROM:+0900
TZOFFSETTO:+0900
TZNAME:KST
DTSTART:20210101T000000
END:STANDARD
END:VTIMEZONE
BEGIN:VEVENT
DTSTART;VALUE=DATE:20220531
DTEND;VALUE=DATE:20220604
DTSTAMP:20260422T143713
CREATED:20220412T170740Z
LAST-MODIFIED:20220412T170740Z
UID:10004713-1653955200-1654300799@newsuat.fordham.edu
SUMMARY:The Solon and Marianna Patterson Triennial Conference
DESCRIPTION:Join us for the 2022 Patterson Triennial Conference: Nicaea\, Conciliarity\, and the Future of Christianity. \nThe Council of Nicaea (325) is considered to be the first ecumenical council in Christian history\, and its decisive impact continues to reverberate throughout the Christian world today. The Orthodox Christian Studies Center is dedicating the sixth Patterson Triennial Conference to mark the 1700-year anniversary (2025) of the Council of Nicaea. Twenty-two scholars from the U.S. and abroad will explore the contemporary relevance of the Council of Nicaea for Christian thought and practice.
URL:https://newsuat.fordham.edu/event/the-solon-and-marianna-patterson-triennial-conference/
LOCATION:Lincoln Center Campus\, 113 West 60th Street\, New York\, NY\, 10023\, United States
CATEGORIES:Conferences and Symposia
ORGANIZER;CN="Orthodox Christian Studies Center":MAILTO:orthodoxy@fordham.edu
GEO:40.7708109;-73.9851512
X-APPLE-STRUCTURED-LOCATION;VALUE=URI;X-ADDRESS=Lincoln Center Campus 113 West 60th Street New York NY 10023 United States;X-APPLE-RADIUS=500;X-TITLE=113 West 60th Street:geo:-73.9851512,40.7708109
END:VEVENT
BEGIN:VEVENT
DTSTART;TZID=America/New_York:20220602T183000
DTEND;TZID=America/New_York:20220602T183000
DTSTAMP:20260422T143713
CREATED:20220512T152730Z
LAST-MODIFIED:20220512T152730Z
UID:10004742-1654194600-1654194600@newsuat.fordham.edu
SUMMARY:Making It in America: AAPI Stories of Courage and Resilience
DESCRIPTION:Join us for this panel conversation as a part of the AAPI monthlong event series at Fordham. The event will bring together three speakers who will share their experiences of being AAPI in America\, and how it has impacted their path to achieving the “American” dream. \nThe event is brought to you by the Asian American and Pacific Islander Alumni at Fordham (AAF) affinity chapter.
URL:https://newsuat.fordham.edu/event/making-it-in-america-aapi-stories-of-courage-and-resilience/
LOCATION:Zoom
CATEGORIES:Cultural,Lectures,Receptions
ORGANIZER;CN="Taylor Palmer":MAILTO:tpalmer7@fordham.edu
END:VEVENT
BEGIN:VEVENT
DTSTART;TZID=America/New_York:20220602T183000
DTEND;TZID=America/New_York:20220602T213000
DTSTAMP:20260422T143713
CREATED:20220502T154217Z
LAST-MODIFIED:20220502T154217Z
UID:10004735-1654194600-1654205400@newsuat.fordham.edu
SUMMARY:Music\, Mingling\, and Magis with Father Mark S. Massa: Celebrating the Curran Center's 17 Years
DESCRIPTION:The board of the Francis and Ann Curran Center for American Catholic Studies invites you to join us for festivities honoring the Center’s founding director\, Mark S. Massa\, S.J. The event is cocktail attire and will be held in the Great Hall. \nHonorary co-chairs: Constance A. Curran and Ruth C. Lipper \nAgenda \n6:30 p.m.: Reception | Hors d’oeuvres and small plates \n7:30 p.m.: Dessert and program
URL:https://newsuat.fordham.edu/event/music-mingling-and-magis-with-father-mark-s-massa-celebrating-the-currans-center-17-years/
LOCATION:Joseph M. McShane\, S.J. Campus Center\, 441 East Fordham Road\, Bronx\, NY\, 10458\, United States
CATEGORIES:Receptions
END:VEVENT
BEGIN:VEVENT
DTSTART;TZID=America/New_York:20220603T000000
DTEND;TZID=America/New_York:20220605T000000
DTSTAMP:20260422T143713
CREATED:20220420T183444Z
LAST-MODIFIED:20220420T183444Z
UID:10004723-1654214400-1654387200@newsuat.fordham.edu
SUMMARY:Jubilee
DESCRIPTION:Attend the reunion celebration for class years ending in twos and sevens. The Office of Alumni Relations extends the invitation this year to all celebrants from years ending in zero\, one\, five\, and six who did not have the opportunity to honor their Jubilee in person due to COVID-19. \nAll Marymount College Tarrytown are welcomed and invited to attend Jubilee weekend.
URL:https://newsuat.fordham.edu/event/jubilee/
LOCATION:Rose Hill Campus\, Fordham University\, The Bronx\, NY\, USA\, Bronx\, NY\, 10458\, United States
CATEGORIES:Reunions
ORGANIZER;CN="Taylor Palmer":MAILTO:tpalmer7@fordham.edu
GEO:40.861203;-73.8892181
X-APPLE-STRUCTURED-LOCATION;VALUE=URI;X-ADDRESS=Rose Hill Campus Fordham University The Bronx NY USA Bronx NY 10458 United States;X-APPLE-RADIUS=500;X-TITLE=Fordham University\, The Bronx\, NY\, USA:geo:-73.8892181,40.861203
END:VEVENT
BEGIN:VEVENT
DTSTART;TZID=America/New_York:20220607T180000
DTEND;TZID=America/New_York:20220607T200000
DTSTAMP:20260422T143713
CREATED:20220118T221446Z
LAST-MODIFIED:20220118T221446Z
UID:10004604-1654624800-1654632000@newsuat.fordham.edu
SUMMARY:Continuing Education: Helping Individuals with an Intellectual or Developmental Disability Cope with Serious Illness
DESCRIPTION:There is a hidden population of people who require inclusive\, affirmative care throughout the United States. Historically\, they have been underserved\, ignored\, and forgotten. They live at home\, in group settings\, in nursing homes\, and on the street. In 2020\, there were 36.5 million people living at home in the U.S. with intellectual disability (ID) and developmental delay (DD). Their providers require a specialized lens to offer holistic individualized\, biopsychosocial-spiritual care. The special protections established to prevent medical disenfranchisement\, neglect\, and abuse can seem esoteric. Clinicians may view those necessary protections as barriers to care. \nThis class offers guidance to provide inclusive\, patient- and family-centered care for people and families living with ID/DD. Clinicians will understand the nuances of working with people and their families living with ID/DD throughout the life course\, such as assessing capacity in the context of ID/DD. Special attention will be paid to the palliative management of serious illness and end-of-life care to navigate advance directives\, goals of care discussions\, and life-sustaining treatment in the context of complex capacity and competency conversations. \nUsing lecture\, breakout groups\, and discussion\, we will examine case studies of persons with ID/DD who develop a life-limiting illness\, when the person living with ID/DD is in a caregiver role\, and best practices for additional support for people with ID/DD through bereavement. \nContinuing Education Hours Offered: 2
URL:https://newsuat.fordham.edu/event/continuing-education-helping-individuals-with-an-intellectual-or-developmental-disability-cope-with-serious-illness/
LOCATION:Zoom
CATEGORIES:Networking and Career
END:VEVENT
BEGIN:VEVENT
DTSTART;TZID=America/New_York:20220609T150000
DTEND;TZID=America/New_York:20220609T220000
DTSTAMP:20260422T143713
CREATED:20220420T183636Z
LAST-MODIFIED:20220420T183636Z
UID:10004724-1654786800-1654812000@newsuat.fordham.edu
SUMMARY:Block Party
DESCRIPTION:Attend the reunion for the five Lincoln Center-based schools! \n 
URL:https://newsuat.fordham.edu/event/block-party/
LOCATION:Lincoln Center and Rose Hill\, 140 W. 62nd Street\, New York\, NY\, 10023\, United States
CATEGORIES:Reunions
ORGANIZER;CN="Taylor Palmer":MAILTO:tpalmer7@fordham.edu
GEO:40.7713958;-73.9844894
X-APPLE-STRUCTURED-LOCATION;VALUE=URI;X-ADDRESS=Lincoln Center and Rose Hill 140 W. 62nd Street New York NY 10023 United States;X-APPLE-RADIUS=500;X-TITLE=140 W. 62nd Street:geo:-73.9844894,40.7713958
END:VEVENT
BEGIN:VEVENT
DTSTART;TZID=America/New_York:20220610T180000
DTEND;TZID=America/New_York:20220610T203000
DTSTAMP:20260422T143713
CREATED:20220609T135642Z
LAST-MODIFIED:20220609T135642Z
UID:10004754-1654884000-1654893000@newsuat.fordham.edu
SUMMARY:Exhibit Opening and Reception: "Roberto Clemente: Born Twice"
DESCRIPTION:In celebration of the vibrant Puerto Rican community in New York City\, join us for “Roberto Clemente: Born Twice\,” an exhibit honoring the life and legacy of Roberto Clemente. The exhibit by visiting Puerto Rican artist Pablo Marcano García will highlight different aspects of Clemente’s extraordinary life: a Hall of Fame baseball star\, Afro-Puerto Rican trailblazer\, and passionate humanitarian. \nDuring the opening reception for this historic exhibit\, García will unveil two masterpieces dedicated to Clemente. The event will feature Bobby Sanabria\, who was nominated for a Grammy Award for Best Latin Jazz Album in 2019\, and Quarteto Aché with hors d’oeuvres by ChocoBar Cortes.
URL:https://newsuat.fordham.edu/event/exhibit-opening-reception-roberto-clemente-born-twice/
LOCATION:Bronx Music Heritage Center\, 1303 Louis Niñé Blvd\, Bronx\,\, Bronx\, NY\, 10459\, United States
CATEGORIES:Arts at Fordham,Cultural
ORGANIZER;CN="Center for Community Engaged Learning":MAILTO:ccel@fordham.edu
END:VEVENT
BEGIN:VEVENT
DTSTART;TZID=America/New_York:20220613T110000
DTEND;TZID=America/New_York:20220613T134500
DTSTAMP:20260422T143713
CREATED:20220615T142157Z
LAST-MODIFIED:20220615T142157Z
UID:10004756-1655118000-1655127900@newsuat.fordham.edu
SUMMARY:Ben Graham IX Annual Conference
DESCRIPTION:*Fordham alumni\, students\, parents\, and friends are welcome to attend on a complimentary basis by using the registration link below and choosing the “Bundle…” option at the top.* \nJoin us for this five-day virtual conference\, presented in partnership with Fordham University’s Gabelli Center for Global Security Analysis. \nThis year’s Ben Graham IX Annual Conference features a week of daily events focused on value investing. \nThe Ben Graham IX Annual Conference is the latest installment of CFA Society New York’s serialized\, marquee event. The panels will cover the current state of value investing—both domestic and international—and the challenges and opportunities for value investing as volatility has recently returned\, and much more! \nA diverse slate of first-rate speakers and thought leaders has been drawn from prominent investment organizations. The event is hosted by CFA Society New York’s Value Investing Group\, which is dedicated to the promotion and application of the investment principles of CFA Society New York founder Benjamin Graham and other influential value investors. The group organizes various events around the current state and future outlook of value investing\, as well as educational events. \nView the full schedule.
URL:https://newsuat.fordham.edu/event/ben-graham-ix-annual-conference/2022-06-13/
LOCATION:Zoom
CATEGORIES:Conferences and Symposia
ORGANIZER;CN="Gabelli Center for Global Security Analysis":MAILTO:gabellicenter@fordham.edu
END:VEVENT
BEGIN:VEVENT
DTSTART;TZID=America/New_York:20220614T110000
DTEND;TZID=America/New_York:20220614T134500
DTSTAMP:20260422T143713
CREATED:20220615T142157Z
LAST-MODIFIED:20220615T142157Z
UID:10004757-1655204400-1655214300@newsuat.fordham.edu
SUMMARY:Ben Graham IX Annual Conference
DESCRIPTION:*Fordham alumni\, students\, parents\, and friends are welcome to attend on a complimentary basis by using the registration link below and choosing the “Bundle…” option at the top.* \nJoin us for this five-day virtual conference\, presented in partnership with Fordham University’s Gabelli Center for Global Security Analysis. \nThis year’s Ben Graham IX Annual Conference features a week of daily events focused on value investing. \nThe Ben Graham IX Annual Conference is the latest installment of CFA Society New York’s serialized\, marquee event. The panels will cover the current state of value investing—both domestic and international—and the challenges and opportunities for value investing as volatility has recently returned\, and much more! \nA diverse slate of first-rate speakers and thought leaders has been drawn from prominent investment organizations. The event is hosted by CFA Society New York’s Value Investing Group\, which is dedicated to the promotion and application of the investment principles of CFA Society New York founder Benjamin Graham and other influential value investors. The group organizes various events around the current state and future outlook of value investing\, as well as educational events. \nView the full schedule.
URL:https://newsuat.fordham.edu/event/ben-graham-ix-annual-conference/2022-06-14/
LOCATION:Zoom
CATEGORIES:Conferences and Symposia
ORGANIZER;CN="Gabelli Center for Global Security Analysis":MAILTO:gabellicenter@fordham.edu
END:VEVENT
BEGIN:VEVENT
DTSTART;TZID=America/New_York:20220614T180000
DTEND;TZID=America/New_York:20220614T200000
DTSTAMP:20260422T143713
CREATED:20220518T174737Z
LAST-MODIFIED:20220518T174737Z
UID:10004749-1655229600-1655236800@newsuat.fordham.edu
SUMMARY:Alumni Chapter of Dallas: 2022 Summer Happy Hour
DESCRIPTION:Come kick off summer with the Dallas Rams for a happy hour gathering at Sidecar Social. Beat the heat and join us for drinks\, snacks\, and networking! \nThe Alumni Chapter of Dallas will provide an assortment of appetizers for the group. RSVP by June 13. \nWe hope to see you there!
URL:https://newsuat.fordham.edu/event/alumni-chapter-of-dallas-2022-summer-happy-hour/
LOCATION:Sidecar Social\, 5100 Belt Line Road\, Dallas\, TX\, 75254\, United States
CATEGORIES:Receptions
ORGANIZER;CN="Alumni Chapter of Dallas":MAILTO:tanner@hartnettlawfirm.com
END:VEVENT
BEGIN:VEVENT
DTSTART;TZID=America/New_York:20220615T110000
DTEND;TZID=America/New_York:20220615T134500
DTSTAMP:20260422T143713
CREATED:20220615T142157Z
LAST-MODIFIED:20220615T142157Z
UID:10004758-1655290800-1655300700@newsuat.fordham.edu
SUMMARY:Ben Graham IX Annual Conference
DESCRIPTION:*Fordham alumni\, students\, parents\, and friends are welcome to attend on a complimentary basis by using the registration link below and choosing the “Bundle…” option at the top.* \nJoin us for this five-day virtual conference\, presented in partnership with Fordham University’s Gabelli Center for Global Security Analysis. \nThis year’s Ben Graham IX Annual Conference features a week of daily events focused on value investing. \nThe Ben Graham IX Annual Conference is the latest installment of CFA Society New York’s serialized\, marquee event. The panels will cover the current state of value investing—both domestic and international—and the challenges and opportunities for value investing as volatility has recently returned\, and much more! \nA diverse slate of first-rate speakers and thought leaders has been drawn from prominent investment organizations. The event is hosted by CFA Society New York’s Value Investing Group\, which is dedicated to the promotion and application of the investment principles of CFA Society New York founder Benjamin Graham and other influential value investors. The group organizes various events around the current state and future outlook of value investing\, as well as educational events. \nView the full schedule.
URL:https://newsuat.fordham.edu/event/ben-graham-ix-annual-conference/2022-06-15/
LOCATION:Zoom
CATEGORIES:Conferences and Symposia
ORGANIZER;CN="Gabelli Center for Global Security Analysis":MAILTO:gabellicenter@fordham.edu
END:VEVENT
BEGIN:VEVENT
DTSTART;TZID=America/New_York:20220616T110000
DTEND;TZID=America/New_York:20220616T134500
DTSTAMP:20260422T143713
CREATED:20220615T142157Z
LAST-MODIFIED:20220615T142157Z
UID:10004759-1655377200-1655387100@newsuat.fordham.edu
SUMMARY:Ben Graham IX Annual Conference
DESCRIPTION:*Fordham alumni\, students\, parents\, and friends are welcome to attend on a complimentary basis by using the registration link below and choosing the “Bundle…” option at the top.* \nJoin us for this five-day virtual conference\, presented in partnership with Fordham University’s Gabelli Center for Global Security Analysis. \nThis year’s Ben Graham IX Annual Conference features a week of daily events focused on value investing. \nThe Ben Graham IX Annual Conference is the latest installment of CFA Society New York’s serialized\, marquee event. The panels will cover the current state of value investing—both domestic and international—and the challenges and opportunities for value investing as volatility has recently returned\, and much more! \nA diverse slate of first-rate speakers and thought leaders has been drawn from prominent investment organizations. The event is hosted by CFA Society New York’s Value Investing Group\, which is dedicated to the promotion and application of the investment principles of CFA Society New York founder Benjamin Graham and other influential value investors. The group organizes various events around the current state and future outlook of value investing\, as well as educational events. \nView the full schedule.
URL:https://newsuat.fordham.edu/event/ben-graham-ix-annual-conference/2022-06-16/
LOCATION:Zoom
CATEGORIES:Conferences and Symposia
ORGANIZER;CN="Gabelli Center for Global Security Analysis":MAILTO:gabellicenter@fordham.edu
END:VEVENT
BEGIN:VEVENT
DTSTART;TZID=America/New_York:20220617T110000
DTEND;TZID=America/New_York:20220617T134500
DTSTAMP:20260422T143713
CREATED:20220615T142157Z
LAST-MODIFIED:20220615T142157Z
UID:10004760-1655463600-1655473500@newsuat.fordham.edu
SUMMARY:Ben Graham IX Annual Conference
DESCRIPTION:*Fordham alumni\, students\, parents\, and friends are welcome to attend on a complimentary basis by using the registration link below and choosing the “Bundle…” option at the top.* \nJoin us for this five-day virtual conference\, presented in partnership with Fordham University’s Gabelli Center for Global Security Analysis. \nThis year’s Ben Graham IX Annual Conference features a week of daily events focused on value investing. \nThe Ben Graham IX Annual Conference is the latest installment of CFA Society New York’s serialized\, marquee event. The panels will cover the current state of value investing—both domestic and international—and the challenges and opportunities for value investing as volatility has recently returned\, and much more! \nA diverse slate of first-rate speakers and thought leaders has been drawn from prominent investment organizations. The event is hosted by CFA Society New York’s Value Investing Group\, which is dedicated to the promotion and application of the investment principles of CFA Society New York founder Benjamin Graham and other influential value investors. The group organizes various events around the current state and future outlook of value investing\, as well as educational events. \nView the full schedule.
URL:https://newsuat.fordham.edu/event/ben-graham-ix-annual-conference/2022-06-17/
LOCATION:Zoom
CATEGORIES:Conferences and Symposia
ORGANIZER;CN="Gabelli Center for Global Security Analysis":MAILTO:gabellicenter@fordham.edu
END:VEVENT
BEGIN:VEVENT
DTSTART;TZID=America/New_York:20220623T181500
DTEND;TZID=America/New_York:20220623T181500
DTSTAMP:20260422T143713
CREATED:20220517T181850Z
LAST-MODIFIED:20220517T181850Z
UID:10004745-1656008100-1656008100@newsuat.fordham.edu
SUMMARY:Alumni Chapter of San Diego: 2022 Baseball Outing
DESCRIPTION:Join the Alumni Chapter of San Diego for a Padres versus Phillies game at Petco Park! Come enjoy catching up with San Diego Rams in our group seating area\, The Point\, located in the outfield. \nGuests can move around the stadium freely to enjoy the atmosphere\, choose food and drinks of their liking\, and watch the game together at The Point. \nWe will meet at Basic Pizza directly outside of the stadium entrance to distribute tickets. Please arrive between 5:30 p.m. and 6:15 p.m. and we will enter the stadium together. \nRSVP by June 18. We hope to see you there!
URL:https://newsuat.fordham.edu/event/alumni-chapter-of-san-diego-2022-baseball-outing/
LOCATION:Petco Park\, 100 Park Boulevard\, San Diego\, CA\, 92101\, United States
CATEGORIES:Athletics,Receptions
ORGANIZER;CN="Alumni Chapter of San Diego":MAILTO:gotschall@fordham.edu
END:VEVENT
BEGIN:VEVENT
DTSTART;TZID=America/New_York:20220625T110000
DTEND;TZID=America/New_York:20220625T150000
DTSTAMP:20260422T143713
CREATED:20220502T153239Z
LAST-MODIFIED:20220502T153239Z
UID:10004736-1656154800-1656169200@newsuat.fordham.edu
SUMMARY:Guided Remnants of New Amsterdam Tour
DESCRIPTION:Join Untapped New York’s chief experience officer Justin Rivers\, FCRH ’01\, for a guided tour around lower Manhattan. Explore where New York began and see what is left of Dutch New Amsterdam in today’s lower Manhattan. You will hear about New York’s founding myths and facts while standing in the very spots where they all happened. With New York City’s first map in hand\, you will trace the streets of Manhattan in 1667 while discovering the many hidden Dutch relics south of Wall Street. Physically touch history as your spend time finding out how Bowling Green got its name and why it’s been so important in our city’s history. Among the many relics you will experience on this tour are the foundations of New York City’s first City Hall (which was also a tavern)\, the long-forgotten oyster pastry cannon\, the original battery wall\, and so much more! \nThe ticket cost includes both the tour and lunch. \nThe walking tour will be two hours. Additionally\, please note that our tour will take place rain or shine.
URL:https://newsuat.fordham.edu/event/guided-remnants-of-new-amsterdam-tour/
LOCATION:1 Bowling Green Street\, NY\, NY 10004
CATEGORIES:Cultural,Social,Tours
END:VEVENT
BEGIN:VEVENT
DTSTART;TZID=America/New_York:20220625T120000
DTEND;TZID=America/New_York:20220625T140000
DTSTAMP:20260422T143713
CREATED:20220517T181105Z
LAST-MODIFIED:20220517T181105Z
UID:10004744-1656158400-1656165600@newsuat.fordham.edu
SUMMARY:Alumni Chapter of Boston: 2022 Harpoon Brewery Event
DESCRIPTION:The Alumni Chapter of Boston welcomes alumni\, family\, and friends of Fordham for a fun afternoon at Harpoon Brewery. We have reserved a full-service table with beverages and snacks. \nThe ticket cost includes an assortment of beers and pretzels\, valued at $25. Space is limited. RSVP by June 18. \nWe hope to see you there!
URL:https://newsuat.fordham.edu/event/alumni-chapter-of-boston-2022-harpoon-brewery-event/
LOCATION:Harpoon Brewery\, 306 Northern Ave\, Boston\, 02210\, United States
CATEGORIES:Receptions
ORGANIZER;CN="Alumni Chapter of Boston":MAILTO:raballin13@msn.com
END:VEVENT
BEGIN:VEVENT
DTSTART;TZID=Asia/Seoul:20220628T183000
DTEND;TZID=Asia/Seoul:20220628T203000
DTSTAMP:20260422T143713
CREATED:20220615T173000Z
LAST-MODIFIED:20220615T173000Z
UID:10004762-1656441000-1656448200@newsuat.fordham.edu
SUMMARY:Alumni Chapter of Korea: 2022 Seoul Alumni Gathering
DESCRIPTION:The Office of Alumni Relations and the Alumni Chapter of Korea cordially invite you to a reception for alumni\, parents\, and friends. Graduates of all classes and years are welcome to attend. Guests will be joined by Youngjae Lee\, professor and associate dean for research at Fordham School of Law. \nA selection of appetizers and beverages will be provided by the Office of Alumni Relations. \nRSVP by June 24.
URL:https://newsuat.fordham.edu/event/alumni-chapter-of-korea-2022-seoul-alumni-gathering/
LOCATION:Tap Public\, 33 Jong-ro\, Cheongjin-dong\, Jongno-gu\, Seoul\, Korea\, Republic of
CATEGORIES:Networking and Career,Receptions
ORGANIZER;CN="Office of Alumni Relations":MAILTO:alumnioffice@fordham.edu
END:VEVENT
BEGIN:VEVENT
DTSTART;TZID=America/New_York:20220629T120000
DTEND;TZID=America/New_York:20220629T130000
DTSTAMP:20260422T143713
CREATED:20220510T172310Z
LAST-MODIFIED:20220510T172310Z
UID:10004741-1656504000-1656507600@newsuat.fordham.edu
SUMMARY:Instagram Ethics: Catholic Social Teaching and Social Media Activism
DESCRIPTION:Social media helped propel recent political movements\, such as Black Lives Matter and #MeToo. How might Catholic social teaching play a role in such activism? What might it tell us about online engagement? In this presentation\, Duffy fellow Samantha Sclafani will explore the position of religious ethics in the digital public square. \nSamantha Sclafani is a graduating Fordham University senior double majoring in political science and theology\, and she is a 2021-2022 Duffy fellow. Sclafani plans to attend law school in fall 2023.
URL:https://newsuat.fordham.edu/event/instagram-ethics-catholic-social-teaching-and-social-media-activism/
LOCATION:Zoom
CATEGORIES:Lectures
END:VEVENT
END:VCALENDAR