BEGIN:VCALENDAR
VERSION:2.0
PRODID:-//Fordham Now - ECPv6.15.20//NONSGML v1.0//EN
CALSCALE:GREGORIAN
METHOD:PUBLISH
X-WR-CALNAME:Fordham Now
X-ORIGINAL-URL:https://newsuat.fordham.edu
X-WR-CALDESC:Events for Fordham Now
REFRESH-INTERVAL;VALUE=DURATION:PT1H
X-Robots-Tag:noindex
X-PUBLISHED-TTL:PT1H
BEGIN:VTIMEZONE
TZID:America/New_York
BEGIN:DAYLIGHT
TZOFFSETFROM:-0500
TZOFFSETTO:-0400
TZNAME:EDT
DTSTART:20210314T070000
END:DAYLIGHT
BEGIN:STANDARD
TZOFFSETFROM:-0400
TZOFFSETTO:-0500
TZNAME:EST
DTSTART:20211107T060000
END:STANDARD
BEGIN:DAYLIGHT
TZOFFSETFROM:-0500
TZOFFSETTO:-0400
TZNAME:EDT
DTSTART:20220313T070000
END:DAYLIGHT
BEGIN:STANDARD
TZOFFSETFROM:-0400
TZOFFSETTO:-0500
TZNAME:EST
DTSTART:20221106T060000
END:STANDARD
BEGIN:DAYLIGHT
TZOFFSETFROM:-0500
TZOFFSETTO:-0400
TZNAME:EDT
DTSTART:20230312T070000
END:DAYLIGHT
BEGIN:STANDARD
TZOFFSETFROM:-0400
TZOFFSETTO:-0500
TZNAME:EST
DTSTART:20231105T060000
END:STANDARD
END:VTIMEZONE
BEGIN:VEVENT
DTSTART;TZID=America/New_York:20220106T183000
DTEND;TZID=America/New_York:20220106T203000
DTSTAMP:20260422T235501
CREATED:20211109T162305Z
LAST-MODIFIED:20211109T162305Z
UID:10004544-1641493800-1641501000@newsuat.fordham.edu
SUMMARY:2022 San Francisco Presidential Reception
DESCRIPTION:Madeline Nuñez and Armando Nuñez\, GABELLI ’82; the Fordham Alumni Chapter of Northern California; and Joseph M. McShane\, S.J.\, president of Fordham University\, cordially invite you to a complimentary reception for alumni\, family\, and friends. We hope you’ll join us in wishing Father McShane a fond farewell as he prepares to step down as president at the end of this academic year. \nSpace is limited and advance registration is required. RSVP by December 31. \nAs the cost of this reception is being generously covered by our hosts\, Madeline and Armando Nuñez\, please consider making a gift of $25 or more to support Fordham. \nPlease note: Per the City of San Francisco\, all guests must be vaccinated in order to attend\, and masks must be worn indoors unless eating or drinking.
URL:https://newsuat.fordham.edu/event/2022-san-francisco-presidential-reception/
LOCATION:The Westin 335 Powell Street San Francisco\, CA 94102\, 335 Powell Street\, San Francisco\, CA\, 94102\, United States
CATEGORIES:Receptions,Social
ORGANIZER;CN="Office of Alumni Relations":MAILTO:alumnioffice@fordham.edu
END:VEVENT
BEGIN:VEVENT
DTSTART;TZID=America/New_York:20220108T130000
DTEND;TZID=America/New_York:20220108T150000
DTSTAMP:20260422T235501
CREATED:20211109T162158Z
LAST-MODIFIED:20211109T162158Z
UID:10004543-1641646800-1641654000@newsuat.fordham.edu
SUMMARY:2022 Petaluma Presidential Reception
DESCRIPTION:Pari and Kamal Azari\, GSAS ’88; the Fordham Alumni Chapter of Northern California; and Joseph M. McShane\, S.J.\, president of Fordham University\, cordially invite alumni\, parents\, and friends to enjoy an afternoon in Petaluma\, California. This complimentary reception includes a tour of Azari Vineyards and a wine tasting. \nSpace is limited and advance registration is required. Walk-ins cannot be accommodated. RSVP by January 1\, 2022. \nPlease note: Parking is not available at Azari Vineyards. Shuttle transportation will be provided to and from downtown Petaluma before and after the reception. Additional details about the shuttle transportation will be provided to registered guests. \nAs the cost of this reception is being generously covered by our hosts\, Pari and Kamal Azari\, please consider making a gift of $25 or more to support Fordham.
URL:https://newsuat.fordham.edu/event/2022-petaluma-presidential-reception/
LOCATION:Azari Vineyards\, 1399 Spring Hill Road\, Petaluma\, CA\, 94952\, United States
CATEGORIES:Receptions,Social
ORGANIZER;CN="Office of Alumni Relations":MAILTO:alumnioffice@fordham.edu
END:VEVENT
BEGIN:VEVENT
DTSTART;TZID=America/New_York:20220110T183000
DTEND;TZID=America/New_York:20220110T193000
DTSTAMP:20260422T235501
CREATED:20211022T183730Z
LAST-MODIFIED:20211022T183730Z
UID:10004481-1641839400-1641843000@newsuat.fordham.edu
SUMMARY:January 2022 GSS Students and Alumni Challenging Anti-Black Racism Caucus Meeting
DESCRIPTION:The Students and Alumni Challenging Anti-Black Racism Caucus is a student- and alumni-led group for anyone who does not self-identify as Black\, and is a space for doing introspective work as students and alumni collectively challenge white supremacy.
URL:https://newsuat.fordham.edu/event/gss-students-and-alumni-challenging-anti-black-racism-caucus-meeting-2022-01-10/
LOCATION:Zoom
CATEGORIES:Social
END:VEVENT
BEGIN:VEVENT
DTSTART;TZID=America/New_York:20220110T183000
DTEND;TZID=America/New_York:20220110T193000
DTSTAMP:20260422T235501
CREATED:20211112T204026Z
LAST-MODIFIED:20211112T204026Z
UID:10004558-1641839400-1641843000@newsuat.fordham.edu
SUMMARY:2022 San Diego Presidential Reception
DESCRIPTION:The Fordham Alumni Chapter of San Diego and Joseph M. McShane\, S.J.\, president of Fordham University\, cordially invite you to a reception for alumni\, parents\, and friends. We hope you’ll join us in wishing Father McShane a fond farewell as he prepares to step down as president at the end of this academic year. \nThis year’s event costs $30 per person and includes heavy hors d’oeuvres\, beer\, and wine. \nSpace is limited and advance registration is required. RSVP by January 3\, 2022. \nPlease consider making a gift of $25 or more to support Fordham.
URL:https://newsuat.fordham.edu/event/2022-san-diego-presidential-reception/
LOCATION:The University Club Atop Symphony Towers\, 750 B St Suite 3400\, San Diego\, CA\, 92101\, United States
CATEGORIES:Receptions
ORGANIZER;CN="Office of Alumni Relations":MAILTO:alumnioffice@fordham.edu
END:VEVENT
BEGIN:VEVENT
DTSTART;TZID=America/New_York:20220112T183000
DTEND;TZID=America/New_York:20220112T203000
DTSTAMP:20260422T235501
CREATED:20211112T204143Z
LAST-MODIFIED:20211112T204143Z
UID:10004559-1642012200-1642019400@newsuat.fordham.edu
SUMMARY:2022 Los Angeles Presidential Reception
DESCRIPTION:David Javdan\, LAW ’93; the Fordham Alumni Chapter of Los Angeles; and Joseph M. McShane\, S.J.\, president of Fordham University\, cordially invite you to a reception for alumni\, parents\, and friends. We hope you’ll join us in wishing Father McShane a fond farewell before he steps down at the end of the academic year. \nSpace is limited and advance registration is required. RSVP by January 5\, 2022. \nAs the cost of this reception is being generously covered by our host\, David Javdan\, please consider making a gift of $25 or more to support Fordham. \nPlease note: Proof of COVID-19 vaccination is required to attend this event. Upon registration\, please send vaccination documentation to jleblanc11@fordham.edu. Alternatively\, you may present proof of a negative COVID-19 test within 72 hours of the event upon arrival at the reception.
URL:https://newsuat.fordham.edu/event/2022-los-angeles-presidential-reception/
LOCATION:The Javdan Home\, Address details will be emailed upon registration
CATEGORIES:Receptions
ORGANIZER;CN="Office of Alumni Relations":MAILTO:alumnioffice@fordham.edu
END:VEVENT
BEGIN:VEVENT
DTSTART;TZID=America/New_York:20220119T100000
DTEND;TZID=America/New_York:20220119T120000
DTSTAMP:20260422T235501
CREATED:20211221T180957Z
LAST-MODIFIED:20211221T180957Z
UID:10004586-1642586400-1642593600@newsuat.fordham.edu
SUMMARY:Narrowing the Front Door to NYC’s Child Welfare System: COVID-19 Lessons Learned and Charting a Path Forward
DESCRIPTION:In New York City\, the 2020 COVID-19 shutdown forced a temporary but radical reduction in the child welfare system—halving the number of reports\, investigations\, and family separations; reducing surveillance of families in their schools and in their homes; and restricting support of voluntary preventive services. Early indications seem to suggest that this shutdown did not endanger children. Rates of substantiated abuse did not rise and in fact\, may have dipped; rates of substantiated neglect remained unchanged; and children stayed with their families and in their communities. We would like to take a look at this data together and see what solutions emerge.
URL:https://newsuat.fordham.edu/event/narrowing-the-front-door-to-nycs-child-welfare-system-covid-19-lessons-learned-and-charting-a-path-forward/2022-01-19/
LOCATION:Zoom
CATEGORIES:Conferences and Symposia
END:VEVENT
BEGIN:VEVENT
DTSTART;TZID=America/New_York:20220119T143000
DTEND;TZID=America/New_York:20220119T153000
DTSTAMP:20260422T235501
CREATED:20220118T032137Z
LAST-MODIFIED:20220118T032137Z
UID:10004595-1642602600-1642606200@newsuat.fordham.edu
SUMMARY:Physics Colloquium
DESCRIPTION:Ioannis (John) Kymissis\, Ph.D.\, Kenneth Brayer Professor of Electrical Engineering and chair of the Department of Electrical Engineering at Columbia University SEAS\, will present\, “Electronics on Anything: How Thin Film Electronics can Instrument the World.” \nSilicon electronics have revolutionized the processing and handling of information. The high temperatures required to create crystalline silicon devices\, however\, have limited the application of crystalline silicon to sensing systems that work in a small and mechanically rigid form factor. The development of inorganic and organic thin-film electronics has launched a second revolution in electronics\, granting the ability to process electronically active materials at low temperatures. This has allowed for two exciting opportunities: the ability to build electronic devices on the same size scale as the systems they interact with\, and the ability to integrate electronic materials on a range of substrates including the back-end of CMOS integrated circuits\, electronically active substrates\, and flexible materials. \nOur group has been working on the hybrid integration of organic semiconductors\, thin-film piezoelectrics\, and laser-recrystallized silicon with active substrates to implement a range of new functionalities. In this presentation\, Kymissis will show how thin-film electronics and the hybrid integration enabled by new semiconductor systems and process options allow for active and spatially localized control of systems that are typically used in a single element format. Devices we have developed include single-chip PCR systems\, miniature spectrometers\, devices for blood flow analysis\, large-area and miniature microphones\, integrated on-chip filters\, and active matrix micro-LED displays. These approaches unlock new applications in health care\, sensing\, displays\, and communications. \nAbout the Speaker\nKymissis earned his B.S.\, M.Eng.\, and Ph.D. degrees from MIT. His M.Eng. thesis was performed as a co-op at the IBM T.J. Watson Research Lab on organic thin-film transistors\, and his Ph.D. was obtained in the Microsystems Technology Lab at MIT\, working on field-emission displays. After graduation\, he spent three years as a postdoc in MIT’s Laboratory for Organic Optics and Electronics\, working on a variety of organic electronic devices\, and also as a consulting engineer for QD Vision (later acquired by Samsung Electronics). He joined the faculty at Columbia University in electrical engineering in 2006 as an assistant professor. \nHe has won a number of awards for his work\, including the NSF CAREER award\, the IEEE EDS Paul Rappaport award\, the Vodaphone Americas Foundation Wireless Innovation Award\, the MIT Clean Energy Prize\, and a Verizon Powerful Answers award. A Society of Information Display (SID) fellow\, he recently served a term as the editor in chief of the Journal of the Society for Information Display. In addition\, he was the general chair for the 2014 Device Research Conference and was the program vice chair for the 2019 SID Display Week Symposium.
URL:https://newsuat.fordham.edu/event/physics-colloquium-19/
LOCATION:Freeman 103\, 441 E. Fordham Road\, Bronx\, NY\, 10458\, United States
CATEGORIES:Lectures
GEO:40.8612275;-73.8892354
X-APPLE-STRUCTURED-LOCATION;VALUE=URI;X-ADDRESS=Freeman 103 441 E. Fordham Road Bronx NY 10458 United States;X-APPLE-RADIUS=500;X-TITLE=441 E. Fordham Road:geo:-73.8892354,40.8612275
END:VEVENT
BEGIN:VEVENT
DTSTART;TZID=America/New_York:20220120T160000
DTEND;TZID=America/New_York:20220120T170000
DTSTAMP:20260422T235501
CREATED:20220110T165546Z
LAST-MODIFIED:20220110T165546Z
UID:10004590-1642694400-1642698000@newsuat.fordham.edu
SUMMARY:IPED 2021-2022 Lecture Series: Poland and the Global Scene
DESCRIPTION:Come hear the Polish ambassador to the United Nations\, Szczerski Krzysztof\, speak on geopolitical challenges and Poland’s position on them.
URL:https://newsuat.fordham.edu/event/iped-2021-2022-lecture-series-poland-and-the-global-scene/
LOCATION:Rose Hill\, Dealy Hall\, E-530\, 441 East Fordham Road\, Bronx\, NY\, 10458\, United States
CATEGORIES:Lectures
ORGANIZER;CN="Fordham IPED":MAILTO:iped@fordham.edu
GEO:40.861203;-73.8892181
X-APPLE-STRUCTURED-LOCATION;VALUE=URI;X-ADDRESS=Rose Hill Dealy Hall E-530 441 East Fordham Road Bronx NY 10458 United States;X-APPLE-RADIUS=500;X-TITLE=441 East Fordham Road:geo:-73.8892181,40.861203
END:VEVENT
BEGIN:VEVENT
DTSTART;TZID=America/New_York:20220120T180000
DTEND;TZID=America/New_York:20220120T200000
DTSTAMP:20260422T235501
CREATED:20211122T182618Z
LAST-MODIFIED:20211122T182618Z
UID:10004567-1642701600-1642708800@newsuat.fordham.edu
SUMMARY:Fordham University Alumni Association Annual Reception
DESCRIPTION:Join the Fordham University Alumni Association (FUAA) at another historic NYC venue. Built as a church in 1923 by the renowned architectural firm Delano & Aldrich\, 583 Park Avenue’s ballroom is home to a 2\,500-pound chandelier\, one of the largest in New York. The red-brick\, Georgian-style building is one of the highlights of Park Avenue. \nMeet the new board members\, hear updates from Joseph M. McShane\, S.J.\, president of Fordham University\, and catch up with friends and fellow Rams as we celebrate all things Fordham. \nThe cost is $30 per person and includes heavy hors d’oeuvres and beer\, wine\, and soft drinks.
URL:https://newsuat.fordham.edu/event/fordham-university-alumni-association-annual-reception/
LOCATION:583 Park Avenune\, 583 Park Ave\, New York\, NY\, 10065\, United States
CATEGORIES:Receptions
ORGANIZER;CN="Fordham University Alumni Association":MAILTO:fuaa@fordham.edu
END:VEVENT
BEGIN:VEVENT
DTSTART;TZID=America/New_York:20220124T183000
DTEND;TZID=America/New_York:20220124T203000
DTSTAMP:20260422T235501
CREATED:20211130T224645Z
LAST-MODIFIED:20211130T224645Z
UID:10004573-1643049000-1643056200@newsuat.fordham.edu
SUMMARY:2022 Austin Presidential Reception
DESCRIPTION:The Fordham Alumni Chapter of Austin and Joseph M. McShane\, S.J.\, president of Fordham University\, cordially invite you to a reception for alumni\, parents\, and friends. We hope you’ll join us in wishing Father McShane a fond farewell as he prepares to step down as president at the end of this academic year. \nThis event costs $30 per person and includes heavy hors d’oeuvres\, beer\, and wine. \nPlease consider making a gift of $25 or more to support the University’s new campaign\, Cura Personalis | For Every Fordham Student.
URL:https://newsuat.fordham.edu/event/2022-austin-presidential-reception/
LOCATION:The Driskill Hotel\, 604 Brazos Street\, Austin\, TX\, 78701\, United States
CATEGORIES:Receptions,Social
ORGANIZER;CN="Office of Alumni Relations":MAILTO:alumnioffice@fordham.edu
GEO:30.2682606;-97.7417091
X-APPLE-STRUCTURED-LOCATION;VALUE=URI;X-ADDRESS=The Driskill Hotel 604 Brazos Street Austin TX 78701 United States;X-APPLE-RADIUS=500;X-TITLE=604 Brazos Street:geo:-97.7417091,30.2682606
END:VEVENT
BEGIN:VEVENT
DTSTART;TZID=America/New_York:20220125T130000
DTEND;TZID=America/New_York:20220302T143000
DTSTAMP:20260422T235501
CREATED:20220128T203300Z
LAST-MODIFIED:20220128T203300Z
UID:10004618-1643115600-1646231400@newsuat.fordham.edu
SUMMARY:A Wandering Scribe and His Illustrated Esther Scrolls
DESCRIPTION:This lecture will explore the remarkable artistic career of Aryeh Leib ben Daniel of Goray\, an 18th-century Jewish scribe whose journey across Europe is documented through the decorated and illustrated megillot he created along the way. \nSharon Liberman Mintz is the curator of Jewish art at the Library of the Jewish Theological Seminary in New York and specializes in the art of Hebrew illuminated manuscripts and rare printed books. Over the course of 35 years at the library\, she has curated more than 45 exhibitions and co-authored 11 exhibition catalogs. Since 1995\, Mintz has also served as the senior consultant for Judaica and Hebraica at Sotheby’s\, cataloging and appraising Hebrew books for Judaica auctions worldwide.
URL:https://newsuat.fordham.edu/event/a-wandering-scribe-and-his-illustrated-esther-scrolls/
LOCATION:Zoom
CATEGORIES:Lectures
END:VEVENT
BEGIN:VEVENT
DTSTART;TZID=America/New_York:20220125T183000
DTEND;TZID=America/New_York:20220125T203000
DTSTAMP:20260422T235501
CREATED:20211130T225023Z
LAST-MODIFIED:20211130T225023Z
UID:10004575-1643135400-1643142600@newsuat.fordham.edu
SUMMARY:2022 Dallas Presidential Reception
DESCRIPTION:Doreen Quinn and Bill Quinn\, GABELLI ’69; the Fordham Alumni Chapter of Dallas; and Joseph M. McShane\, S.J.\, president of Fordham University\, cordially invite you to a complimentary reception for alumni\, parents\, and friends. We hope you’ll join us in wishing Father McShane a fond farewell before he steps down at the end of the academic year. \nAs the cost of this event is being generously covered by our hosts\, Doreen and Bill Quinn\, please consider making a gift of $25 or more to support the University’s new campaign\, Cura Personalis | For Every Fordham Student.
URL:https://newsuat.fordham.edu/event/2022-dallas-presidential-reception/
LOCATION:The Tower Club\, 1601 Elm Street\, 48th Floor\, Dallas\, TX\, 75201\, United States
CATEGORIES:Receptions,Social
ORGANIZER;CN="Office of Alumni Relations":MAILTO:alumnioffice@fordham.edu
END:VEVENT
BEGIN:VEVENT
DTSTART;TZID=America/New_York:20220126T100000
DTEND;TZID=America/New_York:20220126T120000
DTSTAMP:20260422T235501
CREATED:20220114T173352Z
LAST-MODIFIED:20220114T173352Z
UID:10004589-1643191200-1643198400@newsuat.fordham.edu
SUMMARY:Narrowing the Front Door to NYC’s Child Welfare System: COVID-19 Lessons Learned and Charting a Path Forward
DESCRIPTION:In New York City\, the COVID-19 shutdown forced a temporary but radical reduction in the child welfare system—halving the number of reports\, investigations\, and family separations\, reducing surveillance of families in their schools and in their homes\, and restricting support of voluntary preventive services. Early indications seem to suggest that this shutdown did not endanger children. Rates of substantiated abuse did not rise and\, in fact\, may have dipped; rates of substantiated neglect remained unchanged; and children stayed with their families and in their communities. We would like to take a look at this data together and see what solutions emerge.
URL:https://newsuat.fordham.edu/event/narrowing-the-front-door-to-nycs-child-welfare-system-covid-19-lessons-learned-and-charting-a-path-forward-2/
LOCATION:Zoom
CATEGORIES:Lectures
END:VEVENT
BEGIN:VEVENT
DTSTART;TZID=America/New_York:20220126T130000
DTEND;TZID=America/New_York:20220126T140000
DTSTAMP:20260422T235501
CREATED:20220118T213527Z
LAST-MODIFIED:20220118T213527Z
UID:10004607-1643202000-1643205600@newsuat.fordham.edu
SUMMARY:IPED CFR Series: Cyberspace and U.S.-China Relations
DESCRIPTION:Join us for a Council on Foreign Affairs academic conference call. Adam Segal is the Ira A. Lipman chair in emerging technologies and national security and director of the Digital and Cyberspace Policy program at the Council on Foreign Relations (CFR). An expert on security issues\, technology development\, and Chinese domestic and foreign policy\, Segal was the project director for the CFR-sponsored Independent Task Force reports Innovation and National Security: Keeping Our Edge and Defending an Open\, Global\, Secure\, and Resilient Internet.
URL:https://newsuat.fordham.edu/event/iped-cfr-series-cyberspace-and-u-s-china-relations/
LOCATION:Dealy Hall 207\, 441 E. Fordham Rd\, Bronx\, 10458\, United States
CATEGORIES:Lectures
ORGANIZER;CN="Fordham IPED":MAILTO:iped@fordham.edu
END:VEVENT
BEGIN:VEVENT
DTSTART;TZID=America/New_York:20220126T160000
DTEND;TZID=America/New_York:20220126T173000
DTSTAMP:20260422T235501
CREATED:20220118T213423Z
LAST-MODIFIED:20220118T213423Z
UID:10004605-1643212800-1643218200@newsuat.fordham.edu
SUMMARY:The Promise and Limits of Our First Amendment
DESCRIPTION:Please join us for the next panel event in Fordham University’s Speech Acts series. The First Amendment limits “state action”—what the government may and may not do—but not private action. In the context of increasing concentration of private speech power\, such as powerful social media platforms that are not governed by the First Amendment\, this panel discussion will consider defenses for and critiques of the state action doctrine\, along with comparative approaches. The discussion will also consider whether our robust constitutional free speech protections go too far in some instances\, failing to properly consider certain harms caused by speech. \nFeatured Speakers\nMary Anne Franks\, University of Miami\nGenevieve Lakier\, University of Chicago\nJulie Suk\, Fordham University\nNelson Tebbe\, Cornell University \nModerator\nAbner Greene\, Fordham University
URL:https://newsuat.fordham.edu/event/the-promise-and-limits-of-our-first-amendment/
LOCATION:Zoom
CATEGORIES:Lectures
ORGANIZER;CN="Office of the Provost":MAILTO:provost@fordham.edu
END:VEVENT
BEGIN:VEVENT
DTSTART;TZID=America/New_York:20220126T183000
DTEND;TZID=America/New_York:20220126T203000
DTSTAMP:20260422T235501
CREATED:20211130T224925Z
LAST-MODIFIED:20211130T224925Z
UID:10004574-1643221800-1643229000@newsuat.fordham.edu
SUMMARY:2022 Houston Presidential Reception
DESCRIPTION:Ronald DePinho\, M.D.\, FCRH ’77\, and Lynda Chin\, M.D.; the Fordham Alumni Chapter of Houston; and Joseph M. McShane\, S.J.\, president of Fordham University\, cordially invite you to a complimentary reception for alumni\, parents\, and friends. We hope you’ll join us in wishing Father McShane a fond farewell before he steps down at the end of the academic year. \nPlease note: Proof of COVID-19 vaccination is required to attend this event. Upon registration\, please send vaccination documentation to jleblanc11@fordham.edu. \nAs the cost of this event is being generously covered by our hosts\, Ronald DePinho and Lynda Chin\, please consider making a gift of $25 or more to support the University’s new campaign\, Cura Personalis | For Every Fordham Student.
URL:https://newsuat.fordham.edu/event/2022-houston-presidential-reception/
LOCATION:The DePinho-Chin Home\, United States
CATEGORIES:Receptions,Social
ORGANIZER;CN="Office of Alumni Relations":MAILTO:alumnioffice@fordham.edu
GEO:37.09024;-95.712891
END:VEVENT
BEGIN:VEVENT
DTSTART;TZID=America/New_York:20220127T123000
DTEND;TZID=America/New_York:20220127T143000
DTSTAMP:20260422T235501
CREATED:20220110T154530Z
LAST-MODIFIED:20220110T154530Z
UID:10004587-1643286600-1643293800@newsuat.fordham.edu
SUMMARY:United Nations Virtual Tour & Briefing
DESCRIPTION:The one-hour virtual tour offers an exciting opportunity to explore the United Nations from the comfort of your home. You will have a chance to meet one of our multilingual tour guides who will take you on a virtual journey through the history of the U.N. and speak about the organization’s work in addressing global challenges. \nYou will learn how the U.N. addresses such issues as disarmament\, peace and security\, and human rights\, and how you can support the Sustainable Development Goals. \nFollowing the tour\, a United Nations expert will provide an in-depth look into the latest issues on the organization’s agenda. The goal of a briefing is to further an understanding of and an appreciation for the work of the United Nations. This provides an invaluable educational opportunity tailored specifically to our group. \nThe cost of this event is $10 per screen. Space is limited for this unique experience. Please only register if you can attend both the tour and briefing.
URL:https://newsuat.fordham.edu/event/united-nations-virtual-tour-briefing-2/
LOCATION:Microsoft Teams
CATEGORIES:Lectures,Tours
ORGANIZER;CN="Office of Alumni Relations":MAILTO:alumnioffice@fordham.edu
END:VEVENT
BEGIN:VEVENT
DTSTART;TZID=America/New_York:20220127T160000
DTEND;TZID=America/New_York:20220127T170000
DTSTAMP:20260422T235501
CREATED:20220110T164054Z
LAST-MODIFIED:20220110T164054Z
UID:10004588-1643299200-1643302800@newsuat.fordham.edu
SUMMARY:IPED 2021-2022 Lecture Series: M&E in the Private Sector
DESCRIPTION:Come hear Emily Kremser\, an alumna of the International Political Economy and Development (IPED) program\, speak on how monitoring and evaluation are conducted in the private sector and her work with the Cadmus Group.
URL:https://newsuat.fordham.edu/event/iped-2021-2022-lecture-series-me-in-the-private-sector/
LOCATION:Rose Hill\, Dealy Hall\, E-530\, 441 East Fordham Road\, Bronx\, NY\, 10458\, United States
CATEGORIES:Lectures
ORGANIZER;CN="Fordham IPED":MAILTO:iped@fordham.edu
GEO:40.861203;-73.8892181
X-APPLE-STRUCTURED-LOCATION;VALUE=URI;X-ADDRESS=Rose Hill Dealy Hall E-530 441 East Fordham Road Bronx NY 10458 United States;X-APPLE-RADIUS=500;X-TITLE=441 East Fordham Road:geo:-73.8892181,40.861203
END:VEVENT
END:VCALENDAR