BEGIN:VCALENDAR
VERSION:2.0
PRODID:-//Fordham Now - ECPv6.15.20//NONSGML v1.0//EN
CALSCALE:GREGORIAN
METHOD:PUBLISH
X-ORIGINAL-URL:https://newsuat.fordham.edu
X-WR-CALDESC:Events for Fordham Now
REFRESH-INTERVAL;VALUE=DURATION:PT1H
X-Robots-Tag:noindex
X-PUBLISHED-TTL:PT1H
BEGIN:VTIMEZONE
TZID:America/New_York
BEGIN:DAYLIGHT
TZOFFSETFROM:-0500
TZOFFSETTO:-0400
TZNAME:EDT
DTSTART:20200308T070000
END:DAYLIGHT
BEGIN:STANDARD
TZOFFSETFROM:-0400
TZOFFSETTO:-0500
TZNAME:EST
DTSTART:20201101T060000
END:STANDARD
BEGIN:DAYLIGHT
TZOFFSETFROM:-0500
TZOFFSETTO:-0400
TZNAME:EDT
DTSTART:20210314T070000
END:DAYLIGHT
BEGIN:STANDARD
TZOFFSETFROM:-0400
TZOFFSETTO:-0500
TZNAME:EST
DTSTART:20211107T060000
END:STANDARD
BEGIN:DAYLIGHT
TZOFFSETFROM:-0500
TZOFFSETTO:-0400
TZNAME:EDT
DTSTART:20220313T070000
END:DAYLIGHT
BEGIN:STANDARD
TZOFFSETFROM:-0400
TZOFFSETTO:-0500
TZNAME:EST
DTSTART:20221106T060000
END:STANDARD
END:VTIMEZONE
BEGIN:VEVENT
DTSTART;TZID=America/New_York:20210121T180000
DTEND;TZID=America/New_York:20210121T193000
DTSTAMP:20260424T001659
CREATED:20201123T192912Z
LAST-MODIFIED:20201123T192912Z
UID:10004147-1611252000-1611257400@newsuat.fordham.edu
SUMMARY:2021 FUAA Recognition Reception
DESCRIPTION:Meet a current student\, play Fordham trivia\, recognize this year’s Ram of the Year and Trailblazer\, hear updates on the University from Joseph McShane\, S.J.\, president of Fordham\, and more! Don’t forget to don your best maroon or Fordham-themed apparel. \nAll registrants will be entered into a sweepstakes to win fun Fordham prizes!
URL:https://newsuat.fordham.edu/event/2021-fuaa-recognition-reception/
LOCATION:Zoom
CATEGORIES:Receptions
ORGANIZER;CN="Sara Hunt Munoz":MAILTO:shunt@fordham.edu
END:VEVENT
BEGIN:VEVENT
DTSTART;TZID=America/New_York:20210124T140000
DTEND;TZID=America/New_York:20210124T153000
DTSTAMP:20260424T001659
CREATED:20210113T145141Z
LAST-MODIFIED:20210113T145141Z
UID:10004171-1611496800-1611502200@newsuat.fordham.edu
SUMMARY:Marymount College Sunday Fun Day: Dome Doodle
DESCRIPTION:Join artist Liz “Mugsy” Meehan Neighbors\, Class of 1981\, and fellow Marymount graduates and friends for a fun afternoon of art and sisterhood as we doodle the Marymount College dome together. Remember\, there is no wrong doodle! \nDig out some paper and your markers\, colored pencils\, or a fine-point Sharpie; grab a beverage; and join us as we doodle and connect with one another virtually.
URL:https://newsuat.fordham.edu/event/marymount-college-sunday-fun-day-dome-doodle/
LOCATION:Zoom
CATEGORIES:Social
ORGANIZER;CN="Colleen Merolle":MAILTO:cmerolle@fordham.edu
END:VEVENT
BEGIN:VEVENT
DTSTART;TZID=America/New_York:20210126T100000
DTEND;TZID=America/New_York:20210126T110000
DTSTAMP:20260424T001659
CREATED:20210114T195119Z
LAST-MODIFIED:20210114T195119Z
UID:10004175-1611655200-1611658800@newsuat.fordham.edu
SUMMARY:Discover Gabelli: Virtual Information Session
DESCRIPTION:Discover the Gabelli School of Business and our Pre\, Professional\, and Executive MBA programs at our next virtual information session presented by the admissions team.
URL:https://newsuat.fordham.edu/event/discover-gabelli-virtual-information-session-3/
LOCATION:Zoom
CATEGORIES:Networking and Career
ORGANIZER;CN="Gabelli School of Business":MAILTO:gsbevents@fordham.edu
END:VEVENT
BEGIN:VEVENT
DTSTART;TZID=America/New_York:20210127T120000
DTEND;TZID=America/New_York:20210127T130000
DTSTAMP:20260424T001659
CREATED:20210112T145625Z
LAST-MODIFIED:20210112T145625Z
UID:10004169-1611748800-1611752400@newsuat.fordham.edu
SUMMARY:Centennial Speaker Series: Perspectives on Best Practices in Nonprofit Governance from ASPCA Board Chair Sally Spooner and President and CEO Matthew Bershadker
DESCRIPTION:Join us for a lunchtime fireside chat featuring Sally Spooner\, recently appointed chair of the American Society for the Prevention of Cruelty to Animals’ (ASPCA) board of directors\, and Matthew Bershadker\, president and CEO. Founded in 1866\, the ASPCA has emerged as one of the most effective and venerable nonprofit organizations in the world. Spooner will join Donna Rapaccioli\, dean of the Gabelli School of Business\, and Bershadker to explore the history and mission of the ASPCA\, lessons in leadership from the C-suite\, and how the ASPCA pivoted during the COVID-19 public health crisis to care for pets and their owners. \nAgenda\n12 p.m.: Welcome Remarks and Speaker Introductions: Donna Rapaccioli\, dean of the Gabelli School of Business \n12:08 p.m.: Sally Spooner and Matthew Bershadker\, moderated by Dean Rapaccioli \n12:45 p.m.: Audience Q&A \n1 p.m.: Closing Remarks: Dean Rapaccioli \nAbout the Speakers\nSpooner has been a member of the ASPCA’s board of directors since 2004\, most recently serving as vice chair. Her 16-year board tenure also included serving as chair of the Development Committee and the Animal Welfare Committee and serving on committees dedicated to the ASPCA Humane Awards Luncheon and the ASPCA Bergh Ball. Spooner\, who has worked as an advertising executive in New York and Chicago\, received her Bachelor of Arts degree in economics from University of Chicago and her Master of Business Administration degree from University of Chicago Booth School of Business. \nBershadker is president and CEO of the ASPCA\, the first animal welfare organization in America and a national leader in the rescue and protection of at-risk animals. He is a national thought leader in modern animal welfare\, and his vision and commitment have catapulted the ASPCA into a leadership position advancing the field’s evolution and national impact. Before becoming president and CEO\, Bershadker was senior vice president of ASPCA Anti-Cruelty\, vice president of development\, senior director of major gifts and special events\, and senior director of partnership marketing. Prior to joining the ASPCA in 2001\, Bershadker worked for ICF Consulting\, Share Our Strength\, and other organizations. \nA board member of the Global Animal Partnership\, Bershadker received his Master of Business Administration degree from Johns Hopkins University Carey Business School and a Bachelor of Arts degree in communications from Ohio University. Bershadker and his family have two dogs\, Tarzan and Loki.
URL:https://newsuat.fordham.edu/event/centennial-speaker-series-sally-spooner-on-how-to-lead-and-adapt-during-challenging-times/
LOCATION:Zoom
CATEGORIES:Lectures
ATTACH;FMTTYPE=image/jpeg:https://newsuat.fordham.edu/wp-content/uploads/2021/01/21-1499-DEV-GABELLI-Webinar-Series-Emails-aspca.jpg
ORGANIZER;CN="Gabelli School of Business":MAILTO:gsbevents@fordham.edu
END:VEVENT
BEGIN:VEVENT
DTSTART;TZID=America/New_York:20210127T123000
DTEND;TZID=America/New_York:20210127T133000
DTSTAMP:20260424T001659
CREATED:20210119T150134Z
LAST-MODIFIED:20210119T150134Z
UID:10004176-1611750600-1611754200@newsuat.fordham.edu
SUMMARY:Pro-Life. Pro-Choice. Post-Roe? New Prospects for the Abortion Debate in America
DESCRIPTION:Views on abortion rights in the U.S. have remained almost unchanged\, while the politics of abortion have grown more polarized and partisan. Is there a way forward? Will new events force a change in the debate? While the Supreme Court’s conservative composition could overturn Roe v. Wade\, President-elect Joe Biden\, a Catholic\, is vowing to protect abortion rights. \nJoin us for a panel featuring experts and faith-based voices who bring new perspectives on the legal\, political\, and social dynamics of today’s increasingly intense argument over abortion rights—and the chances of a fundamental change in that debate. \nPanelists \nTricia Bruce is a sociologist of religion and an affiliate of the University of Notre Dame’s Center for the Study of Religion and Society. Last summer\, she published a study titled\, “How Americans Understand Abortion\,” the largest in-depth\, interview study of American attitudes on abortion. \nMary Ziegler\, a professor of law at Florida State University\, is one of the foremost authorities on the legal history of the American abortion debate. Her most recent book\, Abortion and the Law in America: Roe v. Wade to the Present (Cambridge University Press\, 2020)\, traces the legal history of the abortion debate from the recognition of a right to choose to “the likely undoing of Roe today.” \nGloria Purvis is a Catholic radio host and popular media commentator. She served on the National Black Catholic Congress’s Leadership Commission on Social Justice and describes herself as “dedicated to promoting the sanctity of human life\, marriage\, and the dignity of the human person.” \nKatelyn Beaty is a former managing editor of Christianity Today\, the flagship evangelical magazine\, and an author and journalist who has written for The New York Times\, The New Yorker\, and The Washington Post. She is an acquisitions editor for Brazos Press and is writing a book about celebrity in the church. \nDavid Gibson\, director of Fordham’s Center on Religion and Culture\, will moderate the discussion\, including questions from the online audience.
URL:https://newsuat.fordham.edu/event/pro-life-pro-choice-post-roe-new-prospects-for-the-abortion-debate-in-america/
LOCATION:Zoom
CATEGORIES:Lectures
ATTACH;FMTTYPE=image/png:https://newsuat.fordham.edu/wp-content/uploads/2021/01/Calendar-Graphic-Pro-Life.v2.png
END:VEVENT
BEGIN:VEVENT
DTSTART;TZID=America/New_York:20210127T180000
DTEND;TZID=America/New_York:20210127T190000
DTSTAMP:20260424T001659
CREATED:20210105T142531Z
LAST-MODIFIED:20210105T142531Z
UID:10004159-1611770400-1611774000@newsuat.fordham.edu
SUMMARY:January 2021 Career Workshop: Industry Look with Talkwalker
DESCRIPTION:Join talent acquisition partner Jordan D’Angelo and solutions coordinator Matthew Barry from Talkwalker\, the leading social listening and analytics company. During this presentation\, D’Angelo and Barry will discuss their artificial intelligence-powered conversational-intelligence platform\, as well as their work at their New York City office. \nFollowing the presentation\, we will be joined by Talkwalker onboarding specialist Jeffrey Cipriano\, FCLC ’14\, to answer questions.
URL:https://newsuat.fordham.edu/event/january-2021-career-workshop-industry-look-with-talkwalker/
LOCATION:Zoom
CATEGORIES:Networking and Career
END:VEVENT
BEGIN:VEVENT
DTSTART;TZID=America/New_York:20210128T120000
DTEND;TZID=America/New_York:20210128T130000
DTSTAMP:20260424T001659
CREATED:20210114T195711Z
LAST-MODIFIED:20210114T195711Z
UID:10004174-1611835200-1611838800@newsuat.fordham.edu
SUMMARY:Latinx Catholics and the Clerical Abuse Crisis
DESCRIPTION:In the spring semester\, the Taking Responsibility: Jesuit Institutions Confront the Causes and Legacy of Clergy Sexual Abuse initiative at Fordham will host a series of online discussions to examine the clerical sexual abuse crisis across multiple understudied communities in the U.S. Join America magazine’s J.D. Long-García\, pastoral minister Damellys Sacriste\, and Emory University’s Susan Bigelow Reynolds as they raise questions and highlight issues that may help us better understand how sexual abuse has been experienced in historically marginalized Catholic communities.
URL:https://newsuat.fordham.edu/event/latinx-catholics-and-the-clerical-abuse-crisis/
LOCATION:Zoom
CATEGORIES:Lectures
ORGANIZER;CN="Taking Responsibility%3A Jesuit Educational Institutions Confront the Causes and Legacy of Clergy Sexual Abuse":MAILTO:takingresponsibility@fordham.edu
END:VEVENT
BEGIN:VEVENT
DTSTART;TZID=America/New_York:20210128T120000
DTEND;TZID=America/New_York:20210128T140000
DTSTAMP:20260424T001659
CREATED:20210105T143206Z
LAST-MODIFIED:20210105T143206Z
UID:10004160-1611835200-1611842400@newsuat.fordham.edu
SUMMARY:SOLD OUT: United Nations Virtual Tour & Briefing
DESCRIPTION:Please join your fellow Fordham alumni and friends for this truly unique experience. We will begin with a virtual guided tour of the United Nations followed by a private online briefing from a U.N. official.
URL:https://newsuat.fordham.edu/event/united-nations-virtual-tour-briefing/
LOCATION:Microsoft Teams
CATEGORIES:Cultural,Tours
ORGANIZER;CN="Colleen Merolle":MAILTO:cmerolle@fordham.edu
END:VEVENT
BEGIN:VEVENT
DTSTART;TZID=America/New_York:20210128T140000
DTEND;TZID=America/New_York:20210128T150000
DTSTAMP:20260424T001659
CREATED:20210113T173943Z
LAST-MODIFIED:20210113T173943Z
UID:10004172-1611842400-1611846000@newsuat.fordham.edu
SUMMARY:SOLD OUT - FBI Strategy for Tackling Cyber Threats in 2021 and Beyond with Director Christopher A. Wray
DESCRIPTION:Join the Federal Bureau of Investigation (FBI) and Fordham’s international conference on cyber security (ICCS) for a special event with FBI Director Christopher Wray. His remarks will be followed by a discussion with Ed Stroz\, founder of Stroz Friedberg\, now known as Aon Cyber Solutions\, and Matt Gorham\, assistant director of the FBI’s cyber division. The session\, part of the virtual ICCS Speaker Series\, will be moderated by Joseph M. McShane\, S.J.\, president of Fordham University.
URL:https://newsuat.fordham.edu/event/fbi-director-christopher-a-wray-to-discuss-strategy-for-tackling-cyber-threats-in-2021-and-beyond/
LOCATION:Zoom
CATEGORIES:Conferences and Symposia,Lectures,Networking and Career
ATTACH;FMTTYPE=image/jpeg:https://newsuat.fordham.edu/wp-content/uploads/2021/01/Christopher-Wray-ICCS-CTX_6641.jpg
ORGANIZER;CN="ICCS":MAILTO:iccs@fordham.edu
END:VEVENT
BEGIN:VEVENT
DTSTART;TZID=America/New_York:20210128T180000
DTEND;TZID=America/New_York:20210128T193000
DTSTAMP:20260424T001659
CREATED:20201217T143931Z
LAST-MODIFIED:20201217T143931Z
UID:10004158-1611856800-1611862200@newsuat.fordham.edu
SUMMARY:Fordham GSS Virtual Chair Installations: Dumpson and Quaranta
DESCRIPTION:Join us for the formal installation of Shirley Gatenio Gabel\, Ph.D.\, as the Mary Ann Quaranta Chair for Social Justice for Children\, and Anne Williams-Isom\, FCLC ’86\, as the James R. Dumpson Chair in Child Welfare Studies\, both within the Graduate School of Social Service.
URL:https://newsuat.fordham.edu/event/fordham-gss-virtual-chair-installations-dumpson-and-quaranta/
LOCATION:Zoom
CATEGORIES:Lectures
ATTACH;FMTTYPE=image/jpeg:https://newsuat.fordham.edu/wp-content/uploads/2020/12/Justice.jpg
END:VEVENT
END:VCALENDAR