BEGIN:VCALENDAR
VERSION:2.0
PRODID:-//Fordham Now - ECPv6.15.20//NONSGML v1.0//EN
CALSCALE:GREGORIAN
METHOD:PUBLISH
X-ORIGINAL-URL:https://newsuat.fordham.edu
X-WR-CALDESC:Events for Fordham Now
REFRESH-INTERVAL;VALUE=DURATION:PT1H
X-Robots-Tag:noindex
X-PUBLISHED-TTL:PT1H
BEGIN:VTIMEZONE
TZID:America/New_York
BEGIN:DAYLIGHT
TZOFFSETFROM:-0500
TZOFFSETTO:-0400
TZNAME:EDT
DTSTART:20180311T070000
END:DAYLIGHT
BEGIN:STANDARD
TZOFFSETFROM:-0400
TZOFFSETTO:-0500
TZNAME:EST
DTSTART:20181104T060000
END:STANDARD
BEGIN:DAYLIGHT
TZOFFSETFROM:-0500
TZOFFSETTO:-0400
TZNAME:EDT
DTSTART:20190310T070000
END:DAYLIGHT
BEGIN:STANDARD
TZOFFSETFROM:-0400
TZOFFSETTO:-0500
TZNAME:EST
DTSTART:20191103T060000
END:STANDARD
BEGIN:DAYLIGHT
TZOFFSETFROM:-0500
TZOFFSETTO:-0400
TZNAME:EDT
DTSTART:20200308T070000
END:DAYLIGHT
BEGIN:STANDARD
TZOFFSETFROM:-0400
TZOFFSETTO:-0500
TZNAME:EST
DTSTART:20201101T060000
END:STANDARD
END:VTIMEZONE
BEGIN:VEVENT
DTSTART;TZID=America/New_York:20190801T173000
DTEND;TZID=America/New_York:20190801T190000
DTSTAMP:20260425T073435
CREATED:20190708T131903Z
LAST-MODIFIED:20190708T131903Z
UID:10007112-1564680600-1564686000@newsuat.fordham.edu
SUMMARY:Fordham Soccer Happy Hour
DESCRIPTION:You’re invited to join head women’s soccer coach Jessica Clinton and head men’s soccer coach Carlo Acquista for a get-together soccer happy hour!
URL:https://newsuat.fordham.edu/event/fordham-soccer-happy-hour/
LOCATION:Gem Saloon\, 375 3rd Ave\, New York City\, NY\, United States
CATEGORIES:Athletics,Receptions,Reunions,Social
ATTACH;FMTTYPE=image/jpeg:https://newsuat.fordham.edu/wp-content/uploads/2019/07/HBUSQUCWQFEAGIV.20150914200100.jpg
ORGANIZER;CN="Kara Field":MAILTO:kfield1@fordham.edu
END:VEVENT
BEGIN:VEVENT
DTSTART;TZID=America/New_York:20190803T163000
DTEND;TZID=America/New_York:20190803T193000
DTSTAMP:20260425T073435
CREATED:20190725T212740Z
LAST-MODIFIED:20190725T212740Z
UID:10007120-1564849800-1564860600@newsuat.fordham.edu
SUMMARY:Denver Jesuit Alumni Network Mass and Student Send-Off
DESCRIPTION:All future Jesuit-educated students in Denver (as well as alumni) are invited to attend a Mass and student send-off this summer\, sponsored by the Denver Jesuit Alumni Network.
URL:https://newsuat.fordham.edu/event/denver-jesuit-alumni-network-mass-and-student-send-off/
LOCATION:Saint Ignatius Loyola Catholic Church\, 2301 York St.\, Denver\, CO\, 80205\, United States
CATEGORIES:Networking and Career,Receptions,Social,Spiritual and Religious Events
ORGANIZER;CN="Association of Jesuit Colleges and Universities":MAILTO:ndabrowski@jesuits.org
END:VEVENT
BEGIN:VEVENT
DTSTART;VALUE=DATE:20190807
DTEND;VALUE=DATE:20190808
DTSTAMP:20260425T073435
CREATED:20190417T183331Z
LAST-MODIFIED:20190417T183331Z
UID:10007063-1565136000-1565222399@newsuat.fordham.edu
SUMMARY:NYC Summer All-Jesuit Happy Hour
DESCRIPTION:Whether you attended Fordham or any of the other great Jesuit colleges and universities in the U.S.\, New York City is your home. Join us for a beautiful summer evening\, reconnect with classmates\, and meet fellow #JesuitEducated alumni! \nStay tuned for location and registration information\, which will be posted soon.
URL:https://newsuat.fordham.edu/event/nyc-summer-all-jesuit-happy-hour/
LOCATION:NY
CATEGORIES:Networking and Career,Social
ATTACH;FMTTYPE=image/jpeg:https://newsuat.fordham.edu/wp-content/uploads/2019/04/AJHH-2.jpg
ORGANIZER;CN="Office of Alumni Relations":MAILTO:alumnioffice@fordham.edu
END:VEVENT
BEGIN:VEVENT
DTSTART;TZID=America/New_York:20190808T173000
DTEND;TZID=America/New_York:20190808T173000
DTSTAMP:20260425T073435
CREATED:20190625T153140Z
LAST-MODIFIED:20190625T153140Z
UID:10007105-1565285400-1565285400@newsuat.fordham.edu
SUMMARY:Alumni Chapter of Chicago: Summer Happy Hour
DESCRIPTION:Join fellow Chicago-area alumni for an evening out at Beatnik West Town—cheers to summertime and Fordham friends! \nThis event costs $30 and includes two drinks and appetizers. \nRSVP by Tuesday\, August 6.
URL:https://newsuat.fordham.edu/event/alumni-chapter-of-chicago-summer-happy-hour/
LOCATION:Beatnik West Town\, 1604 W. Chicago Ave\, Chicago\, IL\, 60622\, United States
CATEGORIES:Social
ORGANIZER;CN="Alumni Chapter of Chicago":MAILTO:margaret.graver@gmail.com
END:VEVENT
BEGIN:VEVENT
DTSTART;VALUE=DATE:20190810
DTEND;VALUE=DATE:20190818
DTSTAMP:20260425T073435
CREATED:20190501T125550Z
LAST-MODIFIED:20190501T125550Z
UID:10007068-1565395200-1566086399@newsuat.fordham.edu
SUMMARY:Alumni GO! Mexico
DESCRIPTION:Join fellow alumni for a life-changing week of service and exploration in Puebla\, Mexico. Apply by June 1\, 2019.
URL:https://newsuat.fordham.edu/event/alumni-go-mexico/
LOCATION:Puebla\, Mexico\, Mexico
CATEGORIES:Spiritual and Service,Travel,Volunteer
ATTACH;FMTTYPE=image/png:https://newsuat.fordham.edu/wp-content/uploads/2019/04/Alumni-Calendar-Image-Template-4.png
ORGANIZER;CN="Matt Burns":MAILTO:mburns2@fordham.edu
END:VEVENT
BEGIN:VEVENT
DTSTART;TZID=America/New_York:20190815T180000
DTEND;TZID=America/New_York:20190815T210000
DTSTAMP:20260425T073435
CREATED:20190627T130749Z
LAST-MODIFIED:20190627T130749Z
UID:10007106-1565892000-1565902800@newsuat.fordham.edu
SUMMARY:2019 Spring Lake Presidential Reception
DESCRIPTION:The Fordham Alumni Chapters of Northern New Jersey\, Central New Jersey\, and the Jersey Shore\, and Joseph M. McShane\, S.J.\, president of Fordham University\, cordially invite you to a reception for alumni\, parents\, and friends. \nIn an effort to maximize the amount of time to socialize and catch up with fellow Rams\, the format of this year’s event has changed from a buffet dinner to a reception. We hope you take advantage of the lower price and encourage Fordham alumni and friends to attend! \nThis year’s event costs $65 per person and includes heavy passed hors d’oeuvres\, food stations\, and an open bar. \nPrior to the reception\, guests are welcome to attend a Mass in celebration of the Feast of the Assumption at 5 p.m. at St. Catharine Church (215 Essex Avenue\, Spring Lake\, NJ 07762).
URL:https://newsuat.fordham.edu/event/2019-spring-lake-presidential-reception/
LOCATION:Spring Lake Bath and Tennis\, 1 Jersey Avenue\, Spring Lake\, NJ\, 07762\, United States
CATEGORIES:Networking and Career,Receptions
ATTACH;FMTTYPE=image/jpeg:https://newsuat.fordham.edu/wp-content/uploads/2019/06/19-1201-AR-Banner-Email-Proof-2.jpg
ORGANIZER;CN="Ainsley Kelley":MAILTO:akelley6@fordham.edu
END:VEVENT
BEGIN:VEVENT
DTSTART;TZID=America/New_York:20190817T090000
DTEND;TZID=America/New_York:20190817T170000
DTSTAMP:20260425T073435
CREATED:20190731T142318Z
LAST-MODIFIED:20190731T142318Z
UID:10007125-1566032400-1566061200@newsuat.fordham.edu
SUMMARY:Young Alumni Wine Tour
DESCRIPTION:Looking to learn more about wine and make alumni connections at the same time? Join fellow young alumni (Classes of 2010–2019) on a weekend day trip to Macari Vineyards. This Long Island vineyard is owned and operated by the Macari family\, including sommelier Gabriella Macari\, GABELLI ’09. Our group will enjoy a tour of the vineyard followed by a guided tasting of five wines and lunch. \nThe group will meet at Fordham Law School (140 West 62nd Street) at 9 a.m. and travel by coach bus to the vineyard. We will leave around 3 p.m. and return between 4:30 and 5 p.m. Tickets cost $75 and include transportation\, tour\, tasting\, and lunch.
URL:https://newsuat.fordham.edu/event/young-alumni-wine-tour/
LOCATION:Macari Vineyards\, North Fork of Long Island\, NY\, United States
CATEGORIES:Social,Tours
ATTACH;FMTTYPE=image/jpeg:https://newsuat.fordham.edu/wp-content/uploads/2019/07/Magazine_Gabriella_Macari_05.jpg
ORGANIZER;CN="Office of Alumni Relations":MAILTO:alumnioffice@fordham.edu
END:VEVENT
BEGIN:VEVENT
DTSTART;TZID=America/New_York:20190820T173000
DTEND;TZID=America/New_York:20190820T193000
DTSTAMP:20260425T073435
CREATED:20190724T133328Z
LAST-MODIFIED:20190724T133328Z
UID:10007118-1566322200-1566329400@newsuat.fordham.edu
SUMMARY:Alumni Chapter of Boston: 2019 Young Alumni Happy Hour
DESCRIPTION:Join fellow local Rams for a midweek happy hour! Enjoy beautiful views of the Boston Seaport while catching up with fellow young alumni on the patio at Morton’s. \nAppetizers will be provided courtesy of the Office of Alumni Relations. There will be a cash bar. \nRSVP by Friday\, August 16\, 2019.
URL:https://newsuat.fordham.edu/event/alumni-chapter-of-boston-2019-young-alumni-happy-hour/
LOCATION:Morton’s The Steakhouse\, 2 Seaport Lane\, Boston\, MA\, 02210\, United States
CATEGORIES:Receptions
ORGANIZER;CN="Ainsley Kelley":MAILTO:akelley6@fordham.edu
END:VEVENT
BEGIN:VEVENT
DTSTART;TZID=America/New_York:20190820T190000
DTEND;TZID=America/New_York:20190820T190000
DTSTAMP:20260425T073435
CREATED:20190717T130318Z
LAST-MODIFIED:20190717T130318Z
UID:10007115-1566327600-1566327600@newsuat.fordham.edu
SUMMARY:Alumni Chapter of Northern California: 2019 Yankees at A’s
DESCRIPTION:Cheer on the Bronx Bombers with fellow Fordham alumni as the Yankees take on the A’s at the Oakland Coliseum! Reserve your tickets for our 13th annual year behind the Yankees’ bullpen. \nSeats are only eight rows off the field behind the Yankees’ bullpen\, in Lower Box 105\, and cost $45 per ticket. Family and friends are welcome! Parking is available at a reduced rate of $16\, which allows early entry to the lots before the gates open to the public (only one parking pass per car is needed).
URL:https://newsuat.fordham.edu/event/alumni-chapter-of-northern-california-2019-yankees-at-as/
LOCATION:Oakland Coliseum\, 7000 Coliseum Way\, Oakland\, CA\, 94621\, United States
CATEGORIES:Social
ORGANIZER;CN="Alumni Chapter of Northern California":MAILTO:markadigiorgio@att.net
END:VEVENT
BEGIN:VEVENT
DTSTART;TZID=America/New_York:20190824T170000
DTEND;TZID=America/New_York:20190824T170000
DTSTAMP:20260425T073435
CREATED:20190611T192015Z
LAST-MODIFIED:20190611T192015Z
UID:10007095-1566666000-1566666000@newsuat.fordham.edu
SUMMARY:Alumni Chapter of Charlotte: Knights Baseball Outing
DESCRIPTION:Join the Fordham Alumni Chapter of Charlotte for our annual baseball game outing. Cheer on the Charlotte Knights as they take on the Norfolk Tides. \nTickets are $19 each (Field Box) and will be available at will call on the night of the game. Only 40 tickets are available for our group\, so please make your reservations early. To secure your ticket(s)\, please make checks payable to Gene McCarthy and mail to his attention at 79 Newriver Trace\, Lake Wylie\, SC 29710\, by August 10. \nPrior to the game\, alumni and guests are invited to meet at the Mellow Mushroom (255 W. Martin Luther King Blvd.\, Charlotte\, NC 28202) at 5 p.m. The restaurant is just one block from BB&T Stadium. Bar and food service will be available. \nQuestions? Contact:\nGene McCarthy\nejmcwylie@aol.com\n803-831-8381
URL:https://newsuat.fordham.edu/event/alumni-chapter-of-charlotte-knights-baseball-outing/
LOCATION:BB&T Ballpark Charlotte\, 324 Mint Street\, Charlotte\, NC\, 28202\, United States
CATEGORIES:Receptions,Social
ORGANIZER;CN="Alumni Chapter of Charlotte":MAILTO:ejmcwylie@aol.com
END:VEVENT
BEGIN:VEVENT
DTSTART;TZID=America/New_York:20190826T113000
DTEND;TZID=America/New_York:20190826T180000
DTSTAMP:20260425T073435
CREATED:20190820T145316Z
LAST-MODIFIED:20190820T145316Z
UID:10007146-1566819000-1566842400@newsuat.fordham.edu
SUMMARY:GSE Fall 2019 New Student Orientation
DESCRIPTION:GSE’s new student orientation will introduce you to the academic and student services available at Fordham as well as your new classmates\, staff\, and faculty members. Sessions will cover a variety of topics\, including wellness\, professional development\, information about Fordham’s graduate community and culture\, and financial aid.
URL:https://newsuat.fordham.edu/event/gse-fall-2019-new-student-orientation/
LOCATION:12th-Floor Lounge\, Corrigan Conference Center\, Lowenstein Center\, Lincoln Center Campus\, 113 W. 60th St.\, New York\, NY\, 10023\, United States
CATEGORIES:Lectures,Receptions
ATTACH;FMTTYPE=image/jpeg:https://newsuat.fordham.edu/wp-content/uploads/2019/08/FordhamLC_LowensteinEntrance-1.jpg
ORGANIZER;CN="Arveal Drummer":MAILTO:gse_admiss@fordham.edu
GEO:40.7710994;-73.9852715
X-APPLE-STRUCTURED-LOCATION;VALUE=URI;X-ADDRESS=12th-Floor Lounge Corrigan Conference Center Lowenstein Center Lincoln Center Campus 113 W. 60th St. New York NY 10023 United States;X-APPLE-RADIUS=500;X-TITLE=Lincoln Center Campus\, 113 W. 60th St.:geo:-73.9852715,40.7710994
END:VEVENT
BEGIN:VEVENT
DTSTART;TZID=America/New_York:20190828T110000
DTEND;TZID=America/New_York:20190828T180000
DTSTAMP:20260425T073435
CREATED:20190820T145552Z
LAST-MODIFIED:20190820T145552Z
UID:10007147-1566990000-1567015200@newsuat.fordham.edu
SUMMARY:GSE Fall 2019 Non-Matriculated Student Registration
DESCRIPTION:The Graduate School of Education encourages individuals not enrolled in a degree program to sign up to take courses as non-matriculated students. \n 
URL:https://newsuat.fordham.edu/event/gse-fall-2019-non-matriculated-student-registration/2019-08-28/
LOCATION:Room 208\, Martino Hall\, 45 Columbus Avenue\, New York\, NY\, 10023 -7414\, United States
CATEGORIES:Lectures,Networking and Career
ATTACH;FMTTYPE=image/jpeg:https://newsuat.fordham.edu/wp-content/uploads/2019/08/45Colum1078.jpg
ORGANIZER;CN="Arveal Drummer":MAILTO:gse_admiss@fordham.edu
END:VEVENT
BEGIN:VEVENT
DTSTART;TZID=America/New_York:20190829T180000
DTEND;TZID=America/New_York:20190829T220000
DTSTAMP:20260425T073435
CREATED:20190731T155742Z
LAST-MODIFIED:20190731T155742Z
UID:10007124-1567101600-1567116000@newsuat.fordham.edu
SUMMARY:Game\, Set\, Match: Fordham Alumni at the U.S. Open
DESCRIPTION:6 – 6:30 p.m. | Ticket Pickup*\nThe Unisphere\nFlushing Meadows-Corona Park\nFlushing\, NY 11368 \n7 p.m. | Match\nUSTA Billie Jean King National Tennis Center\nArthur Ashe Stadium\nFlushing Meadows-Corona Park\nFlushing\, NY 11368 \nDon’t miss this unique opportunity to experience the U.S. Open in person! We’ll meet at the Unisphere in Flushing Meadows-Corona Park before the game\, where tickets will be distributed. Folks can then head directly to the stadium. Please feel free to bring your family and friends too! \nTicket Info:\nPrice: $36 per person\nStadium: Arthur Ashe Stadium\nLocation: Section 307\, Rows R-T\nMatches Included: 1 Women’s\, 1 Men’s\nDraw: Session 8\, Round 2 \nPlease note that although this is our specific seating assignment\, attendees usually have the ability to move around to different seats and among stadiums. \n*There is not a Will Call at the U.S. Open\, so all tickets must be picked up at the Unisphere (the giant silver globe in Flushing Meadows-Corona Park) prior to the match. A Fordham representative will be waiting with the tickets from 6 to 6:30 p.m. \nAll registrants will receive a reminder email one week prior to the event with additional event details. \nHope to see you there!
URL:https://newsuat.fordham.edu/event/game-set-match-fordham-alumni-at-the-u-s-open/
LOCATION:Arthur Ashe Stadium\, Flushing-Meadows Corona Park\, Flushing\, NY\, 11368\, United States
CATEGORIES:Athletics,Social
ORGANIZER;CN="Office of Alumni Relations":MAILTO:alumnioffice@fordham.edu
END:VEVENT
BEGIN:VEVENT
DTSTART;TZID=America/New_York:20190829T183000
DTEND;TZID=America/New_York:20190829T203000
DTSTAMP:20260425T073435
CREATED:20190701T212228Z
LAST-MODIFIED:20190701T212228Z
UID:10007110-1567103400-1567110600@newsuat.fordham.edu
SUMMARY:2019 Hamptons Presidential Reception
DESCRIPTION:Eileen FitzGerald Sudler\, TMC ’71\, and Peter Sudler\, along with Joseph M. McShane\, S.J.\, president of Fordham University\, cordially invite you to a complimentary reception for alumni\, parents\, and friends.
URL:https://newsuat.fordham.edu/event/2019-hamptons-presidential-reception/
LOCATION:Sebonack Golf Club\, 405 Sebonac Road\, Southampton\, NY\, 11968\, United States
CATEGORIES:Networking and Career,Receptions,Social
ATTACH;FMTTYPE=image/jpeg:https://newsuat.fordham.edu/wp-content/uploads/2019/07/AR-1095-x-608-Banner-Email-Hamptons.jpg
ORGANIZER;CN="Ainsley Kelley":MAILTO:akelley6@fordham.edu
END:VEVENT
BEGIN:VEVENT
DTSTART;TZID=America/New_York:20190831T160000
DTEND;TZID=America/New_York:20190831T180000
DTSTAMP:20260425T073435
CREATED:20190806T204731Z
LAST-MODIFIED:20190806T204731Z
UID:10007128-1567267200-1567274400@newsuat.fordham.edu
SUMMARY:Maroon Club Tailgate: Fordham vs. Central Connecticut State
DESCRIPTION:The Fordham Athletics Maroon Club invites you to our men’s football tailgate as the Rams play Central Connecticut State. Join us two hours before kickoff for an open beer and wine bar\, tailgate food\, a sideline chat from one of our football coaches and the athletic director\, a DJ\, and various lawn games and activities!
URL:https://newsuat.fordham.edu/event/maroon-club-tailgate-fordham-vs-central-connecticut-state/
LOCATION:Parking Lot A Rose Hill Campus\, Fordham University\, Bronx\, NY\, 10458\, United States
CATEGORIES:Athletics
ATTACH;FMTTYPE=image/jpeg:https://newsuat.fordham.edu/wp-content/uploads/2019/08/Football-5.jpg
ORGANIZER;CN="Allison Griffin":MAILTO:agriffin29@fordham.edu
END:VEVENT
END:VCALENDAR