BEGIN:VCALENDAR
VERSION:2.0
PRODID:-//Fordham Now - ECPv6.15.20//NONSGML v1.0//EN
CALSCALE:GREGORIAN
METHOD:PUBLISH
X-ORIGINAL-URL:https://newsuat.fordham.edu
X-WR-CALDESC:Events for Fordham Now
REFRESH-INTERVAL;VALUE=DURATION:PT1H
X-Robots-Tag:noindex
X-PUBLISHED-TTL:PT1H
BEGIN:VTIMEZONE
TZID:America/New_York
BEGIN:DAYLIGHT
TZOFFSETFROM:-0500
TZOFFSETTO:-0400
TZNAME:EDT
DTSTART:20180311T070000
END:DAYLIGHT
BEGIN:STANDARD
TZOFFSETFROM:-0400
TZOFFSETTO:-0500
TZNAME:EST
DTSTART:20181104T060000
END:STANDARD
BEGIN:DAYLIGHT
TZOFFSETFROM:-0500
TZOFFSETTO:-0400
TZNAME:EDT
DTSTART:20190310T070000
END:DAYLIGHT
BEGIN:STANDARD
TZOFFSETFROM:-0400
TZOFFSETTO:-0500
TZNAME:EST
DTSTART:20191103T060000
END:STANDARD
BEGIN:DAYLIGHT
TZOFFSETFROM:-0500
TZOFFSETTO:-0400
TZNAME:EDT
DTSTART:20200308T070000
END:DAYLIGHT
BEGIN:STANDARD
TZOFFSETFROM:-0400
TZOFFSETTO:-0500
TZNAME:EST
DTSTART:20201101T060000
END:STANDARD
END:VTIMEZONE
BEGIN:VEVENT
DTSTART;TZID=America/New_York:20190711T190000
DTEND;TZID=America/New_York:20190711T220000
DTSTAMP:20260425T091308
CREATED:20190617T150552Z
LAST-MODIFIED:20190617T150552Z
UID:10007098-1562871600-1562882400@newsuat.fordham.edu
SUMMARY:Christmas in July with the Catholic Charities Junior Board
DESCRIPTION:Join the Catholic Charities Junior Board for their annual benefit\, Christmas in July\, a festive evening in support of the St. Nicholas Project\, providing winter necessities to more than 4\,000 New Yorkers in need\, along with critical training and supplies throughout the year. \nThis year’s benefit will take place from 7 to 10 p.m. on Thursday\, July 11\, at the Penn Club of New York. The event will feature a full open bar\, delicious appetizers and dessert\, a silent auction\, photo booth\, DJ\, and more!
URL:https://newsuat.fordham.edu/event/christmas-in-july-with-the-catholic-charities-junior-board/
LOCATION:The Penn Club\, 30 W 44th St\, New York\, 10036\, United States
CATEGORIES:Social,Spiritual and Service
ATTACH;FMTTYPE=image/png:https://newsuat.fordham.edu/wp-content/uploads/2019/06/Alumni-Calendar-Image-Template-6.png
ORGANIZER;CN="Catholic Charities Junior Board":MAILTO:christina.perez@archny.org
END:VEVENT
BEGIN:VEVENT
DTSTART;TZID=America/New_York:20190712T190000
DTEND;TZID=America/New_York:20190712T190000
DTSTAMP:20260425T091308
CREATED:20190620T180150Z
LAST-MODIFIED:20190620T180150Z
UID:10007104-1562958000-1562958000@newsuat.fordham.edu
SUMMARY:Alumni Chapter of the Hudson Valley: 2019 Yankees Baseball Outing
DESCRIPTION:Join alumni from the Hudson Valley and Westchester at Yankee Stadium as the Bronx Bombers take on the Toronto Blue Jays. There are only 30 tickets available for our group\, so don’t miss out! \nTickets cost $58 per person and are located in Section 425. Included in the ticket price is a Mariano Rivera bobblehead\, a hot dog\, and your selection of one beverage (water\, soda\, or a 12 oz. draft beer). Tickets will be delivered via USPS.
URL:https://newsuat.fordham.edu/event/alumni-chapter-of-the-hudson-valley-2019-yankees-baseball-outing/
LOCATION:Yankee Stadium
CATEGORIES:Social
ORGANIZER;CN="Alumni Chapter of the Hudson Valley":MAILTO:hudsonvalleyfordhamchapter@gmail.com
GEO:40.8288189;-73.9265691
END:VEVENT
BEGIN:VEVENT
DTSTART;TZID=America/New_York:20190715T133000
DTEND;TZID=America/New_York:20190715T210000
DTSTAMP:20260425T091308
CREATED:20190618T135433Z
LAST-MODIFIED:20190618T135433Z
UID:10007101-1563197400-1563224400@newsuat.fordham.edu
SUMMARY:12th Annual Fordham Track and Field Outing
DESCRIPTION:Please join head Fordham track and field coach Tom Dewey and Fordham track and field alumni at the 12th annual Fordham track and field alumni golf outing!
URL:https://newsuat.fordham.edu/event/12th-annual-fordham-track-and-field-outing/
LOCATION:Clearview Golf Course\, 202-12 Willets Point Blvd\, Bayside\, NY\, 11360\, United States
CATEGORIES:Athletics,Networking and Career
ORGANIZER;CN="Allison Griffin":MAILTO:agriffin29@fordham.edu
END:VEVENT
BEGIN:VEVENT
DTSTART;TZID=America/New_York:20190719T180000
DTEND;TZID=America/New_York:20190719T210000
DTSTAMP:20260425T091308
CREATED:20190715T200735Z
LAST-MODIFIED:20190715T200735Z
UID:10007114-1563559200-1563570000@newsuat.fordham.edu
SUMMARY:Loyola Institute for Spirituality Presents Finding God in the Dark
DESCRIPTION:During our month of celebration\, Loyola Institute for Spirituality is proud to offer two films to explore elements of Ignatian spirituality and the Spiritual Exercises. \nEnjoy the film\, reflection\, and discussion. Movie snacks (pizza\, popcorn\, and candy) will be provided. \nJuly 12: Up — Finding God in All Things \nJuly 19: Julie & Julia — Becoming a Contemplative in Action
URL:https://newsuat.fordham.edu/event/loyola-institute-for-spirituality-presents-finding-god-in-the-dark/
LOCATION:Spirituality Building\, 434 S. Batavia Street\, Orange\, CA\, 92868\, United States
CATEGORIES:Social,Spiritual and Service
ORGANIZER;CN="Loyola Institute for Spirituality":MAILTO:office@loyolainstitute.org
END:VEVENT
BEGIN:VEVENT
DTSTART;TZID=America/New_York:20190719T190000
DTEND;TZID=America/New_York:20190719T190000
DTSTAMP:20260425T091308
CREATED:20190314T132337Z
LAST-MODIFIED:20190314T132337Z
UID:10006981-1563562800-1563562800@newsuat.fordham.edu
SUMMARY:Alumni Chapter of Northern California: 2019 Mets vs. Giants
DESCRIPTION:Join San Francisco-area alumni as the San Francisco Giants host the New York Mets at Oracle Park. Only 16 tickets are available for our group\, so don’t miss out! \nSeats are located in the Club Level 231 down the left field line and cost $90 per ticket. Friends and family are welcome! Mark Di Giorgio will be in touch for payment upon your completion of the registration form (via the Join Us button below). \nThe ticket(s) you purchase will be mailed to you by the chapter via USPS. We are planning a pregame social at the outdoor patio on the Club Level—details forthcoming! \nRSVP by Monday\, July 1.
URL:https://newsuat.fordham.edu/event/alumni-chapter-of-northern-california-2019-mets-vs-giants/
LOCATION:Oracle Park\, 24 Willie Mays Plaza\, San Francisco\, CA\, 94107\, United States
CATEGORIES:Social
ORGANIZER;CN="Alumni Chapter of Northern California":MAILTO:markadigiorgio@att.net
END:VEVENT
BEGIN:VEVENT
DTSTART;VALUE=DATE:20190722
DTEND;VALUE=DATE:20190726
DTSTAMP:20260425T091308
CREATED:20190628T174653Z
LAST-MODIFIED:20190628T174653Z
UID:10007109-1563753600-1564099199@newsuat.fordham.edu
SUMMARY:The International Conference on Cyber Security (ICCS) 2019
DESCRIPTION:Insider threats. International cyber prosecution. Protecting the critical infrastructure. Red team experience. Blockchain and distributed ledger technology. Cyber risks to the election system. International investments in a cyber world. Smartphones and attacks on microprocessors. Cloud security. These are just a few of the challenges that will be addressed at the eighth International Conference on Cyber Security (ICCS). \nHeld every 18 months\, ICCS 2019 marks the 10th year this forum for professionals\, practitioners\, and leaders convenes to improve the detection\, mitigation\, and prevention of emerging cyber threats\, including cyber attacks and cyber exploitations. The conference will sell out\, so register early! \n#ICCS2019\n#ICCSNY
URL:https://newsuat.fordham.edu/event/the-international-conference-on-cyber-security-iccs-2019/
LOCATION:Law School\, Second Floor\, 150 West 62nd Street\, New York\, NY\, 10023\, United States
CATEGORIES:Conferences and Symposia,Lectures,Networking and Career
ATTACH;FMTTYPE=image/jpeg:https://newsuat.fordham.edu/wp-content/uploads/2019/06/2019-06-28-1.jpg
END:VEVENT
BEGIN:VEVENT
DTSTART;TZID=America/New_York:20190722T180000
DTEND;TZID=America/New_York:20190722T200000
DTSTAMP:20260425T091308
CREATED:20190715T201032Z
LAST-MODIFIED:20190715T201032Z
UID:10007113-1563818400-1563825600@newsuat.fordham.edu
SUMMARY:Loyola Institute for Spirituality: Jesuit Alumni Gathering
DESCRIPTION:You’re invited to a casual evening of fellowship and summer fun. Join local alumni of Jesuit colleges and universities as we celebrate the Class of 2019!
URL:https://newsuat.fordham.edu/event/loyola-institute-for-spirituality-jesuit-alumni-gathering/
LOCATION:Spirituality Building\, 434 S. Batavia Street\, Orange\, CA\, 92868\, United States
CATEGORIES:Social,Spiritual and Service
ORGANIZER;CN="Loyola Institute for Spirituality":MAILTO:office@loyolainstitute.org
END:VEVENT
BEGIN:VEVENT
DTSTART;TZID=America/New_York:20190724T183000
DTEND;TZID=America/New_York:20190724T210000
DTSTAMP:20260425T091308
CREATED:20190627T185422Z
LAST-MODIFIED:20190627T185422Z
UID:10007108-1563993000-1564002000@newsuat.fordham.edu
SUMMARY:Road to Reunion: Jubilee Kickoff
DESCRIPTION:Join your fellow Rams at the Princeton Club of New York to kick off your reunion year! Enjoy drink specials and games on the terrace while learning about your upcoming Jubilee—you can even sign up for your class’ Jubilee Committee. The evening is open to all alumni celebrating their reunion next June at Rose Hill (from classes ending in 0 and 5)\, including all Golden Rams.
URL:https://newsuat.fordham.edu/event/road-to-reunion-jubilee-kickoff/
LOCATION:Princeton Club of New York\, 15 W. 43rd St.\, 4th floor\, New York\, NY\, 10036\, United States
CATEGORIES:Receptions,Reunions,Social
ATTACH;FMTTYPE=image/jpeg:https://newsuat.fordham.edu/wp-content/uploads/2019/06/J20-Ram-Logo.jpg
ORGANIZER;CN="Michaela Shank":MAILTO:mshank@fordham.edu
END:VEVENT
BEGIN:VEVENT
DTSTART;TZID=America/New_York:20190729T093000
DTEND;TZID=America/New_York:20190729T203000
DTSTAMP:20260425T091308
CREATED:20190617T191614Z
LAST-MODIFIED:20190617T191614Z
UID:10007099-1564392600-1564432200@newsuat.fordham.edu
SUMMARY:Rescheduled 26th Annual Gridiron Golf Outing
DESCRIPTION:Join fellow Fordham football supporters on the links for the annual Gridiron Golf Outing! This is a great opportunity to catch up with fellow football fans and hear from Head Coach Joe Conlin! \nThis event was rescheduled from May 13 to July 29.
URL:https://newsuat.fordham.edu/event/rescheduled-26th-annual-gridiron-golf-outing/
LOCATION:Leewood Golf Club\, 1 Leewood Drive\, Eastchester\, NY\, 10709\, United States
CATEGORIES:Athletics,Receptions,Reunions
ORGANIZER;CN="Kara Field":MAILTO:kfield1@fordham.edu
END:VEVENT
BEGIN:VEVENT
DTSTART;TZID=America/New_York:20190730T190000
DTEND;TZID=America/New_York:20190730T220000
DTSTAMP:20260425T091308
CREATED:20190725T213224Z
LAST-MODIFIED:20190725T213224Z
UID:10007119-1564513200-1564524000@newsuat.fordham.edu
SUMMARY:Feast of St. Ignatius at Lake County Captains Game
DESCRIPTION:The Midwest Jesuits are sponsoring a great evening at the ballpark to commemorate the Feast of St. Ignatius. Together with local Jesuits\, guests will enjoy a minor league baseball game between the Lake County Captains and the Lansing Lugnuts.
URL:https://newsuat.fordham.edu/event/feast-of-st-ignatius-at-lake-county-captains-game/
LOCATION:Eastlake\, OH
CATEGORIES:Social,Spiritual and Religious Events
ORGANIZER;CN="Association of Jesuit Colleges and Universities":MAILTO:ndabrowski@jesuits.org
END:VEVENT
BEGIN:VEVENT
DTSTART;TZID=America/New_York:20190731T180000
DTEND;TZID=America/New_York:20190731T180000
DTSTAMP:20260425T091308
CREATED:20190725T213249Z
LAST-MODIFIED:20190725T213249Z
UID:10007122-1564596000-1564596000@newsuat.fordham.edu
SUMMARY:Annual Mass and Party in the Park
DESCRIPTION:Jesuit-educated alumni and friends in London are invited to attend a Mass and Party in the Park at Farm Street Church to celebrate the Feast of St. Ignatius!
URL:https://newsuat.fordham.edu/event/annual-mass-and-party-in-the-park/
LOCATION:Farm Street Church\, London\, United Kingdom
CATEGORIES:Social,Spiritual and Religious Events
ORGANIZER;CN="Association of Jesuit Colleges and Universities":MAILTO:ndabrowski@jesuits.org
END:VEVENT
BEGIN:VEVENT
DTSTART;TZID=America/New_York:20190731T180000
DTEND;TZID=America/New_York:20190731T210000
DTSTAMP:20260425T091308
CREATED:20190725T213051Z
LAST-MODIFIED:20190725T213051Z
UID:10007121-1564596000-1564606800@newsuat.fordham.edu
SUMMARY:IggyFest 2019
DESCRIPTION:OneJesuitBuffalo (together with Canisius College and several Jesuit ministries) is throwing a party to commemorate the Feast of St. Ignatius in downtown Buffalo. This is a family-friendly event and guests are encouraged to wear t-shirts and/or hats from their alma maters!
URL:https://newsuat.fordham.edu/event/iggyfest-2019/
LOCATION:St. Michael’s Church\, Saint Michaels Place\, Buffalo\, NY\, 14203\, United States
CATEGORIES:Receptions,Spiritual and Religious Events
ORGANIZER;CN="Association of Jesuit Colleges and Universities":MAILTO:ndabrowski@jesuits.org
END:VEVENT
END:VCALENDAR