BEGIN:VCALENDAR
VERSION:2.0
PRODID:-//Fordham Now - ECPv6.15.20//NONSGML v1.0//EN
CALSCALE:GREGORIAN
METHOD:PUBLISH
X-ORIGINAL-URL:https://newsuat.fordham.edu
X-WR-CALDESC:Events for Fordham Now
REFRESH-INTERVAL;VALUE=DURATION:PT1H
X-Robots-Tag:noindex
X-PUBLISHED-TTL:PT1H
BEGIN:VTIMEZONE
TZID:America/New_York
BEGIN:DAYLIGHT
TZOFFSETFROM:-0500
TZOFFSETTO:-0400
TZNAME:EDT
DTSTART:20180311T070000
END:DAYLIGHT
BEGIN:STANDARD
TZOFFSETFROM:-0400
TZOFFSETTO:-0500
TZNAME:EST
DTSTART:20181104T060000
END:STANDARD
BEGIN:DAYLIGHT
TZOFFSETFROM:-0500
TZOFFSETTO:-0400
TZNAME:EDT
DTSTART:20190310T070000
END:DAYLIGHT
BEGIN:STANDARD
TZOFFSETFROM:-0400
TZOFFSETTO:-0500
TZNAME:EST
DTSTART:20191103T060000
END:STANDARD
BEGIN:DAYLIGHT
TZOFFSETFROM:-0500
TZOFFSETTO:-0400
TZNAME:EDT
DTSTART:20200308T070000
END:DAYLIGHT
BEGIN:STANDARD
TZOFFSETFROM:-0400
TZOFFSETTO:-0500
TZNAME:EST
DTSTART:20201101T060000
END:STANDARD
END:VTIMEZONE
BEGIN:VEVENT
DTSTART;VALUE=DATE:20190531
DTEND;VALUE=DATE:20190603
DTSTAMP:20260425T110113
CREATED:20190220T195213Z
LAST-MODIFIED:20190220T195213Z
UID:10006932-1559260800-1559519999@newsuat.fordham.edu
SUMMARY:Jubilee 2019
DESCRIPTION:Come back to the Rose Hill campus for reunion weekend! We’ll be celebrating undergraduate schools with class years ending in 4 or 9\, as well as our Golden Rams and all Marymount\, Graduate School of Religion and Religious Education (GRE)\, and Graduate School of Arts and Sciences (GSAS) alumni.
URL:https://newsuat.fordham.edu/event/jubilee-2019/
LOCATION:Rose Hill Campus\, Fordham University\, The Bronx\, NY\, USA\, Bronx\, NY\, 10458\, United States
CATEGORIES:Receptions,Reunions,Social
ATTACH;FMTTYPE=image/png:https://newsuat.fordham.edu/wp-content/uploads/2019/02/Alumni-Calendar-Image-Template.png
GEO:40.861203;-73.8892181
X-APPLE-STRUCTURED-LOCATION;VALUE=URI;X-ADDRESS=Rose Hill Campus Fordham University The Bronx NY USA Bronx NY 10458 United States;X-APPLE-RADIUS=500;X-TITLE=Fordham University\, The Bronx\, NY\, USA:geo:-73.8892181,40.861203
END:VEVENT
BEGIN:VEVENT
DTSTART;VALUE=DATE:20190601
DTEND;VALUE=DATE:20190609
DTSTAMP:20260425T110113
CREATED:20190430T125252Z
LAST-MODIFIED:20190430T125252Z
UID:10007069-1559347200-1560038399@newsuat.fordham.edu
SUMMARY:Alumni GO! Mississippi
DESCRIPTION:Join Dean Rob Parmach and fellow alumni for a transformative week in rural Mississippi as an overnight camp counselor at Camp Friendship.
URL:https://newsuat.fordham.edu/event/alumni-go-mississippi/
LOCATION:Camp Friendship\, MS\, United States
CATEGORIES:Spiritual and Service,Travel,Volunteer
ATTACH;FMTTYPE=image/png:https://newsuat.fordham.edu/wp-content/uploads/2019/04/Alumni-Calendar-Image-Template-5.png
ORGANIZER;CN="Dean Rob Parmach":MAILTO:parmach@fordham.edu
END:VEVENT
BEGIN:VEVENT
DTSTART;TZID=America/New_York:20190601T100000
DTEND;TZID=America/New_York:20190601T120000
DTSTAMP:20260425T110113
CREATED:20190416T192101Z
LAST-MODIFIED:20190416T192101Z
UID:10007056-1559383200-1559390400@newsuat.fordham.edu
SUMMARY:LMSW Review Session at Lincoln Center
DESCRIPTION:Dean White-Ryan will be hosting this LMSW review session at the Lincoln Center campus. \nYou must sign up in advance with Kaitlynn Toro at ktoro2@fordham.edu. \nStudents are only allowed to attend one session.
URL:https://newsuat.fordham.edu/event/lmsw-review-session-at-lincoln-center-2/
LOCATION:Lincoln Center Campus\, McMahon Rm 109\, 113 W 60th St\, New York\, NY\, 10023\, United States
CATEGORIES:Lectures
ATTACH;FMTTYPE=image/jpeg:https://newsuat.fordham.edu/wp-content/uploads/2019/04/Fordham-LC-1028x516-1.jpg
END:VEVENT
BEGIN:VEVENT
DTSTART;TZID=America/New_York:20190602T113000
DTEND;TZID=America/New_York:20190602T113000
DTSTAMP:20260425T110113
CREATED:20190416T170005Z
LAST-MODIFIED:20190416T170005Z
UID:10007050-1559475000-1559475000@newsuat.fordham.edu
SUMMARY:Denver Jesuit Alumni Network: Rockies Game
DESCRIPTION:Join Denver-area Jesuit alumni for a Rockies game on Sunday\, June 2. \nThe game starts at 1:10 p.m.\, but we will be meeting at the rooftop bar at the Rockies Stadium at 11:30 for a pre-game happy hour! Deals include $3 12-ounce and $6 16-ounce craft beers before the first pitch. Come join us for this social hour to connect with other Jesuit alums. \nTickets need to be purchased by May 23\, as this is when our group link will close. Tickets are currently $23 per person\, but please be aware that ticket pricing through the Rockies is dynamic\, so it could increase at any time. Buy your tickets early to ensure you get the best deal.
URL:https://newsuat.fordham.edu/event/denver-jesuit-alumni-network-rockies-game/
LOCATION:Coors Field\, 2001 Blake Street\, Denver\, CO\, 80205\, United States
CATEGORIES:Athletics,Social
ORGANIZER;CN="Denver Jesuit Alumni Network":MAILTO:liz.cohen-printup@denjan.org
END:VEVENT
BEGIN:VEVENT
DTSTART;TZID=America/New_York:20190608T100000
DTEND;TZID=America/New_York:20190608T120000
DTSTAMP:20260425T110113
CREATED:20190416T192904Z
LAST-MODIFIED:20190416T192904Z
UID:10007057-1559988000-1559995200@newsuat.fordham.edu
SUMMARY:LMSW Review Session at Westchester
DESCRIPTION:Dean White-Ryan will be hosting this LMSW review session at the Westchester campus. \nYou must sign up in advance with Kaitlynn Toro at ktoro2@fordham.edu. \nStudents are only allowed to attend one session.
URL:https://newsuat.fordham.edu/event/lmsw-review-session-at-westchester/
LOCATION:Fordham University Westchester Campus Rm 117\, 400 Westchester Ave\, Rm 140\, West Harrison\, NY\, 10604\, United States
CATEGORIES:Lectures
ATTACH;FMTTYPE=image/jpeg:https://newsuat.fordham.edu/wp-content/uploads/2019/04/Fordham-Westchester-1040x504.jpg
END:VEVENT
BEGIN:VEVENT
DTSTART;TZID=America/New_York:20190608T120000
DTEND;TZID=America/New_York:20190608T160000
DTSTAMP:20260425T110113
CREATED:20190301T143910Z
LAST-MODIFIED:20190301T143910Z
UID:10006964-1559995200-1560009600@newsuat.fordham.edu
SUMMARY:Alumni Chapter of Long Island: 2019 Kayaking and Lunch
DESCRIPTION:Alumni\, family\, and friends are invited to paddle out of Empire Kayaks into Middle Bay on Long Island’s South Shore. After kayaking\, our group will walk down the block to Peter’s Clam Bar (600 Long Beach Road\, Island Park\, New York) for a seafood lunch. \nPlease note: All rentals must be paid in cash to Empire Kayaks on the day of the event. The cost of kayak rentals is $20 for a single per hour\, $25 for a performance kayak per hour\, or $30 for a double per hour. Please specify your preference in your registration. We will meet at noon and hit the water from 12:30 to 2 p.m. \nFood and refreshments can be purchased directly from Peter’s Clam Bar (the cost of lunch depends on how hungry you are!). \nSpace is limited. RSVP by June 6\, 2019.
URL:https://newsuat.fordham.edu/event/alumni-chapter-of-long-island-2019-kayaking-and-lunch/
LOCATION:Empire Kayaks\, 4 Empire Boulevard\, Island Park\, NY\, 11558\, United States
CATEGORIES:Social
ORGANIZER;CN="Phil Cicione":MAILTO:phillipcicione@gmail.com
END:VEVENT
BEGIN:VEVENT
DTSTART;TZID=America/New_York:20190609T130000
DTEND;TZID=America/New_York:20190609T130000
DTSTAMP:20260425T110113
CREATED:20190206T141742Z
LAST-MODIFIED:20190206T141742Z
UID:10006895-1560085200-1560085200@newsuat.fordham.edu
SUMMARY:Alumni Chapter of Boston: 2019 Red Sox vs. Rays
DESCRIPTION:Catch a game at Fenway while you catch up with New England-area Rams! Join us as the Red Sox take on the Tampa Bay Rays. \nTickets are $43 per person and seats are located in the upper bleachers\, section 41. Don’t miss an afternoon with Fordham alumni. Only 20 tickets are available for our group\, so purchase yours today!
URL:https://newsuat.fordham.edu/event/alumni-chapter-of-boston-2019-red-sox-vs-rays/
LOCATION:Fenway Park\, 4 Yawkey Way\, Boston\, MA\, 02215\, United States
CATEGORIES:Social
ORGANIZER;CN="Alumni Chapter of Boston":MAILTO:jpellegrini28@gmail.com
GEO:42.3458436;-71.0987819
X-APPLE-STRUCTURED-LOCATION;VALUE=URI;X-ADDRESS=Fenway Park 4 Yawkey Way Boston MA 02215 United States;X-APPLE-RADIUS=500;X-TITLE=4 Yawkey Way:geo:-71.0987819,42.3458436
END:VEVENT
BEGIN:VEVENT
DTSTART;TZID=America/New_York:20190611T180000
DTEND;TZID=America/New_York:20190611T193000
DTSTAMP:20260425T110113
CREATED:20190415T190958Z
LAST-MODIFIED:20190415T190958Z
UID:10007048-1560276000-1560281400@newsuat.fordham.edu
SUMMARY:2019 Albany Presidential Reception
DESCRIPTION:Joseph M. McShane\, S.J.\, president of Fordham University\, and the state legislative alumni of Fordham University cordially request the honor of your presence at the 2019 Albany Presidential Reception. \nFORDHAM UNIVERSITY ALUMNI ELECTED TO SERVE THE STATE OF NEW YORK\nThe Honorable Andrew M. Cuomo\, FCRH ’79\nGovernor of the State of New York \nNEW YORK STATE LEGISLATURE\nThe Honorable Thomas J. Abinanti\, FCRH ’68\nThe Honorable Alessandra Biaggi\, LAW ’12\nThe Honorable Neil Breslin\, FCRH ’64\nThe Honorable Carmen de la Rosa\, FCRH ’07\nThe Honorable Michael N. Gianaris\, FCLC ’90\nThe Honorable Deborah J. Glick\, GABELLI ’81\nThe Honorable Ellen Jaffee\, GSE ’80\nThe Honorable Andrew Lanza\, LAW ’92\nThe Honorable Zellnor Myrie\, FCRH ’08\, GSAS ’13\nThe Honorable Jo Anne Simon\, LAW ’90\nThe Honorable Aravella Simotas\, FCLC ’99\, LAW ’02\nThe Honorable Jamie R. Williams\, GSS ’12 \nNEW YORK STATE SENATE AND ASSEMBLY REPRESENTATIVES\nRose Hill\nThe Honorable Alessandra Biaggi\, LAW ’12\nThe Honorable José Rivera \nLincoln Center\nThe Honorable Brad Hoylman\nThe Honorable Linda Rosenthal \nWestchester\nThe Honorable Shelley Mayer\nThe Honorable David Buchwald
URL:https://newsuat.fordham.edu/event/2019-albany-presidential-reception/
LOCATION:Corning Tower Observation Deck\, Empire State Plaza\, Concourse Level\, Albany\, NY\, 12237\, United States
CATEGORIES:Receptions
ATTACH;FMTTYPE=image/jpeg:https://newsuat.fordham.edu/wp-content/uploads/2019/04/Albany-2.jpg
ORGANIZER;CN="Ainsley Kelley":MAILTO:akelley6@fordham.edu
END:VEVENT
BEGIN:VEVENT
DTSTART;TZID=America/New_York:20190611T183000
DTEND;TZID=America/New_York:20190611T203000
DTSTAMP:20260425T110113
CREATED:20190528T141040Z
LAST-MODIFIED:20190528T141040Z
UID:10007088-1560277800-1560285000@newsuat.fordham.edu
SUMMARY:Alumni Chapter of Dallas: Spring Happy Hour
DESCRIPTION:Come get to know your fellow Dallas-area Rams! Join us for a casual happy hour at Bar Louie at the Shops on Park Lane. Appetizers will be provided\, and happy hour drink prices will be available. \nRSVP by Monday\, June 10\, 2019.
URL:https://newsuat.fordham.edu/event/alumni-chapter-of-dallas-spring-happy-hour/
LOCATION:Bar Louie\, 8166 Park Lane\, Suite C310\, Dallas\, 75231\, United States
CATEGORIES:Social
ORGANIZER;CN="Alumni Chapter of Dallas":MAILTO:tanner@hartnettlawfirm.com
END:VEVENT
BEGIN:VEVENT
DTSTART;TZID=America/New_York:20190612T160000
DTEND;TZID=America/New_York:20190612T180000
DTSTAMP:20260425T110113
CREATED:20190416T193058Z
LAST-MODIFIED:20190416T193058Z
UID:10007058-1560355200-1560362400@newsuat.fordham.edu
SUMMARY:LMSW Review Session at Westchester
DESCRIPTION:Dean White-Ryan will be hosting this LMSW review session at the Westchester campus. \nYou must sign up in advance with Kaitlynn Toro at ktoro2@fordham.edu. \nStudents are only allowed to attend one session
URL:https://newsuat.fordham.edu/event/lmsw-review-session-at-westchester-2/
LOCATION:Fordham University Westchester Campus Rm 117\, 400 Westchester Ave\, Rm 117\, West Harrison\, NY\, 10604\, United States
CATEGORIES:Lectures
ATTACH;FMTTYPE=image/jpeg:https://newsuat.fordham.edu/wp-content/uploads/2019/04/Fordham-Westchester-1040x504-1.jpg
END:VEVENT
BEGIN:VEVENT
DTSTART;TZID=America/New_York:20190612T170000
DTEND;TZID=America/New_York:20190612T220000
DTSTAMP:20260425T110113
CREATED:20190220T201650Z
LAST-MODIFIED:20190220T201650Z
UID:10006933-1560358800-1560376800@newsuat.fordham.edu
SUMMARY:Block Party at Lincoln Center 2019
DESCRIPTION:The Block Party reunion celebrates all alumni from Fordham College at Lincoln Center\, the Gabelli School of Business (undergraduate and graduate)\, the Graduate School of Education\, the Graduate School of Social Service\, and the Fordham College of Professional and Continuing Studies. Start the evening off at your school-specific reception\, mingling with classmates and faculty\, then join the fun on the Plaza where alumni from all five Lincoln Center schools will dance the night away.
URL:https://newsuat.fordham.edu/event/block-party-at-lincoln-center-2019/
LOCATION:Lincoln Center Campus\, 113 West 60th Street\, New York\, NY\, 10023\, United States
CATEGORIES:Receptions,Reunions,Social
ATTACH;FMTTYPE=image/png:https://newsuat.fordham.edu/wp-content/uploads/2019/02/Alumni-Calendar-Image-Template-1.png
GEO:40.7708109;-73.9851512
X-APPLE-STRUCTURED-LOCATION;VALUE=URI;X-ADDRESS=Lincoln Center Campus 113 West 60th Street New York NY 10023 United States;X-APPLE-RADIUS=500;X-TITLE=113 West 60th Street:geo:-73.9851512,40.7708109
END:VEVENT
BEGIN:VEVENT
DTSTART;TZID=America/New_York:20190612T170000
DTEND;TZID=America/New_York:20190612T220000
DTSTAMP:20260425T110113
CREATED:20190416T194815Z
LAST-MODIFIED:20190416T194815Z
UID:10007061-1560358800-1560376800@newsuat.fordham.edu
SUMMARY:2019 GSS Reunion Block Party at Lincoln Center
DESCRIPTION:Join your fellow alumni and faculty at the annual Graduate School of Social Service (GSS) Alumni Reunion. Start the night with live jazz in the Lowenstein Center’s Pope Auditorium\, then move to the Bateman Room in the Law School to enjoy an evening of networking\, tasty food and drinks\, and comments from Father Joseph M. McShane\, S.J.\, president of Fordham University. \nFollowing the GSS reunion\, all alumni are invited to the Plaza for the Block Party at Lincoln Center celebration. Join alumni from five Fordham schools and dance the night away under the stars! \nA special early bird discount is available\, so register now and be part of the biggest party of the summer. Get your tickets by April 30 and pay only $25 for the entire evening! \n5 – 6 p.m. Jazz Performance\n6 – 8 p.m. GSS Reunion\n8 – 10 p.m. Block Party \n 
URL:https://newsuat.fordham.edu/event/2019-gss-reunion-block-party-at-lincoln-center/
LOCATION:Lincoln Center Campus\, 113 West 60th Street\, New York\, NY\, 10023\, United States
CATEGORIES:Reunions
ATTACH;FMTTYPE=image/png:https://newsuat.fordham.edu/wp-content/uploads/2019/04/Block-Party.png
ORGANIZER;CN="Fordham University":MAILTO:blockparty@fordham.edu
GEO:40.7708109;-73.9851512
X-APPLE-STRUCTURED-LOCATION;VALUE=URI;X-ADDRESS=Lincoln Center Campus 113 West 60th Street New York NY 10023 United States;X-APPLE-RADIUS=500;X-TITLE=113 West 60th Street:geo:-73.9851512,40.7708109
END:VEVENT
BEGIN:VEVENT
DTSTART;TZID=America/New_York:20190612T180000
DTEND;TZID=America/New_York:20190612T203000
DTSTAMP:20260425T110113
CREATED:20190524T131304Z
LAST-MODIFIED:20190524T131304Z
UID:10007087-1560362400-1560371400@newsuat.fordham.edu
SUMMARY:Alumni Chapter of the Hudson Valley: Tips from the Credit Union
DESCRIPTION:Please join the Alumni Chapter of the Hudson Valley and representatives from Fordham’s credit union\, Academic Federal Credit Union\, for this important panel discussion. \nThis discussion will cover: \n\ncredit and debt management\nbanks vs. credit unions\ncredit report dos and don’ts\ndebt management and achieving financial freedom\nmortgage payments—learn how you can pay off the house and enjoy your home\ncar debt and financing with a credit union\nstudent loans—before and after you cosign\n\nThere will be time for a Q&A with panelists. Refreshments will be available.
URL:https://newsuat.fordham.edu/event/alumni-chapter-of-the-hudson-valley-tips-from-the-credit-union/
LOCATION:Fordham University Westchester Campus Rm 140\, 400 Westchester Ave\, Room 140\, West Harrison\, NY\, 10604\, United States
CATEGORIES:Lectures,Social
ORGANIZER;CN="Alumni Chapter of the Hudson Valley":MAILTO:hudsonvalleyfordhamchapter@gmail.com
END:VEVENT
BEGIN:VEVENT
DTSTART;TZID=America/New_York:20190615T093000
DTEND;TZID=America/New_York:20190615T173000
DTSTAMP:20260425T110113
CREATED:20190328T143823Z
LAST-MODIFIED:20190328T143823Z
UID:10007016-1560591000-1560619800@newsuat.fordham.edu
SUMMARY:2019 Fordham Alumni and Friends Retreat at Rose Hill
DESCRIPTION:Join us at Rose Hill for our annual Alumni and Friends Retreat based on Ignatian spirituality. The retreat will be led by Fr. Peter Schineller\, S.J. \nThis event costs $40 per person\, including a light breakfast and lunch. \nFree parking is available on campus. Please let the guard at the gate know you are attending the Alumni Retreat. \nRegistration will close on Thursday\, June 13.
URL:https://newsuat.fordham.edu/event/2019-fordham-alumni-and-friends-retreat-at-rose-hill/
LOCATION:Bepler Commons\, Faber Hall\, 441 East Fordham Road\, Bronx\, NY\, 10458\, United States
CATEGORIES:Spiritual and Religious Events,Spiritual and Service
ORGANIZER;CN="Father Daniel Gatti%2C S.J.":MAILTO:dgatti@fordham.edu
GEO:40.8612275;-73.8892354
X-APPLE-STRUCTURED-LOCATION;VALUE=URI;X-ADDRESS=Bepler Commons Faber Hall 441 East Fordham Road Bronx NY 10458 United States;X-APPLE-RADIUS=500;X-TITLE=441 East Fordham Road:geo:-73.8892354,40.8612275
END:VEVENT
BEGIN:VEVENT
DTSTART;TZID=America/New_York:20190617T103000
DTEND;TZID=America/New_York:20190617T120000
DTSTAMP:20260425T110113
CREATED:20190612T151359Z
LAST-MODIFIED:20190612T151359Z
UID:10007096-1560767400-1560772800@newsuat.fordham.edu
SUMMARY:NYC Commission on Human Rights Event at Fordham University
DESCRIPTION:Join us for a presentation featuring Vanessa Ramos\, managing director for education\, restorative justice\, and development for the NYC Commission on Human Rights\, and Doreen Bermudez\, managing director for programming and strategic planning for the NYC Commission on Human Rights. \nThe presentation will provide an overview of the New York City Human Rights Law\, along with the five areas covered under the law: \nEmployment\nHousing\nPublic Accommodations\nDiscriminatory Harassment\nBias-profiling by Law Enforcement \nA luncheon will immediately follow.
URL:https://newsuat.fordham.edu/event/nyc-commission-on-human-rights-event-at-fordham-university/
LOCATION:McGinley Lobby\, 441 East Fordham Road\, Bronx\, NY\, 10458\, United States
CATEGORIES:Lectures
ORGANIZER;CN="Human Resources":MAILTO:hr@fordham.edu
GEO:40.8612275;-73.8892354
X-APPLE-STRUCTURED-LOCATION;VALUE=URI;X-ADDRESS=McGinley Lobby 441 East Fordham Road Bronx NY 10458 United States;X-APPLE-RADIUS=500;X-TITLE=441 East Fordham Road:geo:-73.8892354,40.8612275
END:VEVENT
BEGIN:VEVENT
DTSTART;TZID=America/New_York:20190619T160000
DTEND;TZID=America/New_York:20190619T180000
DTSTAMP:20260425T110113
CREATED:20190416T191633Z
LAST-MODIFIED:20190416T191633Z
UID:10007055-1560960000-1560967200@newsuat.fordham.edu
SUMMARY:LMSW Review Session at Lincoln Center
DESCRIPTION:Dean White-Ryan will be hosting this LMSW review session at the Lincoln Center campus. \nYou must sign up in advance with Kaitlynn Toro at ktoro2@fordham.edu. \nStudents are only allowed to attend one session.
URL:https://newsuat.fordham.edu/event/lmsw-review-session-at-lincoln-center/
LOCATION:Lincoln Center Campus\, McMahon Rm 109\, 113 W 60th St\, New York\, NY\, 10023\, United States
CATEGORIES:Lectures
ATTACH;FMTTYPE=image/jpeg:https://newsuat.fordham.edu/wp-content/uploads/2019/04/Fordham-LC-1028x516.jpg
END:VEVENT
BEGIN:VEVENT
DTSTART;TZID=America/New_York:20190620T183000
DTEND;TZID=America/New_York:20190620T203000
DTSTAMP:20260425T110113
CREATED:20190605T135118Z
LAST-MODIFIED:20190605T135118Z
UID:10007094-1561055400-1561062600@newsuat.fordham.edu
SUMMARY:SGP Summer Reception
DESCRIPTION:Missed our kickoff event? No worries! Come join us for a summer reunion of Student Government and Programming alumni and help welcome the new 2019 graduates to our chapter! \nReconnect with classmates and meet fellow #FordhamSGP alumni! \nEarly bird pricing of $25 is offered through June 12 and then goes to $30 from June 13 through the June 19. Same-day registration is $35. Registration includes an open bar of happy hour cocktails and a selection of wine and beer\, as well as some light bites. Save money and register early! \nWe look forward to seeing you all there!
URL:https://newsuat.fordham.edu/event/sgp-summer-reception/
LOCATION:Reunion Surf Bar\, 357 W 44th Street\, New York\, NY\, 10036\, United States
CATEGORIES:Receptions,Reunions
ATTACH;FMTTYPE=image/png:https://newsuat.fordham.edu/wp-content/uploads/2019/06/Event-Page-Image.png
ORGANIZER;CN="Taylor Palmer":MAILTO:tpalmer7@fordham.edu
END:VEVENT
BEGIN:VEVENT
DTSTART;TZID=America/New_York:20190621T083000
DTEND;TZID=America/New_York:20190621T180000
DTSTAMP:20260425T110113
CREATED:20190613T200240Z
LAST-MODIFIED:20190613T200240Z
UID:10007097-1561105800-1561140000@newsuat.fordham.edu
SUMMARY:Design for Humanity Summit II
DESCRIPTION:The second Design for Humanity Summit at Fordham University\, hosted by the Institute of International Humanitarian Affairs (IIHA) and the International Organization for Migration (IOM)\, will explore the intersection of design and humanitarian action for dignified crisis response. \nProminent humanitarians and designers will present innovative ideas and projects that aim to foster inclusion\, dignity\, beauty\, and integration for people uprooted by emergencies as they rebuild their lives after crises. \nSee the full list of speakers and agenda at www.design4humanity.org. \nStudents and Fordham staff and faculty free with a valid ID.
URL:https://newsuat.fordham.edu/event/design-for-humanity-summit-ii/
LOCATION:McNally Amphitheatre\, 140 West 62nd Street\, New York\, NY\, 10023\, United States
CATEGORIES:Conferences and Symposia
ATTACH;FMTTYPE=image/jpeg:https://newsuat.fordham.edu/wp-content/uploads/2019/06/547498A8-D4C2-41AB-B0E1-76DBC36843A8.jpeg
ORGANIZER;CN="Institute of International Humanitarian Affairs":MAILTO:iiha@fordham.edu 
GEO:40.7713958;-73.9844894
X-APPLE-STRUCTURED-LOCATION;VALUE=URI;X-ADDRESS=McNally Amphitheatre 140 West 62nd Street New York NY 10023 United States;X-APPLE-RADIUS=500;X-TITLE=140 West 62nd Street:geo:-73.9844894,40.7713958
END:VEVENT
BEGIN:VEVENT
DTSTART;TZID=America/New_York:20190621T093000
DTEND;TZID=America/New_York:20190621T113000
DTSTAMP:20260425T110113
CREATED:20190618T143237Z
LAST-MODIFIED:20190618T143237Z
UID:10007102-1561109400-1561116600@newsuat.fordham.edu
SUMMARY:Working with Transgender and Gender-Nonconforming Persons
DESCRIPTION:Orlando Torres\, associate human rights specialist\, and Chanel Lopez\, transgender communities liaison\, both from the NYC Commission on Human Rights\, will discuss protections for transgender and gender-nonconforming persons as it relates to the law. Terminology of gender identity and expression will be reviewed\, as well as best practices and case scenarios.
URL:https://newsuat.fordham.edu/event/working-with-transgender-and-gender-non-conforming-persons/
LOCATION:McGinley Lobby\, 441 East Fordham Road\, Bronx\, NY\, 10458\, United States
CATEGORIES:Lectures
ORGANIZER;CN="Human Resources":MAILTO:hr@fordham.edu
GEO:40.8612275;-73.8892354
X-APPLE-STRUCTURED-LOCATION;VALUE=URI;X-ADDRESS=McGinley Lobby 441 East Fordham Road Bronx NY 10458 United States;X-APPLE-RADIUS=500;X-TITLE=441 East Fordham Road:geo:-73.8892354,40.8612275
END:VEVENT
BEGIN:VEVENT
DTSTART;TZID=America/New_York:20190626T173000
DTEND;TZID=America/New_York:20190626T173000
DTSTAMP:20260425T110113
CREATED:20190529T125920Z
LAST-MODIFIED:20190529T125920Z
UID:10007091-1561570200-1561570200@newsuat.fordham.edu
SUMMARY:Alumni Chapter of Philadelphia: 2019 Phillies Baseball Game
DESCRIPTION:Join Philadelphia alumni as the Phillies take on the New York Mets. Only 25 tickets are available for our group\, so don’t miss out! Seats are located in the Pavilion (section 203). \nTickets cost $27 per person. \nPrior to the game\, alumni and guests are invited to meet at Pass and Stow\, a beer garden located inside the stadium at the third base gate (section 128) of Citizens Bank Park. Attendees can purchase food and drinks directly from Pass and Stow.
URL:https://newsuat.fordham.edu/event/alumni-chapter-of-philadelphia-2019-phillies-baseball-game/
LOCATION:Citizens Bank Park\, 1 Citizens Bank Way\, Philadelphia\, PA\, 19148\, United States
CATEGORIES:Social
ORGANIZER;CN="Alumni Chapter of Philadelphia":MAILTO:ryanhultman@gmail.com
END:VEVENT
BEGIN:VEVENT
DTSTART;TZID=America/New_York:20190626T190000
DTEND;TZID=America/New_York:20190626T203000
DTSTAMP:20260425T110113
CREATED:20190529T132451Z
LAST-MODIFIED:20190529T132451Z
UID:10007090-1561575600-1561581000@newsuat.fordham.edu
SUMMARY:LGBTQ+ Catholic Activism: A Global Conversation
DESCRIPTION:The Fordham University Department of Theology and the Church of St. Francis Xavier present “LGBTQ+ Catholic Activism: A Global Conversation” in honor of the 50th anniversary of the Stonewall Riots and World Pride 2019. The panel conversation will include activists from around the world. \nThe Catholic Church is undergoing a period of revolutionary change in its relationship to the LGBTQ+ community. Parishes and dioceses around the world are discerning and implementing new forms of pastoral ministry and advocacy on behalf of the LGBTQ+ Catholic community. What does this movement look like outside of the U.S.? How can members of the LGBTQ+ community in the U.S. support activists around the world?
URL:https://newsuat.fordham.edu/event/lgbtq-catholic-activism-a-global-conversation/
LOCATION:12th-Floor Lounge\, Corrigan Conference Center\, Lowenstein Center\, Lincoln Center Campus\, 113 W. 60th St.\, New York\, NY\, 10023\, United States
CATEGORIES:Lectures
ORGANIZER;CN="Fordham Department of Theology":MAILTO:theology@fordham.edu
GEO:40.7710994;-73.9852715
X-APPLE-STRUCTURED-LOCATION;VALUE=URI;X-ADDRESS=12th-Floor Lounge Corrigan Conference Center Lowenstein Center Lincoln Center Campus 113 W. 60th St. New York NY 10023 United States;X-APPLE-RADIUS=500;X-TITLE=Lincoln Center Campus\, 113 W. 60th St.:geo:-73.9852715,40.7710994
END:VEVENT
BEGIN:VEVENT
DTSTART;TZID=America/New_York:20190627T173000
DTEND;TZID=America/New_York:20190627T173000
DTSTAMP:20260425T110113
CREATED:20190522T131642Z
LAST-MODIFIED:20190522T131642Z
UID:10007085-1561656600-1561656600@newsuat.fordham.edu
SUMMARY:Alumni Chapter of Westchester: Summer Wine Tasting
DESCRIPTION:Please join the Alumni Chapter of Westchester as fellow alumni and certified sommelier Mamie Fennimore\, FCRH ’16\, help us kick off the summer season with a wine tasting. \nThis event costs $30 per person and includes the wine tasting and a selection of food. \nRSVP by Wednesday\, June 26\, 2019.
URL:https://newsuat.fordham.edu/event/alumni-chapter-of-westchester-summer-wine-tasting/
LOCATION:Westchester Campus Courtyard\, 400 Westchester Avenue\, New York\, NY\, 10604\, United States
CATEGORIES:Receptions,Social
ORGANIZER;CN="Alumni Chapter of Westchester":MAILTO:fordhamalumniwestchester@gmail.com
GEO:41.0295103;-73.7287388
X-APPLE-STRUCTURED-LOCATION;VALUE=URI;X-ADDRESS=Westchester Campus Courtyard 400 Westchester Avenue New York NY 10604 United States;X-APPLE-RADIUS=500;X-TITLE=400 Westchester Avenue:geo:-73.7287388,41.0295103
END:VEVENT
BEGIN:VEVENT
DTSTART;VALUE=DATE:20190630
DTEND;VALUE=DATE:20190701
DTSTAMP:20260425T110113
CREATED:20190529T130657Z
LAST-MODIFIED:20190529T130657Z
UID:10007089-1561852800-1561939199@newsuat.fordham.edu
SUMMARY:Rainbow Rams: 50th Annual NYC Pride
DESCRIPTION:Come march with the Rainbow Rams in the 50th Annual NYC Pride March! This year\, NYC is hosting World Pride\, the largest Pride event in the world\, so it’s going to be spectacular.
URL:https://newsuat.fordham.edu/event/rainbow-rams-50th-annual-nyc-pride/
LOCATION:NY
CATEGORIES:Social
ATTACH;FMTTYPE=image/png:https://newsuat.fordham.edu/wp-content/uploads/2019/05/Pride-2019-News-Photo-1.png
END:VEVENT
END:VCALENDAR