BEGIN:VCALENDAR
VERSION:2.0
PRODID:-//Fordham Now - ECPv6.15.20//NONSGML v1.0//EN
CALSCALE:GREGORIAN
METHOD:PUBLISH
X-WR-CALNAME:Fordham Now
X-ORIGINAL-URL:https://newsuat.fordham.edu
X-WR-CALDESC:Events for Fordham Now
REFRESH-INTERVAL;VALUE=DURATION:PT1H
X-Robots-Tag:noindex
X-PUBLISHED-TTL:PT1H
BEGIN:VTIMEZONE
TZID:America/New_York
BEGIN:DAYLIGHT
TZOFFSETFROM:-0500
TZOFFSETTO:-0400
TZNAME:EDT
DTSTART:20220313T070000
END:DAYLIGHT
BEGIN:STANDARD
TZOFFSETFROM:-0400
TZOFFSETTO:-0500
TZNAME:EST
DTSTART:20221106T060000
END:STANDARD
BEGIN:DAYLIGHT
TZOFFSETFROM:-0500
TZOFFSETTO:-0400
TZNAME:EDT
DTSTART:20230312T070000
END:DAYLIGHT
BEGIN:STANDARD
TZOFFSETFROM:-0400
TZOFFSETTO:-0500
TZNAME:EST
DTSTART:20231105T060000
END:STANDARD
BEGIN:DAYLIGHT
TZOFFSETFROM:-0500
TZOFFSETTO:-0400
TZNAME:EDT
DTSTART:20240310T070000
END:DAYLIGHT
BEGIN:STANDARD
TZOFFSETFROM:-0400
TZOFFSETTO:-0500
TZNAME:EST
DTSTART:20241103T060000
END:STANDARD
END:VTIMEZONE
BEGIN:VEVENT
DTSTART;TZID=America/New_York:20230422T130000
DTEND;TZID=America/New_York:20230422T150000
DTSTAMP:20260423T233839
CREATED:20230328T190527Z
LAST-MODIFIED:20230328T190527Z
UID:10005057-1682168400-1682175600@newsuat.fordham.edu
SUMMARY:Community Earth Day Celebration
DESCRIPTION:Pedro Arrupe Volunteers (PAV) is inviting clubs\, residence halls\, and community partners to offer an activity\, science experiment\, or event focused on environmental care\, wellness\, and healthy living and eating to kids grades K through three from the local Bronx community. \nIdeas include coloring pages\, field day activities\, offering healthy foods and wellness programs\, discussing climate change impact\, planting seeds\, conducting science experiments\, Earth Day giveaways\, and more. \nIn addition\, we are looking for general volunteers to welcome pre-registered children to campus\, help set up various stations\, sign in children\, escort them to Eddies Parade\, and help them have a great time! \nHelp us teach kids to care for the Earth and themselves! Everyone is encouraged to come and celebrate the Earth and healthy life!
URL:https://newsuat.fordham.edu/event/community-earth-day-celebration/
LOCATION:Edwards Parade\, 441 East Fordham Road\, Bronx\, NY\, 10458\, United States
CATEGORIES:Volunteer,Wellness
ORGANIZER;CN="Campus Ministry":MAILTO:cm@fordham.edu
GEO:40.8612275;-73.8892354
X-APPLE-STRUCTURED-LOCATION;VALUE=URI;X-ADDRESS=Edwards Parade 441 East Fordham Road Bronx NY 10458 United States;X-APPLE-RADIUS=500;X-TITLE=441 East Fordham Road:geo:-73.8892354,40.8612275
END:VEVENT
END:VCALENDAR