BEGIN:VCALENDAR
VERSION:2.0
PRODID:-//Fordham Now - ECPv6.15.20//NONSGML v1.0//EN
CALSCALE:GREGORIAN
METHOD:PUBLISH
X-ORIGINAL-URL:https://newsuat.fordham.edu
X-WR-CALDESC:Events for Fordham Now
REFRESH-INTERVAL;VALUE=DURATION:PT1H
X-Robots-Tag:noindex
X-PUBLISHED-TTL:PT1H
BEGIN:VTIMEZONE
TZID:America/New_York
BEGIN:DAYLIGHT
TZOFFSETFROM:-0500
TZOFFSETTO:-0400
TZNAME:EDT
DTSTART:20200308T070000
END:DAYLIGHT
BEGIN:STANDARD
TZOFFSETFROM:-0400
TZOFFSETTO:-0500
TZNAME:EST
DTSTART:20201101T060000
END:STANDARD
BEGIN:DAYLIGHT
TZOFFSETFROM:-0500
TZOFFSETTO:-0400
TZNAME:EDT
DTSTART:20210314T070000
END:DAYLIGHT
BEGIN:STANDARD
TZOFFSETFROM:-0400
TZOFFSETTO:-0500
TZNAME:EST
DTSTART:20211107T060000
END:STANDARD
BEGIN:DAYLIGHT
TZOFFSETFROM:-0500
TZOFFSETTO:-0400
TZNAME:EDT
DTSTART:20220313T070000
END:DAYLIGHT
BEGIN:STANDARD
TZOFFSETFROM:-0400
TZOFFSETTO:-0500
TZNAME:EST
DTSTART:20221106T060000
END:STANDARD
END:VTIMEZONE
BEGIN:VEVENT
DTSTART;TZID=America/New_York:20210909T173000
DTEND;TZID=America/New_York:20210909T183000
DTSTAMP:20260425T080120
CREATED:20210820T175250Z
LAST-MODIFIED:20210820T175250Z
UID:10004393-1631208600-1631212200@newsuat.fordham.edu
SUMMARY:September Career Workshop: Your Extraordinary Energy
DESCRIPTION:Does your energy shift from day to day? How about moment to moment? With all that is going on in the world\, it makes complete sense that you might be experiencing pendulum shifts in your energy. It turns out there are seven levels of energy\, and understanding what they are and when you employ them may help you move away from the ones that make you feel stressed and anxious and toward the ones that build you up and help you feel more joy. \nThis presentation\, led by Marymount alumna Molly McAllister\, will help you unlock the power you hold within by raising your awareness around the seven levels of energy. You will leave the presentation with practical\, in-the-moment advice on how to apply your knowledge immediately.
URL:https://newsuat.fordham.edu/event/september-career-workshop-your-extraordinary-energy/
LOCATION:Zoom
CATEGORIES:Networking and Career,Wellness
ORGANIZER;CN="Sara Hunt Munoz":MAILTO:shunt@fordham.edu
END:VEVENT
END:VCALENDAR