BEGIN:VCALENDAR
VERSION:2.0
PRODID:-//Fordham Now - ECPv6.15.20//NONSGML v1.0//EN
CALSCALE:GREGORIAN
METHOD:PUBLISH
X-WR-CALNAME:Fordham Now
X-ORIGINAL-URL:https://newsuat.fordham.edu
X-WR-CALDESC:Events for Fordham Now
REFRESH-INTERVAL;VALUE=DURATION:PT1H
X-Robots-Tag:noindex
X-PUBLISHED-TTL:PT1H
BEGIN:VTIMEZONE
TZID:America/New_York
BEGIN:DAYLIGHT
TZOFFSETFROM:-0500
TZOFFSETTO:-0400
TZNAME:EDT
DTSTART:20200308T070000
END:DAYLIGHT
BEGIN:STANDARD
TZOFFSETFROM:-0400
TZOFFSETTO:-0500
TZNAME:EST
DTSTART:20201101T060000
END:STANDARD
BEGIN:DAYLIGHT
TZOFFSETFROM:-0500
TZOFFSETTO:-0400
TZNAME:EDT
DTSTART:20210314T070000
END:DAYLIGHT
BEGIN:STANDARD
TZOFFSETFROM:-0400
TZOFFSETTO:-0500
TZNAME:EST
DTSTART:20211107T060000
END:STANDARD
BEGIN:DAYLIGHT
TZOFFSETFROM:-0500
TZOFFSETTO:-0400
TZNAME:EDT
DTSTART:20220313T070000
END:DAYLIGHT
BEGIN:STANDARD
TZOFFSETFROM:-0400
TZOFFSETTO:-0500
TZNAME:EST
DTSTART:20221106T060000
END:STANDARD
END:VTIMEZONE
BEGIN:VEVENT
DTSTART;TZID=America/New_York:20210315T180000
DTEND;TZID=America/New_York:20210315T190000
DTSTAMP:20260425T181510
CREATED:20210305T145935Z
LAST-MODIFIED:20210305T145935Z
UID:10004264-1615831200-1615834800@newsuat.fordham.edu
SUMMARY:Virtual Chat with Counseling and Psychological Services: What Our Students Are Experiencing
DESCRIPTION:As the world has grappled with the COVID-19 pandemic\, college students have faced unprecedented challenges. Join us for a virtual chat with Counseling and Psychological Services to discuss what our students are experiencing now. We will cover mental health trends and various stressors that your student may be facing. We will also provide some tips for parents seeking to address these issues and answer your questions.
URL:https://newsuat.fordham.edu/event/virtual-chat-with-counseling-and-psychological-services-what-our-students-are-experiencing/
LOCATION:Zoom
CATEGORIES:Wellness
END:VEVENT
END:VCALENDAR