BEGIN:VCALENDAR
VERSION:2.0
PRODID:-//Fordham Now - ECPv6.15.20//NONSGML v1.0//EN
CALSCALE:GREGORIAN
METHOD:PUBLISH
X-WR-CALNAME:Fordham Now
X-ORIGINAL-URL:https://newsuat.fordham.edu
X-WR-CALDESC:Events for Fordham Now
REFRESH-INTERVAL;VALUE=DURATION:PT1H
X-Robots-Tag:noindex
X-PUBLISHED-TTL:PT1H
BEGIN:VTIMEZONE
TZID:America/New_York
BEGIN:DAYLIGHT
TZOFFSETFROM:-0500
TZOFFSETTO:-0400
TZNAME:EDT
DTSTART:20190310T070000
END:DAYLIGHT
BEGIN:STANDARD
TZOFFSETFROM:-0400
TZOFFSETTO:-0500
TZNAME:EST
DTSTART:20191103T060000
END:STANDARD
BEGIN:DAYLIGHT
TZOFFSETFROM:-0500
TZOFFSETTO:-0400
TZNAME:EDT
DTSTART:20200308T070000
END:DAYLIGHT
BEGIN:STANDARD
TZOFFSETFROM:-0400
TZOFFSETTO:-0500
TZNAME:EST
DTSTART:20201101T060000
END:STANDARD
BEGIN:DAYLIGHT
TZOFFSETFROM:-0500
TZOFFSETTO:-0400
TZNAME:EDT
DTSTART:20210314T070000
END:DAYLIGHT
BEGIN:STANDARD
TZOFFSETFROM:-0400
TZOFFSETTO:-0500
TZNAME:EST
DTSTART:20211107T060000
END:STANDARD
END:VTIMEZONE
BEGIN:VEVENT
DTSTART;TZID=America/New_York:20201221T120000
DTEND;TZID=America/New_York:20201221T133000
DTSTAMP:20260425T230307
CREATED:20201207T192929Z
LAST-MODIFIED:20201207T192929Z
UID:10004157-1608552000-1608557400@newsuat.fordham.edu
SUMMARY:Our Covid Odyssey: Vulnerabilities Revealed\, Historic Scientific Progress Achieved\, and a Nation Awakened
DESCRIPTION:The Fordham University Alumni Association (FUAA) and Joseph M. McShane\, S.J.\, president of Fordham University\, present Insights and Impact\, an alumni speaker series that showcases Fordham alumni making a positive difference in society. We’ll delve into issues that matter\, inviting seasoned and emerging alumni leaders and experts to offer insights and show us how we\, as Fordham alumni\, can make an impact in our communities\, professional lives\, and the world. \nWelcome and introductions: Sally Benner\, FCRH ’84\, vice chair\, FUAA Advisory Board; associate vice president of development for medical sciences\, University of Oxford \nFeatured Panelists \n\nRonald A. DePinho\, M.D.\, FCRH ’77\, professor\, past president\, and Harry Graves Burkhart III Distinguished University Chair\, Department of Cancer Biology\, MD Anderson Cancer Center\nMichael Dowling\, GSS ’74\, president and CEO\, Northwell Health; chair\, Institute for Healthcare Improvement; trustee\, Fordham University\n\nModerator: Fordham Provost Dennis Jacobs\, Ph.D. \nClosing remarks: Joseph M. McShane\, S.J.\, president of Fordham University
URL:https://newsuat.fordham.edu/event/our-covid-odyssey-vulnerabilities-revealed-historic-scientific-progress-achieved-and-a-nation-awakened/
LOCATION:Zoom
CATEGORIES:Lectures,Wellness
ORGANIZER;CN="Sara Hunt Munoz":MAILTO:shunt@fordham.edu
END:VEVENT
END:VCALENDAR