BEGIN:VCALENDAR
VERSION:2.0
PRODID:-//Fordham Now - ECPv6.15.20//NONSGML v1.0//EN
CALSCALE:GREGORIAN
METHOD:PUBLISH
X-WR-CALNAME:Fordham Now
X-ORIGINAL-URL:https://newsuat.fordham.edu
X-WR-CALDESC:Events for Fordham Now
REFRESH-INTERVAL;VALUE=DURATION:PT1H
X-Robots-Tag:noindex
X-PUBLISHED-TTL:PT1H
BEGIN:VTIMEZONE
TZID:America/New_York
BEGIN:DAYLIGHT
TZOFFSETFROM:-0500
TZOFFSETTO:-0400
TZNAME:EDT
DTSTART:20230312T070000
END:DAYLIGHT
BEGIN:STANDARD
TZOFFSETFROM:-0400
TZOFFSETTO:-0500
TZNAME:EST
DTSTART:20231105T060000
END:STANDARD
BEGIN:DAYLIGHT
TZOFFSETFROM:-0500
TZOFFSETTO:-0400
TZNAME:EDT
DTSTART:20240310T070000
END:DAYLIGHT
BEGIN:STANDARD
TZOFFSETFROM:-0400
TZOFFSETTO:-0500
TZNAME:EST
DTSTART:20241103T060000
END:STANDARD
BEGIN:DAYLIGHT
TZOFFSETFROM:-0500
TZOFFSETTO:-0400
TZNAME:EDT
DTSTART:20250309T070000
END:DAYLIGHT
BEGIN:STANDARD
TZOFFSETFROM:-0400
TZOFFSETTO:-0500
TZNAME:EST
DTSTART:20251102T060000
END:STANDARD
END:VTIMEZONE
BEGIN:VEVENT
DTSTART;TZID=America/New_York:20240420T111500
DTEND;TZID=America/New_York:20240420T134500
DTSTAMP:20260419T122256
CREATED:20240129T162748Z
LAST-MODIFIED:20240420T234545Z
UID:10002052-1713611700-1713620700@newsuat.fordham.edu
SUMMARY:Gilded Age-Themed Fifth Avenue Walking Tour for Young Alumni
DESCRIPTION:Join us to explore the remaining mansions of Gilded Age New York! See where the country’s wealthiest families put down their brief roots before the rise of the apartment building and the fall of the grand home. Led by alumnus and founder of Landmarks of New York\, Thomas Silk FCRH ’12\, we will see the social clubs\, museums\, and consulates that made the Upper East Side. The tour will begin at Grand Army Plaza and end at 96th Street. The approximate distance is 2.5 miles. Bring a sense of curiosity and walking shoes for a dive into New York City’s illustrious past.
URL:https://newsuat.fordham.edu/event/gilded-age-themed-fifth-avenue-walking-tour-for-young-alumni/
LOCATION:NY\, United States
CATEGORIES:Cultural,Tours
ORGANIZER;CN="Rachel Kartiganer":MAILTO:rkartiganer@fordham.edu
END:VEVENT
END:VCALENDAR