BEGIN:VCALENDAR
VERSION:2.0
PRODID:-//Fordham Now - ECPv6.15.20//NONSGML v1.0//EN
CALSCALE:GREGORIAN
METHOD:PUBLISH
X-ORIGINAL-URL:https://newsuat.fordham.edu
X-WR-CALDESC:Events for Fordham Now
REFRESH-INTERVAL;VALUE=DURATION:PT1H
X-Robots-Tag:noindex
X-PUBLISHED-TTL:PT1H
BEGIN:VTIMEZONE
TZID:America/New_York
BEGIN:DAYLIGHT
TZOFFSETFROM:-0500
TZOFFSETTO:-0400
TZNAME:EDT
DTSTART:20220313T070000
END:DAYLIGHT
BEGIN:STANDARD
TZOFFSETFROM:-0400
TZOFFSETTO:-0500
TZNAME:EST
DTSTART:20221106T060000
END:STANDARD
BEGIN:DAYLIGHT
TZOFFSETFROM:-0500
TZOFFSETTO:-0400
TZNAME:EDT
DTSTART:20230312T070000
END:DAYLIGHT
BEGIN:STANDARD
TZOFFSETFROM:-0400
TZOFFSETTO:-0500
TZNAME:EST
DTSTART:20231105T060000
END:STANDARD
BEGIN:DAYLIGHT
TZOFFSETFROM:-0500
TZOFFSETTO:-0400
TZNAME:EDT
DTSTART:20240310T070000
END:DAYLIGHT
BEGIN:STANDARD
TZOFFSETFROM:-0400
TZOFFSETTO:-0500
TZNAME:EST
DTSTART:20241103T060000
END:STANDARD
END:VTIMEZONE
BEGIN:VEVENT
DTSTART;TZID=America/New_York:20231203T150000
DTEND;TZID=America/New_York:20231203T170000
DTSTAMP:20260419T184342
CREATED:20230905T203120Z
LAST-MODIFIED:20230905T203120Z
UID:10005194-1701615600-1701622800@newsuat.fordham.edu
SUMMARY:Guided Tour: ‘Banned! A History of Censorship’
DESCRIPTION:Books\, libraries\, librarians\, and writers are subject to attacks—again. Recent bans of books across the United States targeting Black history\, the Holocaust\, and LGBTQ themes have dominated the news. But book censorship has a longer history. \nFederica Francesconi will lead a guided tour through “Banned! A History of Censorship\,” a new exhibit that explores this history\, along with practices of censorship\, the methods to control and ban books and ideas\, the resilience of censored works\, and attempts to push back. \nLearn more about the exhibit. \nAbout the Tour Guide\nFederica Francesconi is an associate professor and the director of the Judaic Studies program at the University of Albany. Francesconi is the author of several books and essays. Her latest book\, Invisible Enlighteners: The Jewish Merchants of Modena\, from the Renaissance to the Emancipation (University of Pennsylvania Press\, 2021)\, won the 2022 Helen and Howard R. Marraro Prize Winner from the American Historical Association and was a finalist for the 2021 National Jewish Books Award. Among her other publications\, there are two coedited volumes: From Catalonia to the Caribbean: The Sephardi Orbit from Medieval to Modern Times (2018) and Jewish Women’s History from Antiquity to the Present (2021)\, which was a finalist for the 2021 National Jewish Books Award for the Bar­bara Dobkin Award in Women Studies.
URL:https://newsuat.fordham.edu/event/guided-tour-banned-a-history-of-censorship-2/
LOCATION:Walsh Library\, 441 East Fordham Road\, Bronx\, NY\, 10458\, United States
CATEGORIES:Cultural,Tours
ATTACH;FMTTYPE=image/png:https://newsuat.fordham.edu/wp-content/uploads/2023/09/Censorhip-Exhibit-website-image-2.png
ORGANIZER;CN="Center for Jewish Studies":MAILTO:jewishstudies@fordham.edu
GEO:40.861203;-73.8892181
X-APPLE-STRUCTURED-LOCATION;VALUE=URI;X-ADDRESS=Walsh Library 441 East Fordham Road Bronx NY 10458 United States;X-APPLE-RADIUS=500;X-TITLE=441 East Fordham Road:geo:-73.8892181,40.861203
END:VEVENT
BEGIN:VEVENT
DTSTART;TZID=America/New_York:20231213T120000
DTEND;TZID=America/New_York:20231213T133000
DTSTAMP:20260419T184342
CREATED:20230928T194720Z
LAST-MODIFIED:20230928T194720Z
UID:10005223-1702468800-1702474200@newsuat.fordham.edu
SUMMARY:Private Access to The Met: A Behind-the-Scenes Tour of "Africa & Byzantium"
DESCRIPTION:Join us for a private\, Fordham-exclusive tour of The Metropolitan Museum of Art with Fabiana Weinberg\, FCLC ‘07\, senior exhibition designer at The Met\, when the museum is closed to the public. The tour will begin with a behind-the-scenes look into the museum’s department of exhibition design\, followed by a viewing of “Africa & Byzantium\,” an enlightening journey that delves into the artistic and cultural intertwining of two ancient civilizations. \n“Africa & Byzantium” is a unique testament to the captivating artistic dialogue that transpired between these two distinct regions. Expertly curated\, the exhibition includes precious objects and offers a comprehensive look at the artistic exchange\, influence\, and transference between Africa and Byzantium from the fourth to 14th centuries. Weinberg will provide guests with an invaluable opportunity to deepen their understanding of the exhibition by delving into the process of its design.
URL:https://newsuat.fordham.edu/event/private-access-to-the-met-a-behind-the-scenes-tour-of-africa-byzantium/
LOCATION:Fordham Magazine 2023 – Draft
CATEGORIES:Cultural,Tours
END:VEVENT
END:VCALENDAR