BEGIN:VCALENDAR
VERSION:2.0
PRODID:-//Fordham Now - ECPv6.15.20//NONSGML v1.0//EN
CALSCALE:GREGORIAN
METHOD:PUBLISH
X-WR-CALNAME:Fordham Now
X-ORIGINAL-URL:https://newsuat.fordham.edu
X-WR-CALDESC:Events for Fordham Now
REFRESH-INTERVAL;VALUE=DURATION:PT1H
X-Robots-Tag:noindex
X-PUBLISHED-TTL:PT1H
BEGIN:VTIMEZONE
TZID:America/New_York
BEGIN:DAYLIGHT
TZOFFSETFROM:-0500
TZOFFSETTO:-0400
TZNAME:EDT
DTSTART:20220313T070000
END:DAYLIGHT
BEGIN:STANDARD
TZOFFSETFROM:-0400
TZOFFSETTO:-0500
TZNAME:EST
DTSTART:20221106T060000
END:STANDARD
BEGIN:DAYLIGHT
TZOFFSETFROM:-0500
TZOFFSETTO:-0400
TZNAME:EDT
DTSTART:20230312T070000
END:DAYLIGHT
BEGIN:STANDARD
TZOFFSETFROM:-0400
TZOFFSETTO:-0500
TZNAME:EST
DTSTART:20231105T060000
END:STANDARD
BEGIN:DAYLIGHT
TZOFFSETFROM:-0500
TZOFFSETTO:-0400
TZNAME:EDT
DTSTART:20240310T070000
END:DAYLIGHT
BEGIN:STANDARD
TZOFFSETFROM:-0400
TZOFFSETTO:-0500
TZNAME:EST
DTSTART:20241103T060000
END:STANDARD
END:VTIMEZONE
BEGIN:VEVENT
DTSTART;TZID=America/New_York:20231112T150000
DTEND;TZID=America/New_York:20231112T170000
DTSTAMP:20260419T202939
CREATED:20230905T202806Z
LAST-MODIFIED:20230905T202806Z
UID:10005193-1699801200-1699808400@newsuat.fordham.edu
SUMMARY:Guided Tour: 'Banned! A History of Censorship'
DESCRIPTION:Books\, libraries\, librarians\, and writers are subject to attacks—again. Recent bans of books across the United States targeting Black history\, the Holocaust\, and LGBTQ themes have dominated the news. But book censorship has a longer history. \nAndreea Badea will lead a guided tour through “Banned! A History of Censorship\,” a new exhibit that explores this history\, along with practices of censorship\, the methods to control and ban books and ideas\, the resilience of censored works\, and attempts to push back. \nLearn more about the exhibit. \nAbout the Tour Guide\nAndreea Badea is a scholar of the histories of knowledge and institutions\, the history of ideas\, and early modern confessional cultures at the Goethe University in Frankfurt. She has worked on the history of the Index of Prohibited Books and is currently writing a book on truth claims and cognitive authority in the attitudes of the Roman curia toward the emerging discipline of church history in the long 17th century.
URL:https://newsuat.fordham.edu/event/guided-tour-banned-a-history-of-censorship/
LOCATION:Walsh Library\, 441 East Fordham Road\, Bronx\, NY\, 10458\, United States
CATEGORIES:Cultural,Tours
ATTACH;FMTTYPE=image/png:https://newsuat.fordham.edu/wp-content/uploads/2023/09/Censorhip-Exhibit-website-image-1.png
ORGANIZER;CN="Center for Jewish Studies":MAILTO:jewishstudies@fordham.edu
GEO:40.861203;-73.8892181
X-APPLE-STRUCTURED-LOCATION;VALUE=URI;X-ADDRESS=Walsh Library 441 East Fordham Road Bronx NY 10458 United States;X-APPLE-RADIUS=500;X-TITLE=441 East Fordham Road:geo:-73.8892181,40.861203
END:VEVENT
END:VCALENDAR