BEGIN:VCALENDAR
VERSION:2.0
PRODID:-//Fordham Now - ECPv6.15.20//NONSGML v1.0//EN
CALSCALE:GREGORIAN
METHOD:PUBLISH
X-ORIGINAL-URL:https://newsuat.fordham.edu
X-WR-CALDESC:Events for Fordham Now
REFRESH-INTERVAL;VALUE=DURATION:PT1H
X-Robots-Tag:noindex
X-PUBLISHED-TTL:PT1H
BEGIN:VTIMEZONE
TZID:America/New_York
BEGIN:DAYLIGHT
TZOFFSETFROM:-0500
TZOFFSETTO:-0400
TZNAME:EDT
DTSTART:20220313T070000
END:DAYLIGHT
BEGIN:STANDARD
TZOFFSETFROM:-0400
TZOFFSETTO:-0500
TZNAME:EST
DTSTART:20221106T060000
END:STANDARD
BEGIN:DAYLIGHT
TZOFFSETFROM:-0500
TZOFFSETTO:-0400
TZNAME:EDT
DTSTART:20230312T070000
END:DAYLIGHT
BEGIN:STANDARD
TZOFFSETFROM:-0400
TZOFFSETTO:-0500
TZNAME:EST
DTSTART:20231105T060000
END:STANDARD
BEGIN:DAYLIGHT
TZOFFSETFROM:-0500
TZOFFSETTO:-0400
TZNAME:EDT
DTSTART:20240310T070000
END:DAYLIGHT
BEGIN:STANDARD
TZOFFSETFROM:-0400
TZOFFSETTO:-0500
TZNAME:EST
DTSTART:20241103T060000
END:STANDARD
END:VTIMEZONE
BEGIN:VEVENT
DTSTART;TZID=America/New_York:20230922T090000
DTEND;TZID=America/New_York:20230922T100000
DTSTAMP:20260420T000925
CREATED:20230831T201252Z
LAST-MODIFIED:20230831T201252Z
UID:10005185-1695373200-1695376800@newsuat.fordham.edu
SUMMARY:Private Tour of the Frick Collection
DESCRIPTION:Join us for an exclusive Fordham tour of the Frick Collection in the Breuer Building when the museum is closed to the public. Elizabeth Rose Daly\, FRCH ‘77\, will guide us through the modernist building to discover the treasures of the Frick in this iconic setting on Madison Avenue.
URL:https://newsuat.fordham.edu/event/private-tour-of-the-frick-collection/
LOCATION:The Frick\, 945 Madison Avenue\, New York\, NY\, 10021\, United States
CATEGORIES:Cultural,Tours
END:VEVENT
END:VCALENDAR