BEGIN:VCALENDAR
VERSION:2.0
PRODID:-//Fordham Now - ECPv6.15.20//NONSGML v1.0//EN
CALSCALE:GREGORIAN
METHOD:PUBLISH
X-WR-CALNAME:Fordham Now
X-ORIGINAL-URL:https://newsuat.fordham.edu
X-WR-CALDESC:Events for Fordham Now
REFRESH-INTERVAL;VALUE=DURATION:PT1H
X-Robots-Tag:noindex
X-PUBLISHED-TTL:PT1H
BEGIN:VTIMEZONE
TZID:America/New_York
BEGIN:DAYLIGHT
TZOFFSETFROM:-0500
TZOFFSETTO:-0400
TZNAME:EDT
DTSTART:20200308T070000
END:DAYLIGHT
BEGIN:STANDARD
TZOFFSETFROM:-0400
TZOFFSETTO:-0500
TZNAME:EST
DTSTART:20201101T060000
END:STANDARD
BEGIN:DAYLIGHT
TZOFFSETFROM:-0500
TZOFFSETTO:-0400
TZNAME:EDT
DTSTART:20210314T070000
END:DAYLIGHT
BEGIN:STANDARD
TZOFFSETFROM:-0400
TZOFFSETTO:-0500
TZNAME:EST
DTSTART:20211107T060000
END:STANDARD
BEGIN:DAYLIGHT
TZOFFSETFROM:-0500
TZOFFSETTO:-0400
TZNAME:EDT
DTSTART:20220313T070000
END:DAYLIGHT
BEGIN:STANDARD
TZOFFSETFROM:-0400
TZOFFSETTO:-0500
TZNAME:EST
DTSTART:20221106T060000
END:STANDARD
END:VTIMEZONE
BEGIN:VEVENT
DTSTART;TZID=America/New_York:20210311T173000
DTEND;TZID=America/New_York:20210311T193000
DTSTAMP:20260424T060530
CREATED:20210301T172332Z
LAST-MODIFIED:20210301T172332Z
UID:10004251-1615483800-1615491000@newsuat.fordham.edu
SUMMARY:Graduate School of Education Spring 2021 Online Open House
DESCRIPTION:Register to meet faculty and students and to learn more about GSE’s programs at this Spring 2021 online open house!
URL:https://newsuat.fordham.edu/event/graduate-school-of-education-spring-2021-online-open-house/
LOCATION:Zoom
CATEGORIES:Lectures,Tours
ORGANIZER;CN="Graduate School of Education":MAILTO:tetenbaum@fordham.edu
END:VEVENT
BEGIN:VEVENT
DTSTART;TZID=America/New_York:20210317T180000
DTEND;TZID=America/New_York:20210317T193000
DTSTAMP:20260424T060530
CREATED:20210223T163311Z
LAST-MODIFIED:20210223T163311Z
UID:10004247-1616004000-1616009400@newsuat.fordham.edu
SUMMARY:Tenement Museum Virtual Tour and Discussion: The Moore Family
DESCRIPTION:Join us on St. Patrick’s Day as Tenement Museum educators take you into the apartment of the Moore family. The Irish American Moore family lived at 97 Orchard Street in the 1860s\, and their story explores how they balanced work\, belonging\, and identity in a changing city. \nThrough this private Zoom tour\, you’ll see video\, images\, and primary sources that will help you visualize the world of the Moore family. There will be opportunities to interact and ask questions through the chat function\, with a Q&A and discussion following the tour. \nThe cost of this event is $20 per person. Space is limited for this unique experience.
URL:https://newsuat.fordham.edu/event/tenement-museum-virtual-tour-and-discussion-the-moore-family/
LOCATION:Zoom
CATEGORIES:Cultural,Tours
ORGANIZER;CN="Colleen Merolle":MAILTO:cmerolle@fordham.edu
END:VEVENT
END:VCALENDAR