BEGIN:VCALENDAR
VERSION:2.0
PRODID:-//Fordham Now - ECPv6.15.20//NONSGML v1.0//EN
CALSCALE:GREGORIAN
METHOD:PUBLISH
X-ORIGINAL-URL:https://newsuat.fordham.edu
X-WR-CALDESC:Events for Fordham Now
REFRESH-INTERVAL;VALUE=DURATION:PT1H
X-Robots-Tag:noindex
X-PUBLISHED-TTL:PT1H
BEGIN:VTIMEZONE
TZID:America/Los_Angeles
BEGIN:DAYLIGHT
TZOFFSETFROM:-0800
TZOFFSETTO:-0700
TZNAME:PDT
DTSTART:20220313T100000
END:DAYLIGHT
BEGIN:STANDARD
TZOFFSETFROM:-0700
TZOFFSETTO:-0800
TZNAME:PST
DTSTART:20221106T090000
END:STANDARD
BEGIN:DAYLIGHT
TZOFFSETFROM:-0800
TZOFFSETTO:-0700
TZNAME:PDT
DTSTART:20230312T100000
END:DAYLIGHT
BEGIN:STANDARD
TZOFFSETFROM:-0700
TZOFFSETTO:-0800
TZNAME:PST
DTSTART:20231105T090000
END:STANDARD
BEGIN:DAYLIGHT
TZOFFSETFROM:-0800
TZOFFSETTO:-0700
TZNAME:PDT
DTSTART:20240310T100000
END:DAYLIGHT
BEGIN:STANDARD
TZOFFSETFROM:-0700
TZOFFSETTO:-0800
TZNAME:PST
DTSTART:20241103T090000
END:STANDARD
END:VTIMEZONE
BEGIN:VEVENT
DTSTART;TZID=America/Los_Angeles:20230515T080000
DTEND;TZID=America/Los_Angeles:20230515T130000
DTSTAMP:20260423T212957
CREATED:20230324T013321Z
LAST-MODIFIED:20230324T013321Z
UID:10005043-1684137600-1684155600@newsuat.fordham.edu
SUMMARY:Alumni Chapter of Orange County: 2023 Pacific Symphony Volunteer Opportunity
DESCRIPTION:Youth concerts are 45-minute live performances performed by Pacific Symphony for students at schools in Orange County who participate in the Class Act program. Two concerts are performed each day. \nThis year’s concerts will feature music by the Composer of the Year\, Johann Sebastian Bach\, and will focus on the “Musical Conversations” theme. \nVolunteers will help guide the students efficiently and safely through the lobbies\, halls\, and stairways of the concert hall to their seats. Following each concert\, volunteers will ensure the safe and efficient exit of students as they return to their buses. Duties range from greeting buses to guiding students through the lobbies and seating students inside the concert hall. Volunteers may be assigned to roles indoors or outdoors. Performances take place rain or shine. \nAll volunteers will have the opportunity to watch at least one of the concerts each day. Volunteers ages 18 and older are invited to participate. All volunteer positions require standing\, walking\, or moving almost the entire time. Complimentary parking is provided.
URL:https://newsuat.fordham.edu/event/alumni-chapter-of-orange-county-2023-pacific-symphony-volunteer-opportunity/
LOCATION:Renee and Henry Segerstrom Concert Hall\, 615 Town Center Drive\, Costa Mesa\, CA\, 92626\, United States
CATEGORIES:Volunteer
ORGANIZER;CN="Alumni Chapter of Orange County":MAILTO:cvillanueva@pacificsymphony.org
END:VEVENT
END:VCALENDAR