BEGIN:VCALENDAR
VERSION:2.0
PRODID:-//Fordham Now - ECPv6.15.20//NONSGML v1.0//EN
CALSCALE:GREGORIAN
METHOD:PUBLISH
X-ORIGINAL-URL:https://newsuat.fordham.edu
X-WR-CALDESC:Events for Fordham Now
REFRESH-INTERVAL;VALUE=DURATION:PT1H
X-Robots-Tag:noindex
X-PUBLISHED-TTL:PT1H
BEGIN:VTIMEZONE
TZID:America/New_York
BEGIN:DAYLIGHT
TZOFFSETFROM:-0500
TZOFFSETTO:-0400
TZNAME:EDT
DTSTART:20210314T070000
END:DAYLIGHT
BEGIN:STANDARD
TZOFFSETFROM:-0400
TZOFFSETTO:-0500
TZNAME:EST
DTSTART:20211107T060000
END:STANDARD
BEGIN:DAYLIGHT
TZOFFSETFROM:-0500
TZOFFSETTO:-0400
TZNAME:EDT
DTSTART:20220313T070000
END:DAYLIGHT
BEGIN:STANDARD
TZOFFSETFROM:-0400
TZOFFSETTO:-0500
TZNAME:EST
DTSTART:20221106T060000
END:STANDARD
BEGIN:DAYLIGHT
TZOFFSETFROM:-0500
TZOFFSETTO:-0400
TZNAME:EDT
DTSTART:20230312T070000
END:DAYLIGHT
BEGIN:STANDARD
TZOFFSETFROM:-0400
TZOFFSETTO:-0500
TZNAME:EST
DTSTART:20231105T060000
END:STANDARD
END:VTIMEZONE
BEGIN:VEVENT
DTSTART;TZID=America/New_York:20220409T083000
DTEND;TZID=America/New_York:20220409T083000
DTSTAMP:20260424T193431
CREATED:20220310T214937Z
LAST-MODIFIED:20220310T214937Z
UID:10004679-1649493000-1649493000@newsuat.fordham.edu
SUMMARY:Alumni Chapter of Long Island Service Project
DESCRIPTION:Join the Alumni Chapter of Long Island for a community service project of packing mobile school pantry bags. We will help provide food packages at the Long Island Cares Warehouse. This is a great service opportunity to help bring in the Easter season. \nWarehouse volunteers must be 18 or older and must show proof of a COVID-19 vaccination or a negative COVID-19 test within three days of the event. Any volunteers not vaccinated for COVID-19 must wear a mask. \nOur group is limited to 15 people. RSVP by April 7.
URL:https://newsuat.fordham.edu/event/alumni-chapter-of-long-island-service-project/
LOCATION:Long Island Cares\, 10 Davids Drive\, Hauppauge\, 11788\, United States
CATEGORIES:Volunteer
ORGANIZER;CN="Alumni Chapter of Long Island":MAILTO:phillipcicione@gmail.com
END:VEVENT
BEGIN:VEVENT
DTSTART;TZID=America/New_York:20220409T110000
DTEND;TZID=America/New_York:20220409T150000
DTSTAMP:20260424T193431
CREATED:20220401T202606Z
LAST-MODIFIED:20220401T202606Z
UID:10004710-1649502000-1649516400@newsuat.fordham.edu
SUMMARY:Ignatian Day of Service Spring 2022
DESCRIPTION:Celebrate National Volunteer Month and the Ignatian Year by joining fellow Rams for a day of service! \nThe Young Alumni Committee is partnering with Campus Ministry\, student groups\, and The Bronx is Blooming\, a community-building nonprofit that helps develop youth leaders through park restoration.
URL:https://newsuat.fordham.edu/event/ignatian-day-of-service-spring-2022/
LOCATION:Mosholu Park
CATEGORIES:Volunteer
ORGANIZER;CN="Matt Burns":MAILTO:mburns2@fordham.edu
END:VEVENT
BEGIN:VEVENT
DTSTART;TZID=America/New_York:20220430T090000
DTEND;TZID=America/New_York:20220430T120000
DTSTAMP:20260424T193431
CREATED:20220331T210750Z
LAST-MODIFIED:20220331T210750Z
UID:10004699-1651309200-1651320000@newsuat.fordham.edu
SUMMARY:Alumni Chapter of Chicago: Give Back Day
DESCRIPTION:Join the Alumni Chapter of Chicago for Give Back Day\, hosted by the Big Shoulders Fund Auxiliary Board. Volunteers will help clean\, organize\, and more at Holy Angels School. We hope you will join us for a few hours to make a difference in our city! \nThere are 10 spots available. RSVP by April 29. Please fill out the liability waiver provided in the confirmation email.
URL:https://newsuat.fordham.edu/event/alumni-chapter-of-chicago-give-back-day/
LOCATION:Holy Angels School 750 East 40th Street Chicago\, IL 60653\, 750 East 40th Street\, Chicago\, IL\, 60653\, United States
CATEGORIES:Volunteer
ORGANIZER;CN="Alumni Chapter of Chicago":MAILTO:margaret.graver@gmail.com
END:VEVENT
END:VCALENDAR