BEGIN:VCALENDAR
VERSION:2.0
PRODID:-//Fordham Now - ECPv6.15.20//NONSGML v1.0//EN
CALSCALE:GREGORIAN
METHOD:PUBLISH
X-WR-CALNAME:Fordham Now
X-ORIGINAL-URL:https://newsuat.fordham.edu
X-WR-CALDESC:Events for Fordham Now
REFRESH-INTERVAL;VALUE=DURATION:PT1H
X-Robots-Tag:noindex
X-PUBLISHED-TTL:PT1H
BEGIN:VTIMEZONE
TZID:America/New_York
BEGIN:DAYLIGHT
TZOFFSETFROM:-0500
TZOFFSETTO:-0400
TZNAME:EDT
DTSTART:20190310T070000
END:DAYLIGHT
BEGIN:STANDARD
TZOFFSETFROM:-0400
TZOFFSETTO:-0500
TZNAME:EST
DTSTART:20191103T060000
END:STANDARD
BEGIN:DAYLIGHT
TZOFFSETFROM:-0500
TZOFFSETTO:-0400
TZNAME:EDT
DTSTART:20200308T070000
END:DAYLIGHT
BEGIN:STANDARD
TZOFFSETFROM:-0400
TZOFFSETTO:-0500
TZNAME:EST
DTSTART:20201101T060000
END:STANDARD
BEGIN:DAYLIGHT
TZOFFSETFROM:-0500
TZOFFSETTO:-0400
TZNAME:EDT
DTSTART:20210314T070000
END:DAYLIGHT
BEGIN:STANDARD
TZOFFSETFROM:-0400
TZOFFSETTO:-0500
TZNAME:EST
DTSTART:20211107T060000
END:STANDARD
END:VTIMEZONE
BEGIN:VEVENT
DTSTART;VALUE=DATE:20201203
DTEND;VALUE=DATE:20201204
DTSTAMP:20260425T230613
CREATED:20201203T152434Z
LAST-MODIFIED:20201203T152434Z
UID:10004155-1606953600-1607039999@newsuat.fordham.edu
SUMMARY:Fordham Alumni Chapter of Westchester: 2020 Holiday Toy Drive
DESCRIPTION:We are having our annual toy drive benefiting Elizabeth Seton Children’s Center\, now through December 18! The center has been closed to visitors since March due to COVID-19\, so let’s try to make their holiday a happy one. \nElizabeth Seton Children’s Center is the largest residential care center in the U.S. for children with severe medical complexity\, and a national leader in caring for this unique population. The children’s center offers vital medical\, educational\, and rehabilitative services to 169 children so they can lead their fullest lives. By also providing social\, recreational\, and spiritual programs\, the children’s center gives the children and their families a place to call home—and the peace of mind of true support 24 hours a day. Just as we cherish our precious children\, we are equally devoted to our families\, who are our partners in care. The majority of our children and their families are economically disadvantaged\, and 99% qualify for Medicaid assistance. \nThis year\, instead of drop boxes for your donations\, we are doing the toy drive virtually. Have a safe and happy holiday season!
URL:https://newsuat.fordham.edu/event/fordham-alumni-chapter-of-westchester-2020-holiday-toy-drive/2020-12-03/
LOCATION:Online\, United States
CATEGORIES:Spiritual and Service,Volunteer
ORGANIZER;CN="Alumni Chapter of Westchester":MAILTO:fordhamalumniwestchester@gmail.com
END:VEVENT
END:VCALENDAR