BEGIN:VCALENDAR
VERSION:2.0
PRODID:-//Fordham Now - ECPv6.15.20//NONSGML v1.0//EN
CALSCALE:GREGORIAN
METHOD:PUBLISH
X-ORIGINAL-URL:https://newsuat.fordham.edu
X-WR-CALDESC:Events for Fordham Now
REFRESH-INTERVAL;VALUE=DURATION:PT1H
X-Robots-Tag:noindex
X-PUBLISHED-TTL:PT1H
BEGIN:VTIMEZONE
TZID:America/New_York
BEGIN:DAYLIGHT
TZOFFSETFROM:-0500
TZOFFSETTO:-0400
TZNAME:EDT
DTSTART:20230312T070000
END:DAYLIGHT
BEGIN:STANDARD
TZOFFSETFROM:-0400
TZOFFSETTO:-0500
TZNAME:EST
DTSTART:20231105T060000
END:STANDARD
BEGIN:DAYLIGHT
TZOFFSETFROM:-0500
TZOFFSETTO:-0400
TZNAME:EDT
DTSTART:20240310T070000
END:DAYLIGHT
BEGIN:STANDARD
TZOFFSETFROM:-0400
TZOFFSETTO:-0500
TZNAME:EST
DTSTART:20241103T060000
END:STANDARD
BEGIN:DAYLIGHT
TZOFFSETFROM:-0500
TZOFFSETTO:-0400
TZNAME:EDT
DTSTART:20250309T070000
END:DAYLIGHT
BEGIN:STANDARD
TZOFFSETFROM:-0400
TZOFFSETTO:-0500
TZNAME:EST
DTSTART:20251102T060000
END:STANDARD
END:VTIMEZONE
BEGIN:VEVENT
DTSTART;TZID=America/New_York:20240107T150000
DTEND;TZID=America/New_York:20240107T180000
DTSTAMP:20260425T164331
CREATED:20231027T215416Z
LAST-MODIFIED:20231027T215416Z
UID:10005272-1704639600-1704650400@newsuat.fordham.edu
SUMMARY:2024 Long Island Mass and Regional Reception
DESCRIPTION:Eileen Lamberti and Tom Lamberti\, FCRH ’52; the Fordham Alumni Chapter of Long Island; and the Office of Alumni Relations cordially invite you to our annual Mass and reception for alumni\, parents\, and friends. Mass will begin at 3 p.m. at the Church of St. Anne. Following Mass\, the reception will begin at 4 p.m. at the Garden City Hotel. \nMass will be celebrated by Daniel Gatti S.J.\, JES ’65\, GSE ’66. Anne T. Donnelly\, FCRH ’86\, LAW ’89\, will be honored with the Nicholas O’Neill Memorial Award in recognition of her dedicated service to Fordham University. \nThis event costs $25 per person and includes heavy hors d’oeuvres\, food stations\, and an open bar. Space is limited\, and advance registration is required. RSVP by December 29. \nPlease consider making a gift of $25 or more to support the Long Island Scholarship in Memory of John Cifichiello\, GABELLI ’68.
URL:https://newsuat.fordham.edu/event/2024-long-island-mass-and-regional-reception/
LOCATION:Garden City Hotel\, 45 Seventh Street\, Garden City\, NY\, 11530\, United States
CATEGORIES:Receptions,Social,Spiritual and Religious Events
ORGANIZER;CN="Office of Alumni Relations":MAILTO:alumnioffice@fordham.edu
GEO:40.7245497;-73.6406515
X-APPLE-STRUCTURED-LOCATION;VALUE=URI;X-ADDRESS=Garden City Hotel 45 Seventh Street Garden City NY 11530 United States;X-APPLE-RADIUS=500;X-TITLE=45 Seventh Street:geo:-73.6406515,40.7245497
END:VEVENT
BEGIN:VEVENT
DTSTART;TZID=America/New_York:20240120T120000
DTEND;TZID=America/New_York:20240120T140000
DTSTAMP:20260425T164331
CREATED:20240116T161905Z
LAST-MODIFIED:20240116T161905Z
UID:10001492-1705752000-1705759200@newsuat.fordham.edu
SUMMARY:The Mayor’s Office and the Church: NYC Migrant State of Emergency
DESCRIPTION:With migrant arrivals surging to 600 people per day\, and the reality that 44% of this population identifies as Latine\, Fordham presents a collaborative conversation between the NYC Mayor’s Office and one of Time magazine’s 100 most influential people\, Sister Norma Pimentel\, on the current state of emergency gripping New York City due to the asylum-seeker humanitarian crisis. Fordham Law professor and immigration specialist Gemma Solimene will moderate the conversation. \nAttendees will be engaged in a compassionate and reflective dialogue designed to deepen their understanding of the formidable challenges faced by incoming migrants and residents alike. The discussion will spotlight the pivotal roles played by New York City’s communities and its religious and nonprofit organizations in offering critical support to all those in need\, as well as explore and encourage potential strategies for enhanced collaboration among stakeholders—with the ultimate aim of effectively addressing this pressing humanitarian issue.
URL:https://newsuat.fordham.edu/event/the-mayors-office-and-the-church-nyc-migrant-state-of-emergency/
LOCATION:Butler Commons\, Duane Library\, 441 East Fordham Road \, Bronx\, NY\, 10458\, United States
CATEGORIES:Conferences and Symposia,Spiritual and Religious Events
GEO:40.8612275;-73.8892354
X-APPLE-STRUCTURED-LOCATION;VALUE=URI;X-ADDRESS=Butler Commons Duane Library 441 East Fordham Road  Bronx NY 10458 United States;X-APPLE-RADIUS=500;X-TITLE=441 East Fordham Road:geo:-73.8892354,40.8612275
END:VEVENT
END:VCALENDAR