BEGIN:VCALENDAR
VERSION:2.0
PRODID:-//Fordham Now - ECPv6.15.20//NONSGML v1.0//EN
CALSCALE:GREGORIAN
METHOD:PUBLISH
X-ORIGINAL-URL:https://newsuat.fordham.edu
X-WR-CALDESC:Events for Fordham Now
REFRESH-INTERVAL;VALUE=DURATION:PT1H
X-Robots-Tag:noindex
X-PUBLISHED-TTL:PT1H
BEGIN:VTIMEZONE
TZID:America/New_York
BEGIN:DAYLIGHT
TZOFFSETFROM:-0500
TZOFFSETTO:-0400
TZNAME:EDT
DTSTART:20220313T070000
END:DAYLIGHT
BEGIN:STANDARD
TZOFFSETFROM:-0400
TZOFFSETTO:-0500
TZNAME:EST
DTSTART:20221106T060000
END:STANDARD
BEGIN:DAYLIGHT
TZOFFSETFROM:-0500
TZOFFSETTO:-0400
TZNAME:EDT
DTSTART:20230312T070000
END:DAYLIGHT
BEGIN:STANDARD
TZOFFSETFROM:-0400
TZOFFSETTO:-0500
TZNAME:EST
DTSTART:20231105T060000
END:STANDARD
BEGIN:DAYLIGHT
TZOFFSETFROM:-0500
TZOFFSETTO:-0400
TZNAME:EDT
DTSTART:20240310T070000
END:DAYLIGHT
BEGIN:STANDARD
TZOFFSETFROM:-0400
TZOFFSETTO:-0500
TZNAME:EST
DTSTART:20241103T060000
END:STANDARD
END:VTIMEZONE
BEGIN:VEVENT
DTSTART;VALUE=DATE:20231208
DTEND;VALUE=DATE:20231209
DTSTAMP:20260425T181725
CREATED:20231130T194756Z
LAST-MODIFIED:20231130T194756Z
UID:10000418-1701993600-1702079999@newsuat.fordham.edu
SUMMARY:2023 Feast of the Immaculate Conception Masses
DESCRIPTION:Masses will be held in honor of the Feast of the Immaculate Conception. All are welcome to join! \nRose Hill: 12:05 p.m. and 5:15 p.m. at  University Church\nLincoln Center: 12 p.m. at Blessed Rupert Mayer\, S.J.\, Chapel in Lowenstein Center
URL:https://newsuat.fordham.edu/event/2023-feast-of-the-immaculate-conception-masses/
CATEGORIES:Spiritual and Religious Events
ORGANIZER;CN="Campus Ministry":MAILTO:cm@fordham.edu
END:VEVENT
BEGIN:VEVENT
DTSTART;TZID=America/New_York:20231212T120000
DTEND;TZID=America/New_York:20231212T150000
DTSTAMP:20260425T181725
CREATED:20231130T194454Z
LAST-MODIFIED:20231130T194454Z
UID:10000420-1702382400-1702393200@newsuat.fordham.edu
SUMMARY:2023 Our Lady of Guadalupe Masses and Reception
DESCRIPTION:Mass will be held on both the Rose Hill and Lincoln Center campuses and will be followed by a reception. \nRose Hill: 12:05 p.m. at  Sacred Heart Chapel\nLincoln Center: 12 p.m. at Blessed Rupert Mayer\, S.J.\, Chapel in Lowenstein Center
URL:https://newsuat.fordham.edu/event/2023-our-lady-of-guadalupe-masses-and-reception/
CATEGORIES:Spiritual and Religious Events
ORGANIZER;CN="Campus Ministry":MAILTO:cm@fordham.edu
END:VEVENT
BEGIN:VEVENT
DTSTART;VALUE=DATE:20231217
DTEND;VALUE=DATE:20231218
DTSTAMP:20260425T181725
CREATED:20231130T194150Z
LAST-MODIFIED:20231130T194150Z
UID:10000422-1702771200-1702857599@newsuat.fordham.edu
SUMMARY:2023 Gaudete Sunday
DESCRIPTION:Mass for Gaudete Sunday will be held on both the Rose Hill and Lincoln Center campuses. The annual Fordham Christmas T-shirt will be given out to all in attendance! \nRose Hill: 7 p.m. at University Church\nLincoln Center: 6 p.m. at Blessed Rupert Mayer\, S.J.\, Chapel in Lowenstein Center\, followed by a reception
URL:https://newsuat.fordham.edu/event/2023-gaudete-sunday/
CATEGORIES:Spiritual and Religious Events
ORGANIZER;CN="Campus Ministry":MAILTO:cm@fordham.edu
END:VEVENT
BEGIN:VEVENT
DTSTART;VALUE=DATE:20231224
DTEND;VALUE=DATE:20231225
DTSTAMP:20260425T181725
CREATED:20231130T192807Z
LAST-MODIFIED:20231130T192807Z
UID:10000424-1703376000-1703462399@newsuat.fordham.edu
SUMMARY:2023 Christmas Eve Masses
DESCRIPTION:Join us in Welcoming the Christmas Season at Fordham University! \n4th Sunday of Advent Mass: 11 a.m.\nChristmas Eve Mass: 5 p.m. \nThere are no masses on Christmas day\, and no Christmas Masses will be held at Lincoln Center.
URL:https://newsuat.fordham.edu/event/2023-christmas-eve-masses/
LOCATION:University Church Plaza
CATEGORIES:Spiritual and Religious Events
ATTACH;FMTTYPE=:
ORGANIZER;CN="Campus Ministry":MAILTO:cm@fordham.edu
END:VEVENT
END:VCALENDAR