BEGIN:VCALENDAR
VERSION:2.0
PRODID:-//Fordham Now - ECPv6.15.20//NONSGML v1.0//EN
CALSCALE:GREGORIAN
METHOD:PUBLISH
X-WR-CALNAME:Fordham Now
X-ORIGINAL-URL:https://newsuat.fordham.edu
X-WR-CALDESC:Events for Fordham Now
REFRESH-INTERVAL;VALUE=DURATION:PT1H
X-Robots-Tag:noindex
X-PUBLISHED-TTL:PT1H
BEGIN:VTIMEZONE
TZID:America/New_York
BEGIN:DAYLIGHT
TZOFFSETFROM:-0500
TZOFFSETTO:-0400
TZNAME:EDT
DTSTART:20220313T070000
END:DAYLIGHT
BEGIN:STANDARD
TZOFFSETFROM:-0400
TZOFFSETTO:-0500
TZNAME:EST
DTSTART:20221106T060000
END:STANDARD
BEGIN:DAYLIGHT
TZOFFSETFROM:-0500
TZOFFSETTO:-0400
TZNAME:EDT
DTSTART:20230312T070000
END:DAYLIGHT
BEGIN:STANDARD
TZOFFSETFROM:-0400
TZOFFSETTO:-0500
TZNAME:EST
DTSTART:20231105T060000
END:STANDARD
BEGIN:DAYLIGHT
TZOFFSETFROM:-0500
TZOFFSETTO:-0400
TZNAME:EDT
DTSTART:20240310T070000
END:DAYLIGHT
BEGIN:STANDARD
TZOFFSETFROM:-0400
TZOFFSETTO:-0500
TZNAME:EST
DTSTART:20241103T060000
END:STANDARD
END:VTIMEZONE
BEGIN:VEVENT
DTSTART;TZID=America/New_York:20231102T103000
DTEND;TZID=America/New_York:20231102T133000
DTSTAMP:20260425T195512
CREATED:20230927T182422Z
LAST-MODIFIED:20230927T182422Z
UID:10005226-1698921000-1698931800@newsuat.fordham.edu
SUMMARY:2023 Memorial Mass and Luncheon
DESCRIPTION:Every November\, the Office of Alumni Relations celebrates a special Mass on the Lincoln Center campus to remember deceased alumni and other members of the Fordham family. \nPlease join us for Mass in the Rupert Mayer\, S.J.\, Chapel followed by a luncheon in the 12th-Floor Lounge. All family and friends are welcome to attend this complimentary event. RSVP below. \nThe Fordham University community extends its deepest sympathy to the loved ones of recently deceased alumni and friends. At this special memorial Mass\, we remember those who passed away between October 1\, 2022\, and August 28\, 2023\, and whose names were submitted to the University.
URL:https://newsuat.fordham.edu/event/2023-memorial-mass-and-luncheon/
LOCATION:Blessed Rupert Mayer\, S.J.\, Chapel\, 113 West 60th Street\, New York\, NY\, 10023\, United States
CATEGORIES:Spiritual and Religious Events
GEO:40.7708109;-73.9851512
X-APPLE-STRUCTURED-LOCATION;VALUE=URI;X-ADDRESS=Blessed Rupert Mayer S.J. Chapel 113 West 60th Street New York NY 10023 United States;X-APPLE-RADIUS=500;X-TITLE=113 West 60th Street:geo:-73.9851512,40.7708109
END:VEVENT
BEGIN:VEVENT
DTSTART;TZID=America/New_York:20231102T171500
DTEND;TZID=America/New_York:20231102T171500
DTSTAMP:20260425T195512
CREATED:20231025T222731Z
LAST-MODIFIED:20231025T222731Z
UID:10005267-1698945300-1698945300@newsuat.fordham.edu
SUMMARY:Dia de los Muertos Celebration at Lincoln Center
DESCRIPTION:Remember your loved ones and celebrate together in prayer and celebration! \nFood\, festivities\, and more at 140 W. 62nd St. in room G76 will follow Mass. \nYou are invited to submit photos of loved ones who have passed away whom you wish to\nremember. Photos will be displayed on ofrendas (altars) throughout the week leading up to the\nMass. Use the link below to RVSP or submit photos in advance. \nThis event is co-sponsored with El Grito de Lares\, SOL\, CSA at LC\, and the Office of Multicultural Affairs.
URL:https://newsuat.fordham.edu/event/dia-de-los-muertos-celebration-at-lincoln-center/
LOCATION:Blessed Rupert Mayer\, S.J.\, Chapel\, 113 West 60th Street\, New York\, NY\, 10023\, United States
CATEGORIES:Spiritual and Religious Events,Spiritual and Service
ORGANIZER;CN="Campus Ministry":MAILTO:cm@fordham.edu
GEO:40.7708109;-73.9851512
X-APPLE-STRUCTURED-LOCATION;VALUE=URI;X-ADDRESS=Blessed Rupert Mayer S.J. Chapel 113 West 60th Street New York NY 10023 United States;X-APPLE-RADIUS=500;X-TITLE=113 West 60th Street:geo:-73.9851512,40.7708109
END:VEVENT
BEGIN:VEVENT
DTSTART;TZID=America/New_York:20231102T171500
DTEND;TZID=America/New_York:20231102T171500
DTSTAMP:20260425T195512
CREATED:20231025T222735Z
LAST-MODIFIED:20231025T222735Z
UID:10005268-1698945300-1698945300@newsuat.fordham.edu
SUMMARY:Dia de los Muertos Celebration at Rose Hill
DESCRIPTION:Remember your loved ones and celebrate together in prayer and celebration! \nFood\, festivities\, and more in McShane Campus Center room 303 will follow Mass. \nYou are invited to submit photos of loved ones who have passed away whom you wish to\nremember. Photos will be displayed on ofrendas (altars) throughout the week leading up to the\nMass. Use the link below to RVSP or submit photos in advance. \nThis event is co-sponsored with El Grito de Lares\, SOL\, CSA at LC\, and the Office of Multicultural Affairs.
URL:https://newsuat.fordham.edu/event/dia-de-los-muertos-celebration-at-rose-hill/
LOCATION:University Church\, 441 E Fordham Rd\, Bronx\, NY\, 10458\, United States
CATEGORIES:Spiritual and Religious Events
ORGANIZER;CN="Campus Ministry":MAILTO:cm@fordham.edu
GEO:40.8619545;-73.8855064
X-APPLE-STRUCTURED-LOCATION;VALUE=URI;X-ADDRESS=University Church 441 E Fordham Rd Bronx NY 10458 United States;X-APPLE-RADIUS=500;X-TITLE=441 E Fordham Rd:geo:-73.8855064,40.8619545
END:VEVENT
END:VCALENDAR