BEGIN:VCALENDAR
VERSION:2.0
PRODID:-//Fordham Now - ECPv6.15.20//NONSGML v1.0//EN
CALSCALE:GREGORIAN
METHOD:PUBLISH
X-WR-CALNAME:Fordham Now
X-ORIGINAL-URL:https://newsuat.fordham.edu
X-WR-CALDESC:Events for Fordham Now
REFRESH-INTERVAL;VALUE=DURATION:PT1H
X-Robots-Tag:noindex
X-PUBLISHED-TTL:PT1H
BEGIN:VTIMEZONE
TZID:America/New_York
BEGIN:DAYLIGHT
TZOFFSETFROM:-0500
TZOFFSETTO:-0400
TZNAME:EDT
DTSTART:20250309T070000
END:DAYLIGHT
BEGIN:STANDARD
TZOFFSETFROM:-0400
TZOFFSETTO:-0500
TZNAME:EST
DTSTART:20251102T060000
END:STANDARD
BEGIN:DAYLIGHT
TZOFFSETFROM:-0500
TZOFFSETTO:-0400
TZNAME:EDT
DTSTART:20260308T070000
END:DAYLIGHT
BEGIN:STANDARD
TZOFFSETFROM:-0400
TZOFFSETTO:-0500
TZNAME:EST
DTSTART:20261101T060000
END:STANDARD
BEGIN:DAYLIGHT
TZOFFSETFROM:-0500
TZOFFSETTO:-0400
TZNAME:EDT
DTSTART:20270314T070000
END:DAYLIGHT
BEGIN:STANDARD
TZOFFSETFROM:-0400
TZOFFSETTO:-0500
TZNAME:EST
DTSTART:20271107T060000
END:STANDARD
END:VTIMEZONE
BEGIN:VTIMEZONE
TZID:America/Chicago
BEGIN:DAYLIGHT
TZOFFSETFROM:-0600
TZOFFSETTO:-0500
TZNAME:CDT
DTSTART:20250309T080000
END:DAYLIGHT
BEGIN:STANDARD
TZOFFSETFROM:-0500
TZOFFSETTO:-0600
TZNAME:CST
DTSTART:20251102T070000
END:STANDARD
BEGIN:DAYLIGHT
TZOFFSETFROM:-0600
TZOFFSETTO:-0500
TZNAME:CDT
DTSTART:20260308T080000
END:DAYLIGHT
BEGIN:STANDARD
TZOFFSETFROM:-0500
TZOFFSETTO:-0600
TZNAME:CST
DTSTART:20261101T070000
END:STANDARD
BEGIN:DAYLIGHT
TZOFFSETFROM:-0600
TZOFFSETTO:-0500
TZNAME:CDT
DTSTART:20270314T080000
END:DAYLIGHT
BEGIN:STANDARD
TZOFFSETFROM:-0500
TZOFFSETTO:-0600
TZNAME:CST
DTSTART:20271107T070000
END:STANDARD
END:VTIMEZONE
BEGIN:VTIMEZONE
TZID:America/Los_Angeles
BEGIN:DAYLIGHT
TZOFFSETFROM:-0800
TZOFFSETTO:-0700
TZNAME:PDT
DTSTART:20250309T100000
END:DAYLIGHT
BEGIN:STANDARD
TZOFFSETFROM:-0700
TZOFFSETTO:-0800
TZNAME:PST
DTSTART:20251102T090000
END:STANDARD
BEGIN:DAYLIGHT
TZOFFSETFROM:-0800
TZOFFSETTO:-0700
TZNAME:PDT
DTSTART:20260308T100000
END:DAYLIGHT
BEGIN:STANDARD
TZOFFSETFROM:-0700
TZOFFSETTO:-0800
TZNAME:PST
DTSTART:20261101T090000
END:STANDARD
BEGIN:DAYLIGHT
TZOFFSETFROM:-0800
TZOFFSETTO:-0700
TZNAME:PDT
DTSTART:20270314T100000
END:DAYLIGHT
BEGIN:STANDARD
TZOFFSETFROM:-0700
TZOFFSETTO:-0800
TZNAME:PST
DTSTART:20271107T090000
END:STANDARD
END:VTIMEZONE
BEGIN:VEVENT
DTSTART;TZID=America/New_York:20260310T180000
DTEND;TZID=America/New_York:20260310T193000
DTSTAMP:20260419T080016
CREATED:20260108T182537Z
LAST-MODIFIED:20260108T182537Z
UID:10013930-1773165600-1773171000@newsuat.fordham.edu
SUMMARY:2026 Albany Presidential and Legislative Reception
DESCRIPTION:The Office of Alumni Relations\, the Office of Government Relations\, the Alumni Chapter of Albany\, the state legislative alumni of Fordham University\, and Tania Tetlow\, president of Fordham University\, cordially request the honor of your presence at a reception for alumni\, legislators\, parents\, and friends. \nSpace is limited\, and advance registration is required. RSVP by March 6. \nNEW YORK STATE LEGISLATURE\nHon. Michael N. Gianaris ’90\nHon. Deborah J. Glick ’81 MBA\nHon. Andrew Lanza ’92 JD\nHon. Zellnor Myrie ’08\, ’13 MA\nHon. Nader J. Sayegh ’81 PD\nHon. Jo Anne Simon ’90 JD\nHon. Jaime R. Williams ’12 MSW \nNEW YORK STATE SENATE AND ASSEMBLY REPRESENTATIVES\nRose Hill\nHon. Gustavo Rivera\nHon. George Alvarez \nLincoln Center\nHon. Linda Rosenthal \nWestchester\nHon. Shelley Mayer\nHon. Chris Burdick
URL:https://newsuat.fordham.edu/event/2026-albany-presidential-and-legislative-reception/
LOCATION:Corning Tower Observation Deck\, Empire State Plaza\, Concourse Level\, Albany\, NY\, 12237\, United States
CATEGORIES:Alumni Events,Networking and Career,Receptions,Social
END:VEVENT
BEGIN:VEVENT
DTSTART;TZID=America/Chicago:20260311T190000
DTEND;TZID=America/Chicago:20260311T213000
DTSTAMP:20260419T080016
CREATED:20251204T212746Z
LAST-MODIFIED:20260116T175620Z
UID:10013898-1773255600-1773264600@newsuat.fordham.edu
SUMMARY:Alumni Chapter of Houston: 2026 Rockets vs. Knicks Outing
DESCRIPTION:Join the Alumni Chapter of Houston as the Houston Rockets host the New York Knicks! Friends and family are welcome to join us. \nOur seats are located in Section 101\, and each ticket is $65. All tickets are electronic and will be forwarded to the primary event registrant via the Houston Rockets app. \nTip-off is at 7 p.m. For those interested in meeting before the game\, Fordham folks will gather at Corona Beach House in Section 114 at 6 p.m. \nSpace is limited\, and registrations will be honored on a first-come\, first-served basis\, so register before they sell out! Please RSVP by March 25.
URL:https://newsuat.fordham.edu/event/alumni-chapter-of-houston-2026-rockets-vs-knicks-outing/
LOCATION:Toyota Center\, 1510 Polk Street\, Houston\, TX\, 77002\, United States
CATEGORIES:Alumni Events,Social
ORGANIZER;CN="Emily Cooper %E2%80%9923":MAILTO:cooper.v.emily@gmail.com
END:VEVENT
BEGIN:VEVENT
DTSTART;TZID=America/New_York:20260326T190000
DTEND;TZID=America/New_York:20260326T220000
DTSTAMP:20260419T080016
CREATED:20260107T200459Z
LAST-MODIFIED:20260116T175644Z
UID:10013928-1774551600-1774562400@newsuat.fordham.edu
SUMMARY:Alumni Chapter of Long Island: 2026 Dallas Stars vs. New York Islanders
DESCRIPTION:The Alumni Chapter of Long Island invites alumni\, family\, and friends to watch the New York Islanders take on the Dallas Stars. \nTickets are $61 and are located in section 215. \nPlease note: Tickets are electronic and will be forwarded to the primary registrant’s email. \nSpace is limited\, and registrations will be honored on a first-come\, first-served basis. We encourage you to register early. RSVP by March 12. \nPlease consider making a gift to the Long Island Scholarship in Memory of John Cifichiello\, GABELLI ’68\, to support Fordham students from our area.
URL:https://newsuat.fordham.edu/event/alumni-chapter-of-long-island-2026-dallas-stars-vs-new-york-islanders/
LOCATION:UBS Arena\, 2400 Hempstead Turnpike\, Elmont\, NY\, 11003\, United States
CATEGORIES:Alumni Events,Social
ORGANIZER;CN="Phil Cicione %E2%80%9987%2C PAR":MAILTO:phillipcicione@gmail.com
END:VEVENT
BEGIN:VEVENT
DTSTART;TZID=America/Los_Angeles:20260328T160000
DTEND;TZID=America/Los_Angeles:20260328T190000
DTSTAMP:20260419T080016
CREATED:20251111T203639Z
LAST-MODIFIED:20260116T175705Z
UID:10013864-1774713600-1774724400@newsuat.fordham.edu
SUMMARY:Alumni Chapter of Northern California: 2026 Yankees vs. Giants Outing
DESCRIPTION:Join the Alumni Chapter of Northern California at Oracle Park as the San Francisco Giants host the New York Yankees during Opening Weekend! Friends\, family\, and parents are welcome to join us. \nSeats are located in Club Level Section 233 (rows A to E) for $131 each and in Premium Bleachers Section 137 (rows 1-2) for $120 each. \nSpace is limited and registrations will be honored on a first-come\, first-serve basis. RSVP by March 20.
URL:https://newsuat.fordham.edu/event/alumni-chapter-of-northern-california-2026-yankees-vs-giants-outing/
LOCATION:Oracle Park\, 24 Willie Mays Plaza\, San Francisco\, CA\, 94107\, United States
CATEGORIES:Alumni Events,Social
ORGANIZER;CN="Mark Di Giorgio %E2%80%9987%2C %E2%80%9993 MBA":MAILTO:markadigiorgio@att.net
END:VEVENT
END:VCALENDAR