BEGIN:VCALENDAR
VERSION:2.0
PRODID:-//Fordham Now - ECPv6.15.20//NONSGML v1.0//EN
CALSCALE:GREGORIAN
METHOD:PUBLISH
X-WR-CALNAME:Fordham Now
X-ORIGINAL-URL:https://newsuat.fordham.edu
X-WR-CALDESC:Events for Fordham Now
REFRESH-INTERVAL;VALUE=DURATION:PT1H
X-Robots-Tag:noindex
X-PUBLISHED-TTL:PT1H
BEGIN:VTIMEZONE
TZID:America/Los_Angeles
BEGIN:DAYLIGHT
TZOFFSETFROM:-0800
TZOFFSETTO:-0700
TZNAME:PDT
DTSTART:20230312T100000
END:DAYLIGHT
BEGIN:STANDARD
TZOFFSETFROM:-0700
TZOFFSETTO:-0800
TZNAME:PST
DTSTART:20231105T090000
END:STANDARD
BEGIN:DAYLIGHT
TZOFFSETFROM:-0800
TZOFFSETTO:-0700
TZNAME:PDT
DTSTART:20240310T100000
END:DAYLIGHT
BEGIN:STANDARD
TZOFFSETFROM:-0700
TZOFFSETTO:-0800
TZNAME:PST
DTSTART:20241103T090000
END:STANDARD
BEGIN:DAYLIGHT
TZOFFSETFROM:-0800
TZOFFSETTO:-0700
TZNAME:PDT
DTSTART:20250309T100000
END:DAYLIGHT
BEGIN:STANDARD
TZOFFSETFROM:-0700
TZOFFSETTO:-0800
TZNAME:PST
DTSTART:20251102T090000
END:STANDARD
END:VTIMEZONE
BEGIN:VTIMEZONE
TZID:America/New_York
BEGIN:DAYLIGHT
TZOFFSETFROM:-0500
TZOFFSETTO:-0400
TZNAME:EDT
DTSTART:20230312T070000
END:DAYLIGHT
BEGIN:STANDARD
TZOFFSETFROM:-0400
TZOFFSETTO:-0500
TZNAME:EST
DTSTART:20231105T060000
END:STANDARD
BEGIN:DAYLIGHT
TZOFFSETFROM:-0500
TZOFFSETTO:-0400
TZNAME:EDT
DTSTART:20240310T070000
END:DAYLIGHT
BEGIN:STANDARD
TZOFFSETFROM:-0400
TZOFFSETTO:-0500
TZNAME:EST
DTSTART:20241103T060000
END:STANDARD
BEGIN:DAYLIGHT
TZOFFSETFROM:-0500
TZOFFSETTO:-0400
TZNAME:EDT
DTSTART:20250309T070000
END:DAYLIGHT
BEGIN:STANDARD
TZOFFSETFROM:-0400
TZOFFSETTO:-0500
TZNAME:EST
DTSTART:20251102T060000
END:STANDARD
END:VTIMEZONE
BEGIN:VTIMEZONE
TZID:Europe/London
BEGIN:DAYLIGHT
TZOFFSETFROM:+0000
TZOFFSETTO:+0100
TZNAME:BST
DTSTART:20230326T010000
END:DAYLIGHT
BEGIN:STANDARD
TZOFFSETFROM:+0100
TZOFFSETTO:+0000
TZNAME:GMT
DTSTART:20231029T010000
END:STANDARD
BEGIN:DAYLIGHT
TZOFFSETFROM:+0000
TZOFFSETTO:+0100
TZNAME:BST
DTSTART:20240331T010000
END:DAYLIGHT
BEGIN:STANDARD
TZOFFSETFROM:+0100
TZOFFSETTO:+0000
TZNAME:GMT
DTSTART:20241027T010000
END:STANDARD
BEGIN:DAYLIGHT
TZOFFSETFROM:+0000
TZOFFSETTO:+0100
TZNAME:BST
DTSTART:20250330T010000
END:DAYLIGHT
BEGIN:STANDARD
TZOFFSETFROM:+0100
TZOFFSETTO:+0000
TZNAME:GMT
DTSTART:20251026T010000
END:STANDARD
END:VTIMEZONE
BEGIN:VEVENT
DTSTART;TZID=America/Los_Angeles:20241204T180000
DTEND;TZID=America/Los_Angeles:20241204T200000
DTSTAMP:20260422T103036
CREATED:20241108T161729Z
LAST-MODIFIED:20241108T161740Z
UID:10007575-1733335200-1733342400@newsuat.fordham.edu
SUMMARY:Alumni Chapter of Los Angeles: 2024 Holiday Fun
DESCRIPTION:The Alumni Chapter of Los Angeles invites you to kick off the holiday season with fellow SoCal Rams! Alumni\, parents\, friends\, and family are all welcome to join. \nEnjoy the chance to reconnect\, meet new people\, and get in the holiday spirit together! The event costs $5 per person and includes a selection of small bites courtesy of the Office of Alumni Relations. There will be a cash bar. \nPlease note: There is free on-site parking. \nSpace is limited\, and registrations will be honored on a first-come\, first-served basis. We encourage you to register early.
URL:https://newsuat.fordham.edu/event/alumni-chapter-of-los-angeles-2024-holiday-fun/
LOCATION:The Cloverfield\, 3300 Airport Avenue\, Santa Monica\, CA\, 90405\, United States
CATEGORIES:Cultural,Social
ORGANIZER;CN="Lori Schaffhauser":MAILTO:lorimaui10@gmail.com
END:VEVENT
BEGIN:VEVENT
DTSTART;TZID=America/Los_Angeles:20241206T150000
DTEND;TZID=America/Los_Angeles:20241206T170000
DTSTAMP:20260422T103036
CREATED:20241203T150059Z
LAST-MODIFIED:20241203T150059Z
UID:10007609-1733497200-1733504400@newsuat.fordham.edu
SUMMARY:2024 Men's Water Polo NCAA National Championship Pre-Match Gathering
DESCRIPTION:It’s a great time to be a Ram! Alumni\, friends\, and family are invited to join the Office of Alumni Relations and the Maroon Club for a complimentary pre-match gathering and to stay for the match as the undefeated men’s water polo team competes in the 2024 NCAA Championship. \nFollowing the gathering\, the match begins at 6 p.m. against Long Beach State. \nPlease note: This registration page is for the pre-match gathering only\, and tournament tickets must be purchased separately. Visit Stanford’s NCAA Men’s Water Polo Championship site to purchase tickets and learn more. Wear your best maroon gear and cheer on the men’s water polo team! \nThe tournament will take place at the Avery Aquatic Center and the schedule is as follows: \nFriday\, December 6\n12 p.m. – Game 1: (#1) UCLA vs. Salem (WV)\n2 p.m. – Game 2: (#4) Stanford vs. Princeton\n4 p.m. – Game 3: (#2) USC vs. California Baptist\n6 p.m. – Game 4: (#3) Fordham vs. Long Beach State \nSaturday\, December 7\n2 p.m. – Game 5: Winner of Game 1 vs. Winner of Game 2\n4 p.m. – Game 6: Winner of Game 3 vs. Winner of Game 4 \nSunday\, December 8\n3 p.m. – Championship Game \nIf Fordham advances\, we will plan to gather at The Patio @ Rudy’s three hours before the weekend matches.
URL:https://newsuat.fordham.edu/event/2024-mens-water-polo-ncaa-national-championship-pre-match-gathering/
LOCATION:The Patio @ Rudy’s\, 412 Emerson Street\, Palo Alto\, CA\, 94301\, United States
CATEGORIES:Athletics,Social
ORGANIZER;CN="Ainsley Woakes":MAILTO:awoakes@fordham.edu
END:VEVENT
BEGIN:VEVENT
DTSTART;TZID=America/New_York:20241208T130000
DTEND;TZID=America/New_York:20241208T153000
DTSTAMP:20260422T103036
CREATED:20241104T171401Z
LAST-MODIFIED:20241106T143657Z
UID:10007565-1733662800-1733671800@newsuat.fordham.edu
SUMMARY:Marymount Founder’s Day 2024
DESCRIPTION:The Marymount Alumnae Board\, administrators\, members of the Religious of the Sacred Heart of Mary (R.S.H.M.) and their families\, and Fordham University’s Office of Alumni Relations invite you to a gathering celebrating Marymount College’s founding in 1907 by Mother Marie Joseph Butler. \nThis year\, Marymount alumnae want to celebrate how their R.S.H.M. connection continues by highlighting Marymount alumnae programs and initiatives with the R.S.H.M. Join us to learn about what they’re doing today! \nThe cost for this event is $40 per person. \nThe Marymount community will be supporting the R.S.H.M. Center again this year. Please consider viewing and donating to their Christmas list.
URL:https://newsuat.fordham.edu/event/marymount-founders-day-2024/
LOCATION:Butler Commons\, Duane Library\, 441 East Fordham Road \, Bronx\, NY\, 10458\, United States
CATEGORIES:Receptions,Social
ATTACH;FMTTYPE=image/png:https://newsuat.fordham.edu/wp-content/uploads/2024/11/Marymount-logo.png
ORGANIZER;CN="Office of Alumni Relations":MAILTO:alumnioffice@fordham.edu
GEO:40.8612275;-73.8892354
X-APPLE-STRUCTURED-LOCATION;VALUE=URI;X-ADDRESS=Butler Commons Duane Library 441 East Fordham Road  Bronx NY 10458 United States;X-APPLE-RADIUS=500;X-TITLE=441 East Fordham Road:geo:-73.8892354,40.8612275
END:VEVENT
BEGIN:VEVENT
DTSTART;TZID=America/New_York:20241209T190000
DTEND;TZID=America/New_York:20241209T220000
DTSTAMP:20260422T103036
CREATED:20241009T174902Z
LAST-MODIFIED:20241009T174902Z
UID:10007515-1733770800-1733781600@newsuat.fordham.edu
SUMMARY:Young Alumni Rangers Night
DESCRIPTION:Fordham Alumni\, celebrate your school on Monday\, December 9 when the New York Rangers faceoff against the Chicago Blackhawks.\nEach ticket package includes a game ticket and an exclusive New York Rangers co-branded Fordham hat!
URL:https://newsuat.fordham.edu/event/young-alumni-rangers-night/
LOCATION:Madison Square Garden\, 4 Pennsylvania Plaza\, New York\, NY\, 10001\, United States
CATEGORIES:Athletics,Cultural,Social
ORGANIZER;CN="Rachel Kartiganer":MAILTO:rkartiganer@fordham.edu
END:VEVENT
BEGIN:VEVENT
DTSTART;TZID=America/New_York:20241212T120000
DTEND;TZID=America/New_York:20241212T140000
DTSTAMP:20260422T103036
CREATED:20241210T193234Z
LAST-MODIFIED:20241210T193234Z
UID:10007617-1734004800-1734012000@newsuat.fordham.edu
SUMMARY:Feast of our Lady of Guadalupe
DESCRIPTION:¡Ven con nosotros a caminar\, Santa Maria\, ven!\nCome\, walk with us\, Blessed Mary\, come! \nMass and Celebratory Reception. \nLincoln Center | 12 p.m.\nBlessed Rupert Mayer\, S.J.\, Chapel\nLowenstein Center\, Room 221 \nRose Hill | 12:05 p.m.\nSacred Heart Chapel\, Dealy Hall
URL:https://newsuat.fordham.edu/event/feast-of-our-lady-of-guadalupe/
LOCATION:Sacred Heart Chapel\, 441 E Fordham Road\, Bronx\, NY\, 10458-5149\, United States
CATEGORIES:Receptions,Social,Spiritual and Religious Events
ORGANIZER;CN="Campus Ministry":MAILTO:cm@fordham.edu
END:VEVENT
BEGIN:VEVENT
DTSTART;TZID=Europe/London:20241212T170000
DTEND;TZID=Europe/London:20241212T213000
DTSTAMP:20260422T103036
CREATED:20241106T183548Z
LAST-MODIFIED:20241106T183548Z
UID:10007573-1734022800-1734039000@newsuat.fordham.edu
SUMMARY:Alumni Chapter of the United Kingdom: 2024 Christmas Service and Reception
DESCRIPTION:The Alumni Chapter of the United Kingdom and Fordham London invite all alumni to gather together for an evening full of Christmas festivities and community! The evening will begin with a pre-service alumni reception at a nearby pub\, the Coach & Horses. Following the reception\, guests are invited to attend the Farm Street Church Christmas service and a post-service parish reception. Join for the entire evening\, or feel free to come to what your schedule allows. Drinks will be provided. Food will be available at the pre-service reception. All Fordham alumni\, faculty\, and staff are welcome to join. \nPre-service Reception\n5 – 7 p.m.\nThe Coach & Horses\n5 Hill Street\, London\, W1J 5LD \nChristmas Service\n7 – 8:30 p.m.\nJesuit Farm Street Church\n14 Mount Street\, London W1K 3AH \nPost-service Reception\n8:30 – 9:30 p.m.\nJesuit Farm Street Church
URL:https://newsuat.fordham.edu/event/alumni-chapter-of-the-united-kingdom-2024-christmas-service-and-reception/
LOCATION:The Coach & Horses\, 5 Hill Street\, London\, W1J 5LD\, United Kingdom
CATEGORIES:Receptions,Social,Spiritual and Religious Events
END:VEVENT
BEGIN:VEVENT
DTSTART;TZID=America/New_York:20241212T183000
DTEND;TZID=America/New_York:20241212T203000
DTSTAMP:20260422T103036
CREATED:20241031T181850Z
LAST-MODIFIED:20241031T181850Z
UID:10007557-1734028200-1734035400@newsuat.fordham.edu
SUMMARY:2024 Fairfield County Presidential Reception
DESCRIPTION:Ken Rogozinski\, GABELLI ’85\, PAR\, and Alexandra Smith\, PAR; the Alumni Chapter of Fairfield County; and Tania Tetlow\, president of Fordham University\, cordially invite you to a complimentary reception for alumni\, parents\, and friends. \nSpace is limited\, and advance registration is required. Riverside Yacht Club is a private venue\, and walk-ins cannot be accommodated. We encourage you to register early as this event will sell out. \nAs the cost of this event is being generously covered by our hosts\, Ken Rogozinski and Alexandra Smith\, please consider making a gift of $25 or more to support an area of your choice at Fordham.
URL:https://newsuat.fordham.edu/event/2024-fairfield-county-presidential-reception/
LOCATION:Riverside Yacht Club\, 102 Club Road\, Riverside\, CT\, 06878\, United States
CATEGORIES:Networking and Career,Receptions,Social
ORGANIZER;CN="Office of Alumni Relations":MAILTO:alumnioffice@fordham.edu
END:VEVENT
BEGIN:VEVENT
DTSTART;TZID=America/New_York:20241215T173000
DTEND;TZID=America/New_York:20241215T203000
DTSTAMP:20260422T103036
CREATED:20241212T202700Z
LAST-MODIFIED:20241212T202700Z
UID:10007623-1734283800-1734294600@newsuat.fordham.edu
SUMMARY:Mass For Gaudete Sunday
DESCRIPTION:Join us for festive celebrations and receive Fordham Christmas T-shirts! \nMass for Gaudete Sunday\nRose Hill: Sunday\, December 15 | 7 p.m. | University Church\nLincoln Center: Sunday\, December 15 | 5:30 p.m. | Blessed Rupert Mayer\, S.J.\, Chapel\, Lowenstein 221
URL:https://newsuat.fordham.edu/event/mass-for-gaudete-sunday-2/
LOCATION:University Church\, 441 E Fordham Rd\, Bronx\, NY\, 10458\, United States
CATEGORIES:Social,Spiritual and Religious Events,Wellness
ATTACH;FMTTYPE=image/jpeg:https://newsuat.fordham.edu/wp-content/uploads/2024/12/23-2920_Gaudete-Sunday-email_1080x675-scaled.jpg
ORGANIZER;CN="Campus Ministry":MAILTO:cm@fordham.edu
GEO:40.8619545;-73.8855064
X-APPLE-STRUCTURED-LOCATION;VALUE=URI;X-ADDRESS=University Church 441 E Fordham Rd Bronx NY 10458 United States;X-APPLE-RADIUS=500;X-TITLE=441 E Fordham Rd:geo:-73.8855064,40.8619545
END:VEVENT
BEGIN:VEVENT
DTSTART;TZID=America/New_York:20241216T184500
DTEND;TZID=America/New_York:20241216T201500
DTSTAMP:20260422T103036
CREATED:20241209T163321Z
LAST-MODIFIED:20241209T163321Z
UID:10007613-1734374700-1734380100@newsuat.fordham.edu
SUMMARY:GSS Black Alumni Caucus Meeting
DESCRIPTION:This meeting’s topic will be: “Project 2025 and U.” \nThe GSS Black Alumni Caucus is a virtual space for self-identified Black alumni of Fordham University’s Graduate School of Social Service (GSS). Fordham GSS is holding space for you to connect with other Black alums and with GSS in order to create a relaxed and affirming environment where we can support one another.
URL:https://newsuat.fordham.edu/event/gss-black-alumni-caucus-meeting-3/
LOCATION:Zoom
CATEGORIES:Social
ATTACH;FMTTYPE=image/png:https://newsuat.fordham.edu/wp-content/uploads/2024/12/Picture1.png
END:VEVENT
BEGIN:VEVENT
DTSTART;TZID=America/New_York:20241217T124500
DTEND;TZID=America/New_York:20241217T133000
DTSTAMP:20260422T103036
CREATED:20241209T163417Z
LAST-MODIFIED:20241209T163417Z
UID:10007614-1734439500-1734442200@newsuat.fordham.edu
SUMMARY:Care for the Caregiver Social Work Student Group
DESCRIPTION:Are you a future social worker looking to support your own well-being while caring for others? Join us for an info session to learn about our new student group at Fordham University designed to help you thrive\, connect\, recharge\, and embrace the path of eternal learning.
URL:https://newsuat.fordham.edu/event/care-for-the-caregiver-social-work-student-group/
LOCATION:Zoom
CATEGORIES:Social
END:VEVENT
BEGIN:VEVENT
DTSTART;TZID=America/New_York:20241217T180000
DTEND;TZID=America/New_York:20241217T210000
DTSTAMP:20260422T103036
CREATED:20241113T185138Z
LAST-MODIFIED:20241113T185138Z
UID:10007595-1734458400-1734469200@newsuat.fordham.edu
SUMMARY:Alumni Chapter of Washington\, D.C.: 2024 Holiday Party
DESCRIPTION:The Alumni Chapter of Washington\, D.C.\, invites alumni\, family\, and friends to celebrate at its annual holiday party! We will have drinks\, appetizers\, and merriment at The Admiral near Dupont Circle. The event is located in the Bancroft Bar area toward the back of the restaurant. \nThe event costs $25 per person and includes a selection of appetizers and a drink ticket. Additional drinks can be purchased at the bar. \nWe encourage you to register early! \nPlease consider making a donation to Alumni Chapter of Washington\, D.C.’s Endowed Scholarship.
URL:https://newsuat.fordham.edu/event/alumni-chapter-of-washington-d-c-2024-holiday-party/
LOCATION:The Admiral\, 1 Dupont Circle NW\, Washington\, DC\, 20036\, United States
CATEGORIES:Social
ORGANIZER;CN="Laura Zeifang%2C FCRH %E2%80%9910":MAILTO:lzeifang@gmail.com
END:VEVENT
BEGIN:VEVENT
DTSTART;TZID=America/Los_Angeles:20241220T193000
DTEND;TZID=America/Los_Angeles:20241220T230000
DTSTAMP:20260422T103036
CREATED:20241113T185329Z
LAST-MODIFIED:20241113T185329Z
UID:10007596-1734723000-1734735600@newsuat.fordham.edu
SUMMARY:Alumni Chapter of Northern California: 2024 Holiday Party
DESCRIPTION:The Alumni Chapter of Northern California invites you to celebrate the holidays with a dinner at Original Joe’s in North Beach! Alumni\, parents\, friends\, and family are all welcome to join. \nThe event costs $100 per person and includes a four-course meal and drinks (wine\, coffee\, soda) in the private Tony Bennett dining room. Children 12 and younger cost $40 per child. A portion of the cost has been very generously underwritten by sponsorships from the Office of Alumni Relations\, Fordham Law\, and the NorCal Alumni Chapter. \nSpace is limited\, and registrations will be honored on a first-come\, first-served basis. We encourage you to register early. RSVP by December 19.
URL:https://newsuat.fordham.edu/event/alumni-chapter-of-northern-california-2024-holiday-party/
LOCATION:Original Joe’s\, 601 Union Street\, San Francisco\, CA\, 94133\, United States
CATEGORIES:Social
ORGANIZER;CN="Mark Di Giorgio%2C GABELLI %E2%80%9987%2C %E2%80%9993":MAILTO:markadigiorgio@att.net
END:VEVENT
BEGIN:VEVENT
DTSTART;TZID=America/New_York:20241221T160000
DTEND;TZID=America/New_York:20241221T210000
DTSTAMP:20260422T103036
CREATED:20241210T213517Z
LAST-MODIFIED:20241210T215015Z
UID:10007619-1734796800-1734814800@newsuat.fordham.edu
SUMMARY:Alumni Chapter of Charleston: Book and Bottle Holiday Party
DESCRIPTION:The Alumni Chapter of Charleston invites alumni\, family\, and friends to attend its annual holiday soiree at the home of Ellen Creede\, LAW ’78\, and George Dalton\, FCRH ’73\, LAW ’78. Bring a book that you enjoyed this year and a spirited bottle to can exchange with a fellow alumnus/a or guest at this fun and festive get-together. \nPlease consider bringing one of the following items: chips\, pretzels\, dips\, a crudités platter\, mac and cheese\, lasagna or another pasta dish\, a vegetable dish\, cookies/brownies\, or another dessert. Please utilize the sign-up area on the Evite to indicate if you’ll bring something.
URL:https://newsuat.fordham.edu/event/alumni-chapter-of-charleston-book-and-bottle-holiday-party/
LOCATION:The Creede Dalton Home\, Isle of Palms\, SC\, United States
CATEGORIES:Receptions,Social
ORGANIZER;CN="Alumni Chapter of Charleston %E2%80%93 George Dalton":MAILTO:georgedalton99@gmail.com
END:VEVENT
END:VCALENDAR