BEGIN:VCALENDAR
VERSION:2.0
PRODID:-//Fordham Now - ECPv6.15.20//NONSGML v1.0//EN
CALSCALE:GREGORIAN
METHOD:PUBLISH
X-ORIGINAL-URL:https://newsuat.fordham.edu
X-WR-CALDESC:Events for Fordham Now
REFRESH-INTERVAL;VALUE=DURATION:PT1H
X-Robots-Tag:noindex
X-PUBLISHED-TTL:PT1H
BEGIN:VTIMEZONE
TZID:America/Los_Angeles
BEGIN:DAYLIGHT
TZOFFSETFROM:-0800
TZOFFSETTO:-0700
TZNAME:PDT
DTSTART:20230312T100000
END:DAYLIGHT
BEGIN:STANDARD
TZOFFSETFROM:-0700
TZOFFSETTO:-0800
TZNAME:PST
DTSTART:20231105T090000
END:STANDARD
BEGIN:DAYLIGHT
TZOFFSETFROM:-0800
TZOFFSETTO:-0700
TZNAME:PDT
DTSTART:20240310T100000
END:DAYLIGHT
BEGIN:STANDARD
TZOFFSETFROM:-0700
TZOFFSETTO:-0800
TZNAME:PST
DTSTART:20241103T090000
END:STANDARD
BEGIN:DAYLIGHT
TZOFFSETFROM:-0800
TZOFFSETTO:-0700
TZNAME:PDT
DTSTART:20250309T100000
END:DAYLIGHT
BEGIN:STANDARD
TZOFFSETFROM:-0700
TZOFFSETTO:-0800
TZNAME:PST
DTSTART:20251102T090000
END:STANDARD
END:VTIMEZONE
BEGIN:VTIMEZONE
TZID:America/New_York
BEGIN:DAYLIGHT
TZOFFSETFROM:-0500
TZOFFSETTO:-0400
TZNAME:EDT
DTSTART:20230312T070000
END:DAYLIGHT
BEGIN:STANDARD
TZOFFSETFROM:-0400
TZOFFSETTO:-0500
TZNAME:EST
DTSTART:20231105T060000
END:STANDARD
BEGIN:DAYLIGHT
TZOFFSETFROM:-0500
TZOFFSETTO:-0400
TZNAME:EDT
DTSTART:20240310T070000
END:DAYLIGHT
BEGIN:STANDARD
TZOFFSETFROM:-0400
TZOFFSETTO:-0500
TZNAME:EST
DTSTART:20241103T060000
END:STANDARD
BEGIN:DAYLIGHT
TZOFFSETFROM:-0500
TZOFFSETTO:-0400
TZNAME:EDT
DTSTART:20250309T070000
END:DAYLIGHT
BEGIN:STANDARD
TZOFFSETFROM:-0400
TZOFFSETTO:-0500
TZNAME:EST
DTSTART:20251102T060000
END:STANDARD
END:VTIMEZONE
BEGIN:VTIMEZONE
TZID:Asia/Taipei
BEGIN:STANDARD
TZOFFSETFROM:+0800
TZOFFSETTO:+0800
TZNAME:CST
DTSTART:20230101T000000
END:STANDARD
END:VTIMEZONE
BEGIN:VTIMEZONE
TZID:Asia/Shanghai
BEGIN:STANDARD
TZOFFSETFROM:+0800
TZOFFSETTO:+0800
TZNAME:CST
DTSTART:20230101T000000
END:STANDARD
END:VTIMEZONE
BEGIN:VTIMEZONE
TZID:Europe/London
BEGIN:DAYLIGHT
TZOFFSETFROM:+0000
TZOFFSETTO:+0100
TZNAME:BST
DTSTART:20230326T010000
END:DAYLIGHT
BEGIN:STANDARD
TZOFFSETFROM:+0100
TZOFFSETTO:+0000
TZNAME:GMT
DTSTART:20231029T010000
END:STANDARD
BEGIN:DAYLIGHT
TZOFFSETFROM:+0000
TZOFFSETTO:+0100
TZNAME:BST
DTSTART:20240331T010000
END:DAYLIGHT
BEGIN:STANDARD
TZOFFSETFROM:+0100
TZOFFSETTO:+0000
TZNAME:GMT
DTSTART:20241027T010000
END:STANDARD
BEGIN:DAYLIGHT
TZOFFSETFROM:+0000
TZOFFSETTO:+0100
TZNAME:BST
DTSTART:20250330T010000
END:DAYLIGHT
BEGIN:STANDARD
TZOFFSETFROM:+0100
TZOFFSETTO:+0000
TZNAME:GMT
DTSTART:20251026T010000
END:STANDARD
END:VTIMEZONE
BEGIN:VEVENT
DTSTART;TZID=America/Los_Angeles:20240925T170000
DTEND;TZID=America/Los_Angeles:20241106T193000
DTSTAMP:20260422T142100
CREATED:20240820T230310Z
LAST-MODIFIED:20240820T230310Z
UID:10007429-1727283600-1730921400@newsuat.fordham.edu
SUMMARY:Alumni Chapter of Northern California: 2024 Ferry Bocce League
DESCRIPTION:Join the alumni chapter for our fifth year with the Ferry Bocce League in San Francisco this fall! The season runs from September 25 through November 6\, with our teams—the Bronx Ballers—participating in games on Wednesday evenings. We will have one team compete per night\, with each team consisting of up to nine players. \nThe cost includes seven weeks of play and open bar (soda\, beer\, wine). Fordham Bronx Ballers T-shirts are available on a first-come\, first-served basis. Space is very limited\, as team size is restricted to nine players\, so reserve your spot today! \nMore information about the league can be found at ferrybocce.com. \nRSVP by September 23.
URL:https://newsuat.fordham.edu/event/alumni-chapter-of-northern-california-2024-ferry-bocce-league/
LOCATION:Embarcadero Plaza\, Market and Steuart Streets\, San Francisco\, CA\, 94105\, United States
CATEGORIES:Social
ORGANIZER;CN="Mark Di Giorgio":MAILTO:markadigiorgio@att.net
END:VEVENT
BEGIN:VEVENT
DTSTART;TZID=America/Los_Angeles:20241002T190000
DTEND;TZID=America/Los_Angeles:20241002T210000
DTSTAMP:20260422T142100
CREATED:20240904T155039Z
LAST-MODIFIED:20240904T155039Z
UID:10007449-1727895600-1727902800@newsuat.fordham.edu
SUMMARY:Alumni Chapter of Los Angeles: 2024 Dinner Series (Hollywood)
DESCRIPTION:The Alumni Chapter of Los Angeles invites alumni to attend the inaugural Fordham Alumni Dinner Series. These events\, led by local alumni volunteers\, will be a fantastic way to meet Rams from all over LA. If you’re looking to meet new people\, connect with Fordham graduates\, and broaden your network\, these dinners are for you! \nPlease note: space is very limited (eight guests per evening). If you are interested in attending more than one\, we ask that you do not sign up for more than two dinners. We kindly ask that only Fordham alumni attend. \nThere is no charge to attend but guests will be responsible for the purchase of their own meal and beverages directly from the restaurant. \nPlease contact the assigned alumni lead\, Eva Fordham\, FCLC ’01\, with any questions.
URL:https://newsuat.fordham.edu/event/alumni-chapter-of-los-angeles-2024-dinner-series-hollywood/
LOCATION:Mother Tongue\, 960 N. La Brea Ave\, 4th Floor\, Los Angeles\, CA\, 90038\, United States
CATEGORIES:Networking and Career,Social
ORGANIZER;CN="Alumni Chapter of Los Angeles":MAILTO:evafordham@gmail.com
END:VEVENT
BEGIN:VEVENT
DTSTART;TZID=America/New_York:20241003T120000
DTEND;TZID=America/New_York:20241003T150000
DTSTAMP:20260422T142100
CREATED:20240930T180707Z
LAST-MODIFIED:20241002T142355Z
UID:10007499-1727956800-1727967600@newsuat.fordham.edu
SUMMARY:Abraham: A Shared Legacy Series from the Christian Tradition
DESCRIPTION:Join us for a series of discussions about the life of the prophet Abraham and the common threads of the Abrahamic faiths with Imam Ammar Abdul Rahman.
URL:https://newsuat.fordham.edu/event/abraham-a-shared-legacy-series-from-the-christian-tradition/
LOCATION:McNally Amphitheatre\, 140 West 62nd Street\, New York\, NY\, 10023\, United States
CATEGORIES:Lectures,Social,Spiritual and Religious Events
ATTACH;FMTTYPE=image/png:https://newsuat.fordham.edu/wp-content/uploads/2024/09/Oct.-3rd-event-flyer.png
ORGANIZER;CN="Fordham University Campus Ministry":MAILTO:jcavanagh@fordham.edu
GEO:40.7713958;-73.9844894
X-APPLE-STRUCTURED-LOCATION;VALUE=URI;X-ADDRESS=McNally Amphitheatre 140 West 62nd Street New York NY 10023 United States;X-APPLE-RADIUS=500;X-TITLE=140 West 62nd Street:geo:-73.9844894,40.7713958
END:VEVENT
BEGIN:VEVENT
DTSTART;TZID=America/New_York:20241005T110000
DTEND;TZID=America/New_York:20241005T130000
DTSTAMP:20260422T142100
CREATED:20240820T170739Z
LAST-MODIFIED:20240820T170739Z
UID:10007426-1728126000-1728133200@newsuat.fordham.edu
SUMMARY:Spirits and Stories: Fordham Young Alumni Walking Tour at Green-Wood Cemetery
DESCRIPTION:Join us for a captivating walking tour at Green-Wood Cemetery with author Allison C. Meier. Delve into the fascinating world of graves and their meanings as Meier guides us through the historic cemetery\, sharing insights from her acclaimed book\, Grave. This unique event offers an enriching experience for Fordham’s young alumni\, blending history\, literature\, and a touch of the macabre. \nThe ticket cost includes a copy of Grave. Don’t miss this opportunity to explore one of New York City’s most-storied resting places and connect with fellow alumni in a truly memorable setting.
URL:https://newsuat.fordham.edu/event/spirits-and-stories-fordham-young-alumni-walking-tour-at-green-wood-cemetery/
LOCATION:Green-Wood Cemetery\, 500 25th St\, Brooklyn\, NY\, 11232\, United States
CATEGORIES:Cultural,Social
ORGANIZER;CN="Rachel Kartiganer":MAILTO:rkartiganer@fordham.edu
END:VEVENT
BEGIN:VEVENT
DTSTART;TZID=America/New_York:20241010T103000
DTEND;TZID=America/New_York:20241010T200000
DTSTAMP:20260422T142100
CREATED:20240604T142956Z
LAST-MODIFIED:20240604T142956Z
UID:10007395-1728556200-1728590400@newsuat.fordham.edu
SUMMARY:Alumni Chapter of Long Island: 2024 Golf Outing
DESCRIPTION:Join the Alumni Chapter of Long Island for its 19th annual golf outing! \nEnjoy a great round of golf with fellow Fordham alumni\, family\, and friends at the Garden City Country Club. This golf outing benefits the Long Island Scholarship in Memory of John Cifichiello\, GABELLI ’68.
URL:https://newsuat.fordham.edu/event/alumni-chapter-of-long-island-2024-golf-outing/
LOCATION:Garden City Country Club\, 206 Stewart Avenue\, Garden City\, NY\, 11530\, United States
CATEGORIES:Athletics,Receptions,Social
ORGANIZER;CN="Alumni Chapter of Long Island":MAILTO:phillipcicione@gmail.com
END:VEVENT
BEGIN:VEVENT
DTSTART;TZID=America/Los_Angeles:20241010T190000
DTEND;TZID=America/Los_Angeles:20241010T210000
DTSTAMP:20260422T142100
CREATED:20240904T173841Z
LAST-MODIFIED:20240904T173841Z
UID:10007450-1728586800-1728594000@newsuat.fordham.edu
SUMMARY:Fordham Alumni Chapter of LA: 2024 Alumni Dinner Series (North Hollywood)
DESCRIPTION:The Alumni Chapter of Los Angeles invites alumni to attend the inaugural Fordham Alumni Dinner Series. These events\, led by local alumni volunteers\, will be a fantastic way to meet Rams from all over LA. If you’re looking to meet new people\, connect with Fordham graduates\, and broaden your network\, these dinners are for you! \nPlease note: space is very limited (eight guests per evening). If you are interested in attending more than one\, we ask that you do not sign up for more than two dinners. We kindly ask that only Fordham alumni attend. \nThere is no charge to attend but guests will be responsible for the purchase of their own meal and beverages directly from the restaurant. \nPlease contact the Dave Martel\, FCLC ’00\, with any questions.
URL:https://newsuat.fordham.edu/event/fordham-alumni-chapter-of-la-2024-alumni-dinner-series-north-hollywood/
LOCATION:Granville\, 11136 Magnolia Boulevard\, Los Angeles\, 91601\, United States
CATEGORIES:Networking and Career,Social
ORGANIZER;CN="Alumni Chapter of Los Angeles":MAILTO:evafordham@gmail.com
END:VEVENT
BEGIN:VEVENT
DTSTART;TZID=Asia/Taipei:20241013T153000
DTEND;TZID=Asia/Taipei:20241013T173000
DTSTAMP:20260422T142100
CREATED:20240911T144402Z
LAST-MODIFIED:20240911T144402Z
UID:10007462-1728833400-1728840600@newsuat.fordham.edu
SUMMARY:2024 Taipei Alumni Reception
DESCRIPTION:The Office of Alumni Relations cordially invites you to a complimentary reception for alumni\, parents\, and friends. Meet other Taiwan-based alumni and learn about what’s new at Fordham University from Michael E. Griffin\, associate vice president for alumni relations. \nSpace is limited\, and advance registration is required. RSVP by October 10. \nPlease consider making a gift of $25 or more to support an area of your choice at Fordham. \nProgram\n3:30 – 4:30 p.m. | Networking reception: Guests are invited to mingle and enjoy a selection of complimentary nibbles\, beer\, wine\, and soft drinks. \n4:30 – 4:45 p.m. | Welcome and alumni relations update by Michael E. Griffin\, associate vice president for alumni relations \n4:45 p.m. | Reception continues \n5:30 p.m. | Reception ends \n​All guests will receive a special Fordham gift.
URL:https://newsuat.fordham.edu/event/2024-taipei-alumni-reception/
LOCATION:The Tavernist\, 106\, Taipei City\, Da’an District\, Lane 27\, Section 4\, Ren’ai Road\, No.25\, 12F\, Taipei\, Taiwan
CATEGORIES:Networking and Career,Receptions,Social
ORGANIZER;CN="Office of Alumni Relations":MAILTO:alumnioffice@fordham.edu
END:VEVENT
BEGIN:VEVENT
DTSTART;TZID=Asia/Shanghai:20241015T183000
DTEND;TZID=Asia/Shanghai:20241015T203000
DTSTAMP:20260422T142100
CREATED:20240911T152325Z
LAST-MODIFIED:20240911T152325Z
UID:10007463-1729017000-1729024200@newsuat.fordham.edu
SUMMARY:2024 Shanghai Alumni Reception
DESCRIPTION:The Office of Alumni Relations and the Gabelli School of Business cordially invite you to a complimentary reception for alumni\, parents\, and friends. Meet fellow Shanghai-based alumni and learn about what’s happening at Fordham. \nSpace is limited\, and advance registration is required. RSVP by October 13. \nPlease consider making a gift of $25 or more to support an area of your choice at Fordham. \nProgram\n6:30 – 7:15 p.m. | Networking: Guests are invited to mingle and enjoy a selection of complimentary canapés\, savories\, desserts\, beer\, wine\, and soft drinks. \n7:15 p.m. | Welcome and alumni relations update from Michael E. Griffin\, associate vice president for alumni relations \n7:25 p.m. | Remarks by featured speaker Lerzan Aksoy\, dean of the Gabelli School of Business \n7:45 p.m. | Reception continues \n8:30 p.m. | Reception ends \nAll guests will receive a special Fordham gift.
URL:https://newsuat.fordham.edu/event/2024-shanghai-alumni-reception/
LOCATION:W Shanghai\, The Bund\, 66 Lvshun Road\, Hongkou District\, Shanghai\, 200086\, China
CATEGORIES:Networking and Career,Receptions,Social
ORGANIZER;CN="Office of Alumni Relations":MAILTO:alumnioffice@fordham.edu
END:VEVENT
BEGIN:VEVENT
DTSTART;TZID=America/Los_Angeles:20241016T190000
DTEND;TZID=America/Los_Angeles:20241016T210000
DTSTAMP:20260422T142100
CREATED:20240904T173411Z
LAST-MODIFIED:20240904T173411Z
UID:10007451-1729105200-1729112400@newsuat.fordham.edu
SUMMARY:Alumni Chapter of Los Angeles: 2024 Alumni Dinner Series (Santa Monica)
DESCRIPTION:The Alumni Chapter of Los Angeles invites alumni to attend the inaugural Fordham Alumni Dinner Series. These events\, led by local alumni volunteers\, will be a fantastic way to meet Rams from all over LA. If you’re looking to meet new people\, connect with Fordham graduates\, and broaden your network\, these dinners are for you! \nPlease note: space is very limited (eight guests per evening). If you are interested in attending more than one\, we ask that you do not sign up for more than two dinners. We kindly ask that only Fordham alumni attend. \nThere is no charge to attend but guests will be responsible for the purchase of their own meal and beverages directly from the restaurant. \nPlease contact the Jake Hungarter\, GABELLI ’24\, with any questions.
URL:https://newsuat.fordham.edu/event/alumni-chapter-of-los-angeles-2024-alumni-dinner-series-santa-monica/
LOCATION:Calabra at Santa Monica Proper Hotel\, 700 Wilshire Boulevard\, Santa Monica\, CA\, 90401\, United States
CATEGORIES:Networking and Career,Social
ORGANIZER;CN="Alumni Chapter of Los Angeles":MAILTO:evafordham@gmail.com
END:VEVENT
BEGIN:VEVENT
DTSTART;TZID=Asia/Shanghai:20241017T183000
DTEND;TZID=Asia/Shanghai:20241017T203000
DTSTAMP:20260422T142100
CREATED:20240911T152748Z
LAST-MODIFIED:20240911T152748Z
UID:10007464-1729189800-1729197000@newsuat.fordham.edu
SUMMARY:2024 Beijing Alumni Reception
DESCRIPTION:The Office of Alumni Relations and the Gabelli School of Business cordially invite you to a complimentary reception for alumni\, parents\, and friends. Meet fellow Beijing-based alumni and learn about what’s happening at Fordham and our partnership with Peking University. \nSpace is limited\, and advance registration is required. RSVP by October 14. \nPlease consider making a gift of $25 or more to support an area of your choice at Fordham. \nProgram\n6:30 – 7:15 p.m. | Networking: Guests are invited to mingle and enjoy a selection of complimentary canapés\, savories\, desserts\, beer\, wine\, and soft drinks. \n7:15 p.m. | Welcome and alumni relations update from Michael E. Griffin\, associate vice president for alumni relations \n7:25 p.m. | Remarks by featured speaker Lerzan Aksoy\, dean of the Gabelli School of Business \n7:45 p.m. | Reception continues \n8:30 p.m. | Reception ends \nAll guests will receive a special Fordham gift.
URL:https://newsuat.fordham.edu/event/2024-beijing-alumni-reception/
LOCATION:The Regent Beijing\, 99 Jinbao Street\, Dongcheng District\, Beijing\, China
CATEGORIES:Networking and Career,Receptions,Social
ORGANIZER;CN="Office of Alumni Relations":MAILTO:alumnioffice@fordham.edu
END:VEVENT
BEGIN:VEVENT
DTSTART;TZID=America/New_York:20241021T120000
DTEND;TZID=America/New_York:20241021T150000
DTSTAMP:20260422T142100
CREATED:20240930T180618Z
LAST-MODIFIED:20241002T142827Z
UID:10007501-1729512000-1729522800@newsuat.fordham.edu
SUMMARY:Abraham: A Shared Legacy From the Islamic Tradition
DESCRIPTION:Join us for a series of discussions about the life of the prophet Abraham and the common threads of the Abrahamic faiths with Imam Ammar Abdul Rahman.
URL:https://newsuat.fordham.edu/event/abraham-a-shared-legacy-from-the-islamic-tradition/
LOCATION:Campbell Hall Multipurpose Room\, 441 East Fordham Road\, Bronx\, NY\, 10458\, United States
CATEGORIES:Lectures,Social,Spiritual and Religious Events
ATTACH;FMTTYPE=image/png:https://newsuat.fordham.edu/wp-content/uploads/2024/09/Oct-21-flyer.png
ORGANIZER;CN="Fordham University Campus Ministry":MAILTO:jcavanagh@fordham.edu
GEO:40.8612275;-73.8892354
X-APPLE-STRUCTURED-LOCATION;VALUE=URI;X-ADDRESS=Campbell Hall Multipurpose Room 441 East Fordham Road Bronx NY 10458 United States;X-APPLE-RADIUS=500;X-TITLE=441 East Fordham Road:geo:-73.8892354,40.8612275
END:VEVENT
BEGIN:VEVENT
DTSTART;TZID=America/New_York:20241021T184500
DTEND;TZID=America/New_York:20241021T200000
DTSTAMP:20260422T142100
CREATED:20240918T192654Z
LAST-MODIFIED:20240918T192654Z
UID:10007481-1729536300-1729540800@newsuat.fordham.edu
SUMMARY:GSS Black Student Caucus Meeting
DESCRIPTION:Meeting Topic: Meet and Greet! \nThe GSS Black Student Caucus is a virtual meeting for self-identified Black students of Fordham University’s Graduate School of Social Service (GSS). Fordham GSS is holding space for you to connect with other Black students and with GSS in order to create a relaxed and affirming environment where social\, support\, mentorship\, and activism activities occur.
URL:https://newsuat.fordham.edu/event/gss-black-student-caucus-meeting-3/
LOCATION:Zoom
CATEGORIES:Networking and Career,Social
END:VEVENT
BEGIN:VEVENT
DTSTART;TZID=America/New_York:20241022T080000
DTEND;TZID=America/New_York:20241130T235900
DTSTAMP:20260422T142100
CREATED:20241022T203622Z
LAST-MODIFIED:20241022T203622Z
UID:10007549-1729584000-1733011140@newsuat.fordham.edu
SUMMARY:Annual Thanksgiving Food Drive
DESCRIPTION:Please consider donating to the annual Fordham Thanksgiving food drive. Your monetary donation will help Fordham’s community partners provide food for families experiencing food insecurity in the New York area. \n​Donate today through the end of the November at fordham.edu/givethanks. \nPlease note: This is not a donation to Fordham University. Your donation will support these partner organizations: \nRose Hill: The Church of Our Lady of Mercy\, Part of the Solution\, Creston Avenue Baptist Soup Kitchen (Bronx\, NY)\nLincoln Center: The Church of St. Paul the Apostle Food Pantry and Xavier Mission (New York\, NY)\nWestchester: Carver Center (Port Chester\, NY) \nHave a Happy Thanksgiving!
URL:https://newsuat.fordham.edu/event/annual-thanksgiving-food-drive/
LOCATION:Online\, United States
CATEGORIES:Economics,Social,Volunteer
ATTACH;FMTTYPE=image/jpeg:https://newsuat.fordham.edu/wp-content/uploads/2024/10/Thanksgiving-Food-Drive-iTV-Screen-1600x900-1-scaled.jpg
ORGANIZER;CN="Fordham University Campus Ministry":MAILTO:jcavanagh@fordham.edu
END:VEVENT
BEGIN:VEVENT
DTSTART;TZID=America/Los_Angeles:20241023T190000
DTEND;TZID=America/Los_Angeles:20241023T210000
DTSTAMP:20260422T142100
CREATED:20240904T173639Z
LAST-MODIFIED:20240904T173639Z
UID:10007452-1729710000-1729717200@newsuat.fordham.edu
SUMMARY:Alumni Chapter of Los Angeles: 2024 Alumni Dinner Series (Manhattan Beach)
DESCRIPTION:The Alumni Chapter of Los Angeles invites alumni to attend the inaugural Fordham Alumni Dinner Series. These events\, led by local alumni volunteers\, will be a fantastic way to meet Rams from all over LA. If you’re looking to meet new people\, connect with Fordham graduates\, and broaden your network\, these dinners are for you! \nPlease note: space is very limited (eight guests per evening). If you are interested in attending more than one\, we ask that you do not sign up for more than two dinners. We kindly ask that only Fordham alumni attend. \nThere is no charge to attend but guests will be responsible for the purchase of their own meal and beverages directly from the restaurant. \nPlease contact Lori Schaffhauser\, LAW ’00\, with any questions.
URL:https://newsuat.fordham.edu/event/alumni-chapter-of-los-angeles-2024-alumni-dinner-series-manhattan-beach/
LOCATION:Tin Roof Bistro\, 3500 North Sepulveda Boulevard\, Manhattan Beach\, CA\, 90266\, United States
CATEGORIES:Networking and Career,Social
ORGANIZER;CN="Alumni Chapter of Los Angeles":MAILTO:evafordham@gmail.com
END:VEVENT
BEGIN:VEVENT
DTSTART;TZID=America/New_York:20241024T140000
DTEND;TZID=America/New_York:20241024T150000
DTSTAMP:20260422T142100
CREATED:20241022T210201Z
LAST-MODIFIED:20241022T210201Z
UID:10007544-1729778400-1729782000@newsuat.fordham.edu
SUMMARY:Dog Howl-o-ween Costume Contest
DESCRIPTION:Bring your dressed up furry friend to the plaza at Lincoln Center for a Dog Halloween costume contest. Win prizes and get a cuteness overload. Sponsored by the Student Veterans of America at Fordham. Regulation: The dog MUST be licensed and vaccinated against rabies to participate. Rabies vaccination card or proof must be carried by owner.
URL:https://newsuat.fordham.edu/event/dog-howl-o-ween-costume-contest/
LOCATION:Fordham LC Plaza\, 113 W 60th street\, Outdoor Plaza\, New York\, NY\, 10023\, United States
CATEGORIES:Social
ATTACH;FMTTYPE=image/png:https://newsuat.fordham.edu/wp-content/uploads/2024/10/Dog-Halloween-Costume-Contest-Poster-Square.png
ORGANIZER;CN="military and veterans services":MAILTO:amarais@fordham.edu
END:VEVENT
BEGIN:VEVENT
DTSTART;TZID=America/New_York:20241027T130000
DTEND;TZID=America/New_York:20241027T160000
DTSTAMP:20260422T142100
CREATED:20241003T195206Z
LAST-MODIFIED:20241004T203936Z
UID:10007510-1730034000-1730044800@newsuat.fordham.edu
SUMMARY:Alumni Chapter of the Hudson Valley: 2024 Millbrook Vineyard Wine Tasting
DESCRIPTION:The Alumni Chapter of the Hudson Valley invites you to enjoy the breathtaking views at the Millbrook Vineyard and Winery in the Hudson Valley. Connect with Rams\, enjoy a wine tasting\, tour the grounds\, and have a bite from the lobster truck onsite. (Note: There are other food options) Alumni\, parents\, and friends are welcome to join. \nThe event costs $20 per person and includes a wine tasting. Plan to meet at the wine tasting tent. \nSpace is limited\, and registrations will be honored on a first-come\, first-served basis. We encourage you to register early as this event will sell out. RSVP by October 25. \nPlease consider making a gift of $25 or more to support an area of your choice at Fordham.
URL:https://newsuat.fordham.edu/event/alumni-chapter-of-hudson-valley-2024-millbrook-vineyard-wine-tasting/
LOCATION:Millbrook Vineyard & Winery\, 2 Wing Road\, Millbrook\, NY\, 12545\, United States
CATEGORIES:Social
ORGANIZER;CN="Linda Purcell":MAILTO:hudsonvalleyfordhamchapter@gmail.com
END:VEVENT
BEGIN:VEVENT
DTSTART;TZID=America/New_York:20241028T190000
DTEND;TZID=America/New_York:20241028T200000
DTSTAMP:20260422T142100
CREATED:20241022T205011Z
LAST-MODIFIED:20241022T205011Z
UID:10007545-1730142000-1730145600@newsuat.fordham.edu
SUMMARY:All Hallows Eve Halloween Organ Concert
DESCRIPTION:Come hear guest organist Anthony Rispo perform your favorite Halloween hits at this fun\, informal organ concert. A Fordham Halloween tradition! Free admission and free candy!
URL:https://newsuat.fordham.edu/event/all-hallows-eve-halloween-organ-concert/
LOCATION:University Church\, 441 E Fordham Rd\, Bronx\, NY\, 10458\, United States
CATEGORIES:Arts at Fordham,Cultural,Social
ATTACH;FMTTYPE=image/png:https://newsuat.fordham.edu/wp-content/uploads/2024/10/24-25-Spooktacular-Organ-Concert-iTV-Portrait.png
ORGANIZER;CN="Robert Minotti":MAILTO:minotti@fordham.edu
GEO:40.8619545;-73.8855064
X-APPLE-STRUCTURED-LOCATION;VALUE=URI;X-ADDRESS=University Church 441 E Fordham Rd Bronx NY 10458 United States;X-APPLE-RADIUS=500;X-TITLE=441 E Fordham Rd:geo:-73.8855064,40.8619545
END:VEVENT
BEGIN:VEVENT
DTSTART;TZID=Europe/London:20241030T180000
DTEND;TZID=Europe/London:20241030T200000
DTSTAMP:20260422T142100
CREATED:20240906T190647Z
LAST-MODIFIED:20240906T190647Z
UID:10007458-1730311200-1730318400@newsuat.fordham.edu
SUMMARY:2024 London Regional Reception
DESCRIPTION:The Alumni Chapter of the United Kingdom; the Fordham London Advisory Board; Dennis Jacobs\, provost and senior vice president for academic affairs; and Joe Landau\, dean of Fordham Law School; cordially invite you to a reception for alumni\, parents\, and friends. \nThe event costs $30 per person and includes heavy passed hors d’oeuvres\, food stations\, beer\, wine\, and soft drinks. \nSpace is limited\, and advance registration is required. RSVP by October 25. \nPlease consider making a gift of $25 or more to support an area of your choice at Fordham.
URL:https://newsuat.fordham.edu/event/2024-london-regional-reception/
LOCATION:The Landmark London\, 222 Marylebone Road\, London\, NW1 6JQ\, United Kingdom
CATEGORIES:Networking and Career,Receptions,Social
ORGANIZER;CN="Office of Alumni Relations":MAILTO:alumnioffice@fordham.edu
END:VEVENT
END:VCALENDAR