BEGIN:VCALENDAR
VERSION:2.0
PRODID:-//Fordham Now - ECPv6.15.20//NONSGML v1.0//EN
CALSCALE:GREGORIAN
METHOD:PUBLISH
X-ORIGINAL-URL:https://newsuat.fordham.edu
X-WR-CALDESC:Events for Fordham Now
REFRESH-INTERVAL;VALUE=DURATION:PT1H
X-Robots-Tag:noindex
X-PUBLISHED-TTL:PT1H
BEGIN:VTIMEZONE
TZID:America/New_York
BEGIN:DAYLIGHT
TZOFFSETFROM:-0500
TZOFFSETTO:-0400
TZNAME:EDT
DTSTART:20230312T070000
END:DAYLIGHT
BEGIN:STANDARD
TZOFFSETFROM:-0400
TZOFFSETTO:-0500
TZNAME:EST
DTSTART:20231105T060000
END:STANDARD
BEGIN:DAYLIGHT
TZOFFSETFROM:-0500
TZOFFSETTO:-0400
TZNAME:EDT
DTSTART:20240310T070000
END:DAYLIGHT
BEGIN:STANDARD
TZOFFSETFROM:-0400
TZOFFSETTO:-0500
TZNAME:EST
DTSTART:20241103T060000
END:STANDARD
BEGIN:DAYLIGHT
TZOFFSETFROM:-0500
TZOFFSETTO:-0400
TZNAME:EDT
DTSTART:20250309T070000
END:DAYLIGHT
BEGIN:STANDARD
TZOFFSETFROM:-0400
TZOFFSETTO:-0500
TZNAME:EST
DTSTART:20251102T060000
END:STANDARD
END:VTIMEZONE
BEGIN:VTIMEZONE
TZID:America/Los_Angeles
BEGIN:DAYLIGHT
TZOFFSETFROM:-0800
TZOFFSETTO:-0700
TZNAME:PDT
DTSTART:20230312T100000
END:DAYLIGHT
BEGIN:STANDARD
TZOFFSETFROM:-0700
TZOFFSETTO:-0800
TZNAME:PST
DTSTART:20231105T090000
END:STANDARD
BEGIN:DAYLIGHT
TZOFFSETFROM:-0800
TZOFFSETTO:-0700
TZNAME:PDT
DTSTART:20240310T100000
END:DAYLIGHT
BEGIN:STANDARD
TZOFFSETFROM:-0700
TZOFFSETTO:-0800
TZNAME:PST
DTSTART:20241103T090000
END:STANDARD
BEGIN:DAYLIGHT
TZOFFSETFROM:-0800
TZOFFSETTO:-0700
TZNAME:PDT
DTSTART:20250309T100000
END:DAYLIGHT
BEGIN:STANDARD
TZOFFSETFROM:-0700
TZOFFSETTO:-0800
TZNAME:PST
DTSTART:20251102T090000
END:STANDARD
END:VTIMEZONE
BEGIN:VEVENT
DTSTART;TZID=America/New_York:20240911T190000
DTEND;TZID=America/New_York:20240911T230000
DTSTAMP:20260422T161945
CREATED:20240517T155450Z
LAST-MODIFIED:20240517T155450Z
UID:10007392-1726081200-1726095600@newsuat.fordham.edu
SUMMARY:6th Annual FUAA Fordham Night at Yankee Stadium
DESCRIPTION:The Fordham University Alumni Association (FUAA) invites you to a fun-filled night at Yankee Stadium to watch the Yankees take on the Kansas City Royals! \nThis year\, we have two special ticket options for Fordham alumni and friends. \nMastercard Batter’s Eye Deck Pregame Option \nEach ticket includes:\n* A New York Yankees quarter zip sweatshirt with the Fordham University logo\n* All-inclusive food\, craft beer\, and hard seltzers for 90 minutes prior to the game\n* Menu: Hot dogs\, hamburgers\, chicken tenders\, french fries\, mixed green salad\, Pepsi products\, craft beer\, and hard seltzers \n\nField Level: $97/ticket\nMain Level: $82/ticket\nTerrace/Grandstand Level: $65/ticket\n\nSpecial Event Ticket Option \nEach ticket includes:\n* A New York Yankees quarter zip sweatshirt with the Fordham University logo\n* $15 New York Yankees food and beverage voucher \n\nField Level: $80/ticket\nMain Level: $65/ticket\nTerrace/Grandstand Level: $48/ticket\n\nImportant Event Logistics: Gates will open at 5:35 p.m.\, and quarter zip pickup will remain open for 60 minutes after the first pitch. We have several ticket price levels and seating sections reserved for Fordham guests. Groups looking to sit together can purchase up to the max number of tickets in a section. \nImportant Ticketing Information: Registrants will receive digital tickets from Ticketmaster no later than 48 hours prior to the event. A Ticketmaster account and the ability to access digital tickets on a smartphone is necessary to attend; no paper tickets will be issued. \nQuarter Zip Pickup: Once inside the stadium\, please head over to the redemption table located on the Field Level (100 Level) next to Gate 2\, up to 60 minutes after the originally scheduled first pitch. \nAll sales are final\, and there are no refunds or cancellations.
URL:https://newsuat.fordham.edu/event/6th-annual-fuaa-fordham-night-at-yankee-stadium/
LOCATION:Yankee Stadium
CATEGORIES:Social
ORGANIZER;CN="Office of Alumni Relations":MAILTO:alumnioffice@fordham.edu
GEO:40.8288189;-73.9265691
END:VEVENT
BEGIN:VEVENT
DTSTART;TZID=America/New_York:20240913T190000
DTEND;TZID=America/New_York:20240913T223000
DTSTAMP:20260422T161945
CREATED:20240812T142337Z
LAST-MODIFIED:20240812T150014Z
UID:10007417-1726254000-1726266600@newsuat.fordham.edu
SUMMARY:2024 Young Alumni Yacht Cruise
DESCRIPTION:Come aboard for an elegant evening cruise featuring dinner\, cocktails\, dancing\, and breathtaking views on a privately chartered yacht. Young alumni and friends will circle lower Manhattan on one of the city’s most luxurious vessels\, which features an open-air top and separate levels for dinner and dancing. \nRegistration includes a buffet dinner and an open bar for $90. Tickets go up to $110 on September 4\, so get yours today. \nAre you a member of the Class of 2024? Sign up by September 4 for a discounted ticket of just $75. We’re excited to welcome you to the alumni community. \nPlease be advised that boarding begins at 7 p.m. and the ship will depart promptly at 7:30 p.m. The boat will not wait for late passengers. \nWe are currently restricting the young alumni yacht cruise to alumni who graduated from 2014 to 2024. Attendees may purchase a maximum of one guest ticket (non-Fordham guests are currently permitted). Please be advised that current undergraduate students are not permitted at this event\, even if they are guests of alumni.
URL:https://newsuat.fordham.edu/event/2024-young-alumni-yacht-cruise/
LOCATION:Pier 81
CATEGORIES:Reunions,Social
ORGANIZER;CN="Rachel Kartiganer":MAILTO:rkartiganer@fordham.edu
END:VEVENT
BEGIN:VEVENT
DTSTART;TZID=America/New_York:20240919T180000
DTEND;TZID=America/New_York:20240919T200000
DTSTAMP:20260422T161945
CREATED:20240813T145852Z
LAST-MODIFIED:20240813T151016Z
UID:10007422-1726768800-1726776000@newsuat.fordham.edu
SUMMARY:Alumni Chapter of Atlanta: 2024 Painted Pin Bowling Night
DESCRIPTION:The Alumni Chapter of Atlanta invites you to an evening of bowling at the Painted Pin\, an upscale\, state-of-the-art\, boutique bowling alley and entertainment venue. \nJoin us for a night of fun and friendly competition. Whether you’re a pro bowler or a first-timer\, this event is perfect for everyone. Alumni\, family\, and friends are welcome. \nThe event cost includes bowling\, bites\, nonalcoholic beverages\, and shoe rental. Alcoholic beverages may be purchased directly from the bar. \nSpace is limited\, and registrations will be honored on a first-come\, first-served basis. We encourage you to register early as this event will sell out. RSVP by September 15. \nPlease note: Valet parking is available for $2.
URL:https://newsuat.fordham.edu/event/alumni-chapter-of-atlanta-2024-painted-pin-bowling-night/
LOCATION:The Painted Pin\, 737 Miami Cir NE\, Atlanta\, GA\, 30324\, United States
CATEGORIES:Social
END:VEVENT
BEGIN:VEVENT
DTSTART;TZID=America/Los_Angeles:20240921T180000
DTEND;TZID=America/Los_Angeles:20240921T223000
DTSTAMP:20260422T161945
CREATED:20240813T151236Z
LAST-MODIFIED:20240813T151236Z
UID:10007421-1726941600-1726957800@newsuat.fordham.edu
SUMMARY:Alumni Chapter of Northern California: 2024 Yankees at A's Outing
DESCRIPTION:The Alumni Chapter of Northern California invites the Rams to the 18th annual Fordham Alumni Night as we cheer on the Bronx Bombers versus the Oakland As! Alumni\, family\, and friends are welcome. \nTickets are discounted at a Fordham group rate and are located in Lower Box 108\, beginning in row one off the field behind the Yankees dugout. \nThis may be the Yankees’ last visit to Oakland—forever. As such\, there will be a pregame social tailgate in the parking lot and a fireworks and drone show following the game. \nSpace is limited\, and registrations will be honored on a first-come\, first-served basis. We encourage you to register early. RSVP by August 31. \nPlease note: All tickets are electronic and will be forwarded via the MLB Ballpark app to the email used by the primary registrant.
URL:https://newsuat.fordham.edu/event/alumni-chapter-of-northern-california-2024-yankees-at-as-outing/
LOCATION:Oakland Coliseum\, 7000 Coliseum Way\, Oakland\, CA\, 94621\, United States
CATEGORIES:Athletics,Social
ORGANIZER;CN="Mark Di Giorgio":MAILTO:markadigiorgio@att.net
END:VEVENT
BEGIN:VEVENT
DTSTART;TZID=America/New_York:20240922T170000
DTEND;TZID=America/New_York:20240922T190000
DTSTAMP:20260422T161945
CREATED:20240729T184410Z
LAST-MODIFIED:20240729T184410Z
UID:10007410-1727024400-1727031600@newsuat.fordham.edu
SUMMARY:2024 Philadelphia Presidential Reception
DESCRIPTION:The Office of Alumni Relations\, the Alumni Chapter of Philadelphia\, and Tania Tetlow\, president of Fordham University\, cordially invite you to a reception for alumni\, parents\, and friends.\n \nThe event costs $30 per person and includes heavy passed hors d’oeuvres\, food stations\, beer\, wine\, and soft drinks. \nSpace is limited\, and registrations will be honored on a first-come\, first-served basis. We encourage you to register early. RSVP by September 18. \nPlease consider making a gift of $25 or more to support an area of your choice at Fordham. \nQuestions? Contact:\n \nAinsley Woakes\nawoakes@fordham.edu \nSam Kennedy\nskennedy50@fordham.edu
URL:https://newsuat.fordham.edu/event/2024-philadelphia-presidential-reception/
LOCATION:The Pyramid Club\, 1735 Market Street\, Philadelphia\, PA\, 19103\, United States
CATEGORIES:Networking and Career,Receptions,Social
ORGANIZER;CN="Office of Alumni Relations":MAILTO:alumnioffice@fordham.edu
END:VEVENT
BEGIN:VEVENT
DTSTART;TZID=America/Los_Angeles:20240925T170000
DTEND;TZID=America/Los_Angeles:20241106T193000
DTSTAMP:20260422T161945
CREATED:20240820T230310Z
LAST-MODIFIED:20240820T230310Z
UID:10007429-1727283600-1730921400@newsuat.fordham.edu
SUMMARY:Alumni Chapter of Northern California: 2024 Ferry Bocce League
DESCRIPTION:Join the alumni chapter for our fifth year with the Ferry Bocce League in San Francisco this fall! The season runs from September 25 through November 6\, with our teams—the Bronx Ballers—participating in games on Wednesday evenings. We will have one team compete per night\, with each team consisting of up to nine players. \nThe cost includes seven weeks of play and open bar (soda\, beer\, wine). Fordham Bronx Ballers T-shirts are available on a first-come\, first-served basis. Space is very limited\, as team size is restricted to nine players\, so reserve your spot today! \nMore information about the league can be found at ferrybocce.com. \nRSVP by September 23.
URL:https://newsuat.fordham.edu/event/alumni-chapter-of-northern-california-2024-ferry-bocce-league/
LOCATION:Embarcadero Plaza\, Market and Steuart Streets\, San Francisco\, CA\, 94105\, United States
CATEGORIES:Social
ORGANIZER;CN="Mark Di Giorgio":MAILTO:markadigiorgio@att.net
END:VEVENT
BEGIN:VEVENT
DTSTART;TZID=America/New_York:20240929T090000
DTEND;TZID=America/New_York:20240929T170000
DTSTAMP:20260422T161945
CREATED:20240812T200352Z
LAST-MODIFIED:20240812T200352Z
UID:10007420-1727600400-1727629200@newsuat.fordham.edu
SUMMARY:Alumni Chapter of Staten Island: 2024 Tunnel to Towers Foundation 5K Run and Walk
DESCRIPTION:The Alumni Chapter of Staten Island invites you to join in the Staten Island tradition of participating in the annual Tunnel to Towers (T2T) Foundation 5K Run and Walk. \nAlumni who want to run or walk in the race should visit the T2T Foundation website to register as an individual on the Staten Island Fordham Alumni Team. \nAlumni who prefer to volunteer to assist the T2T staff can sign up to do so online. There is a field on the form for volunteers to state any preferences or physical limitations they may have. The T2T Foundation will make volunteer assignments at the beginning of September.
URL:https://newsuat.fordham.edu/event/alumni-chapter-of-staten-island-2024-tunnel-to-towers-foundation-5k-run-and-walk/
LOCATION:Coffey Park\, Dwight Street\, Brooklyn\, NY\, 11231\, United States
CATEGORIES:Social,Volunteer
ORGANIZER;CN="Mark Markasevic%2C GABELLI %E2%80%9915":MAILTO:mmarkasevic@fordham.edu
END:VEVENT
END:VCALENDAR