BEGIN:VCALENDAR
VERSION:2.0
PRODID:-//Fordham Now - ECPv6.15.20//NONSGML v1.0//EN
CALSCALE:GREGORIAN
METHOD:PUBLISH
X-ORIGINAL-URL:https://newsuat.fordham.edu
X-WR-CALDESC:Events for Fordham Now
REFRESH-INTERVAL;VALUE=DURATION:PT1H
X-Robots-Tag:noindex
X-PUBLISHED-TTL:PT1H
BEGIN:VTIMEZONE
TZID:America/New_York
BEGIN:DAYLIGHT
TZOFFSETFROM:-0500
TZOFFSETTO:-0400
TZNAME:EDT
DTSTART:20230312T070000
END:DAYLIGHT
BEGIN:STANDARD
TZOFFSETFROM:-0400
TZOFFSETTO:-0500
TZNAME:EST
DTSTART:20231105T060000
END:STANDARD
BEGIN:DAYLIGHT
TZOFFSETFROM:-0500
TZOFFSETTO:-0400
TZNAME:EDT
DTSTART:20240310T070000
END:DAYLIGHT
BEGIN:STANDARD
TZOFFSETFROM:-0400
TZOFFSETTO:-0500
TZNAME:EST
DTSTART:20241103T060000
END:STANDARD
BEGIN:DAYLIGHT
TZOFFSETFROM:-0500
TZOFFSETTO:-0400
TZNAME:EDT
DTSTART:20250309T070000
END:DAYLIGHT
BEGIN:STANDARD
TZOFFSETFROM:-0400
TZOFFSETTO:-0500
TZNAME:EST
DTSTART:20251102T060000
END:STANDARD
END:VTIMEZONE
BEGIN:VEVENT
DTSTART;TZID=America/New_York:20240604T183000
DTEND;TZID=America/New_York:20240604T220000
DTSTAMP:20260422T215653
CREATED:20240507T212013Z
LAST-MODIFIED:20240507T212013Z
UID:10007387-1717525800-1717538400@newsuat.fordham.edu
SUMMARY:Alumni Chapter of Washington\, D.C.: 2024 Mets vs. Nats Outing
DESCRIPTION:The alumni chapters of Washington\, D.C.\, and Baltimore invite Rams in the DMV area to watch the New York Mets take on the Washington Nationals! Alumni\, family\, and friends are welcome. \nTickets are discounted at a Fordham group rate of $40 each. Seats are located in Section 112. \nSpace is limited\, and registrations will be honored on a first-come\, first-served basis. We encourage you to register early. RSVP by June 1. \nPlease note: All tickets are electronic and will be forwarded via the MLB Ballpark app to the email used by the primary registrant. Registrants who purchased parking will receive their pass via the MLB Ballpark app. \nPlease consider making a gift of $25 or more to support the Alumni Chapter of Washington\, D.C.\, Endowed Scholarship.
URL:https://newsuat.fordham.edu/event/alumni-chapter-of-washington-d-c-2024-mets-vs-nats-outing/
LOCATION:Nationals Park\, 1500 S. Capitol Street S.E.\, Washington\, DC\, 20003\, United States
CATEGORIES:Athletics,Social
ORGANIZER;CN="Joe Malfesi":MAILTO:Joe.Malfesi@comcast.net
END:VEVENT
BEGIN:VEVENT
DTSTART;TZID=America/New_York:20240613T183000
DTEND;TZID=America/New_York:20240613T220000
DTSTAMP:20260422T215653
CREATED:20240429T005821Z
LAST-MODIFIED:20240429T005955Z
UID:10007377-1718303400-1718316000@newsuat.fordham.edu
SUMMARY:Alumni Chapter of San Diego: Ballad of Johnny and June
DESCRIPTION:The Alumni Chapter of San Diego invites you to a performance of the Ballad of Johnny and June at the La Jolla Playhouse. This is the world premiere of a musical about the iconic love story of Johnny Cash and June Carter\, featuring a soundtrack of beloved hits\, such as “I Walk the Line\,” “Ring of Fire\,” “Hey Porter\, Jackson\,” “I’ve Been Everywhere\,” and more. \nTickets are $65 per person. Please feel free to join us outside of the playhouse at 6:30 p.m. to enjoy pre-show concessions and conversation! \nPlease note: Parking has moved due to construction. Check La Jolla Playhouse’s website for guidelines on where to park. \nSpace is limited\, and registrations will be honored on a first-come\, first-served basis. We encourage you to register early. RSVP by June 6. \nPlease consider making a gift of $25 or more to support Cura Personalis | For Every Fordham Student.
URL:https://newsuat.fordham.edu/event/alumni-chapter-of-san-diego-ballad-of-johnny-and-june/
LOCATION:La Jolla Playhouse\, 2910 La Jolla Village Drive\, La Jolla\, CA\, 92037\, United States
CATEGORIES:Cultural,Receptions,Social
ORGANIZER;CN="Alumni Chapter of San Diego":MAILTO:gotschall@fordham.edu
END:VEVENT
BEGIN:VEVENT
DTSTART;TZID=America/New_York:20240614T183000
DTEND;TZID=America/New_York:20240614T213000
DTSTAMP:20260422T215653
CREATED:20240515T184122Z
LAST-MODIFIED:20240515T184122Z
UID:10007389-1718389800-1718400600@newsuat.fordham.edu
SUMMARY:Alumni Chapter of Staten Island: 2024 FerryHawks Outing
DESCRIPTION:The Alumni Chapter of Staten Island invites you to catch the York Revolution take on the FerryHawks! Alumni\, family\, and friends are welcome. \nTickets are discounted at a Fordham group rate of $15.23 each. Seats are located in Section 7. \nBe sure to add on a meal voucher and discounted FerryHawks “Hawk City” group hat at checkout!
URL:https://newsuat.fordham.edu/event/alumni-chapter-of-staten-island-2024-ferryhawks-outing/
LOCATION:Staten Island University Hospital Community Park\, 75 Richmond Terrace\, Staten Island\, NY\, 10301\, United States
CATEGORIES:Athletics,Social
ORGANIZER;CN="Kathleen Sturgis":MAILTO:stur1096@gmail.com
END:VEVENT
BEGIN:VEVENT
DTSTART;TZID=America/New_York:20240627T183000
DTEND;TZID=America/New_York:20240627T200000
DTSTAMP:20260422T215653
CREATED:20240506T205436Z
LAST-MODIFIED:20240506T205436Z
UID:10007383-1719513000-1719518400@newsuat.fordham.edu
SUMMARY:Summer Jesuit Alumni Mixer
DESCRIPTION:Join Fordham University’s Young Alumni Committee for a memorable Summer Jesuit Alumni Mixer. This happy hour is the perfect chance to catch up with old pals\, make new friends\, and soak in that #JesuitEducated spirit! There is no pre-purchase necessary to enjoy this cash bar and free snacks. Don’t miss out on this summer rooftop gathering!!
URL:https://newsuat.fordham.edu/event/summer-jesuit-alumni-mixer/
LOCATION:Backstage Tavern\, 346 W 46th St\, New York\, NY\, 10036\, United States
CATEGORIES:Social
ORGANIZER;CN="Rachel Kartiganer":MAILTO:rkartiganer@fordham.edu
END:VEVENT
END:VCALENDAR