BEGIN:VCALENDAR
VERSION:2.0
PRODID:-//Fordham Now - ECPv6.15.20//NONSGML v1.0//EN
CALSCALE:GREGORIAN
METHOD:PUBLISH
X-WR-CALNAME:Fordham Now
X-ORIGINAL-URL:https://newsuat.fordham.edu
X-WR-CALDESC:Events for Fordham Now
REFRESH-INTERVAL;VALUE=DURATION:PT1H
X-Robots-Tag:noindex
X-PUBLISHED-TTL:PT1H
BEGIN:VTIMEZONE
TZID:America/New_York
BEGIN:DAYLIGHT
TZOFFSETFROM:-0500
TZOFFSETTO:-0400
TZNAME:EDT
DTSTART:20230312T070000
END:DAYLIGHT
BEGIN:STANDARD
TZOFFSETFROM:-0400
TZOFFSETTO:-0500
TZNAME:EST
DTSTART:20231105T060000
END:STANDARD
BEGIN:DAYLIGHT
TZOFFSETFROM:-0500
TZOFFSETTO:-0400
TZNAME:EDT
DTSTART:20240310T070000
END:DAYLIGHT
BEGIN:STANDARD
TZOFFSETFROM:-0400
TZOFFSETTO:-0500
TZNAME:EST
DTSTART:20241103T060000
END:STANDARD
BEGIN:DAYLIGHT
TZOFFSETFROM:-0500
TZOFFSETTO:-0400
TZNAME:EDT
DTSTART:20250309T070000
END:DAYLIGHT
BEGIN:STANDARD
TZOFFSETFROM:-0400
TZOFFSETTO:-0500
TZNAME:EST
DTSTART:20251102T060000
END:STANDARD
END:VTIMEZONE
BEGIN:VTIMEZONE
TZID:America/Los_Angeles
BEGIN:DAYLIGHT
TZOFFSETFROM:-0800
TZOFFSETTO:-0700
TZNAME:PDT
DTSTART:20230312T100000
END:DAYLIGHT
BEGIN:STANDARD
TZOFFSETFROM:-0700
TZOFFSETTO:-0800
TZNAME:PST
DTSTART:20231105T090000
END:STANDARD
BEGIN:DAYLIGHT
TZOFFSETFROM:-0800
TZOFFSETTO:-0700
TZNAME:PDT
DTSTART:20240310T100000
END:DAYLIGHT
BEGIN:STANDARD
TZOFFSETFROM:-0700
TZOFFSETTO:-0800
TZNAME:PST
DTSTART:20241103T090000
END:STANDARD
BEGIN:DAYLIGHT
TZOFFSETFROM:-0800
TZOFFSETTO:-0700
TZNAME:PDT
DTSTART:20250309T100000
END:DAYLIGHT
BEGIN:STANDARD
TZOFFSETFROM:-0700
TZOFFSETTO:-0800
TZNAME:PST
DTSTART:20251102T090000
END:STANDARD
END:VTIMEZONE
BEGIN:VEVENT
DTSTART;TZID=America/New_York:20240502T200000
DTEND;TZID=America/New_York:20240502T213000
DTSTAMP:20260422T234916
CREATED:20240412T154223Z
LAST-MODIFIED:20240424T170815Z
UID:10007366-1714680000-1714685400@newsuat.fordham.edu
SUMMARY:Alumni Chapter of Boston: 2024 Alvin Ailey Performance
DESCRIPTION:The Alumni Chapter of Boston invites you to attend the Celebrity Series of Boston’s performance from the Alvin Ailey American Dance Theater. Since 1998\, Fordham and Alvin Ailey have partnered to offer a joint BFA program. Since then\, hundreds have benefited from this unique partnership\, defined by an equal emphasis on world-class dance training and a rigorous liberal arts education. \nTickets are $39 per person and are located in the balcony in rows AA and BB. \nSpace is limited\, and registrations will be honored on a first-come\, first-served basis. We encourage you to register early. RSVP by May 1. \nPlease consider making a gift of $25 or more to support Cura Personalis | For Every Fordham Student.
URL:https://newsuat.fordham.edu/event/alumni-chapter-of-boston-2024-alvin-ailey-performance/
LOCATION:Boch Center Wang Theatre\, 270 Tremont Street\, Boston\, MA\, 02116\, United States
CATEGORIES:Cultural,Social
ORGANIZER;CN="Angela Bonnici":MAILTO:angbonnici@gmail.com
END:VEVENT
BEGIN:VEVENT
DTSTART;TZID=America/New_York:20240503T180000
DTEND;TZID=America/New_York:20240503T230000
DTSTAMP:20260422T234916
CREATED:20240320T202044Z
LAST-MODIFIED:20240420T233838Z
UID:10003758-1714759200-1714777200@newsuat.fordham.edu
SUMMARY:2024 WFUV High Line Bash
DESCRIPTION:Join us at City Winery for an unforgettable evening at our annual High Line Bash fundraiser supporting WFUV. The legendary Billy Fields\, Billy Allen + The Pollies\, and Brandi and the Alexanders will be taking over the main stage. Proceeds from this event help support WFUV’s public media music program and power New York City’s radio home for music discovery.
URL:https://newsuat.fordham.edu/event/2024-wfuv-high-line-bash/
LOCATION:City Winery – Pier 57\, 25 11th Avenue\, New York\, NY\, 10011\, United States
CATEGORIES:Social
ORGANIZER;CN="WFUV":MAILTO:membership@wfuv.org
END:VEVENT
BEGIN:VEVENT
DTSTART;TZID=America/New_York:20240504T103000
DTEND;TZID=America/New_York:20240504T130000
DTSTAMP:20260422T234916
CREATED:20240123T192521Z
LAST-MODIFIED:20240420T233807Z
UID:10001891-1714818600-1714827600@newsuat.fordham.edu
SUMMARY:Chelsea Galleries Walking Tour
DESCRIPTION:Join us on a guided tour through the Chelsea Arts District—the epicenter of New York’s international\, contemporary art scene. \nFordham alumni will be guided by professor Stephan Apicella-Hitchcock\, head of the Visual Arts Department at Fordham University\, and professor Vincent Stracquadanio through a curated list of galleries\, featuring exhibitions across media. Whether you are an advanced art lover or a beginner\, the tour will lead you through a discovery of paintings\, sculptures\, photography\, installation art\, and more. \nThe tours involve reasonable walking distances within Chelsea. A specific meeting location will be sent to registrants a week prior for the tour.
URL:https://newsuat.fordham.edu/event/chelsea-galleries-walking-tour/
LOCATION:FL\, United States
CATEGORIES:Cultural,Social,Tours
END:VEVENT
BEGIN:VEVENT
DTSTART;TZID=America/New_York:20240504T130000
DTEND;TZID=America/New_York:20240504T160000
DTSTAMP:20260422T234916
CREATED:20240214T162831Z
LAST-MODIFIED:20240420T233745Z
UID:10002680-1714827600-1714838400@newsuat.fordham.edu
SUMMARY:Alumni Chapter of Long Island: 2024 Beer Tasting
DESCRIPTION:Join the Alumni Chapter of Long Island as we sample beers at Sand City Brewery—owned by Fordham College at Rose Hill alumnus Bill Kiernan—in Lindenhurst. \nRegistration is $15 per person. Each registrant will receive two pints and two tastes from the brewery’s taps. Food will be available for purchase. RSVP by May 3. \nPlease consider making a gift to the Long Island Scholarship in Memory of John Cifichiello\, GABELLI ’68\, to support Fordham students from our area.
URL:https://newsuat.fordham.edu/event/alumni-chapter-of-long-island-2024-beer-tasting/
LOCATION:Sand City Brewery\, 150 S. Wellwood Avenue\, Lindenhurst\, NY\, 11757\, United States
CATEGORIES:Social
ORGANIZER;CN="Phil Cicione":MAILTO:phillipcicione@gmail.com
END:VEVENT
BEGIN:VEVENT
DTSTART;TZID=America/Los_Angeles:20240505T110000
DTEND;TZID=America/Los_Angeles:20240505T130000
DTSTAMP:20260422T234916
CREATED:20240312T220012Z
LAST-MODIFIED:20240312T220012Z
UID:10003621-1714906800-1714914000@newsuat.fordham.edu
SUMMARY:Alumni Chapter of Northern California: AAPI Month Dim Sum Celebration
DESCRIPTION:In honor of Asian American and Pacific Islander (AAPI) Heritage Month\, the Alumni Chapter of Northern California invites you to join us for a delightful morning of dim sum! This is an opportunity to come together and celebrate the rich heritage of Asian American and Pacific Islander communities. Don’t miss this opportunity to indulge in delicious food and meaningful conversations in the company of fellow alumni. Let’s celebrate diversity and unity at this special gathering in May. \nThe event costs $35 per person and includes more than 100 rotating varieties of dim sum\, served from pushcarts wheeled around and shared family-style. Drinks are not included but may be purchased individually. \nSpace is limited\, and registrations will be honored on a first-come\, first-served basis. We encourage you to register early. RSVP by April 30. \nPlease consider making a gift of $25 or more to support Cura Personalis | For Every Fordham Student.
URL:https://newsuat.fordham.edu/event/alumni-chapter-of-northern-california-aapi-month-dim-sum-celebration/
LOCATION:FL\, United States
CATEGORIES:Cultural,Social
END:VEVENT
BEGIN:VEVENT
DTSTART;TZID=America/New_York:20240518T100000
DTEND;TZID=America/New_York:20240518T100000
DTSTAMP:20260422T234916
CREATED:20240516T154011Z
LAST-MODIFIED:20240516T154011Z
UID:10007391-1716026400-1716026400@newsuat.fordham.edu
SUMMARY:2024 Commencement Ceremony
DESCRIPTION:All graduates are invited to attend the University Commencement Ceremony at the Rose Hill campus. For more information on the day’s schedule and adjacent events\, visit https://www.fordham.edu/commencement/.
URL:https://newsuat.fordham.edu/event/2024-commencement-ceremony/
LOCATION:Edwards Parade\, 441 East Fordham Road\, Bronx\, NY\, 10458\, United States
CATEGORIES:Receptions,Social
GEO:40.8612275;-73.8892354
X-APPLE-STRUCTURED-LOCATION;VALUE=URI;X-ADDRESS=Edwards Parade 441 East Fordham Road Bronx NY 10458 United States;X-APPLE-RADIUS=500;X-TITLE=441 East Fordham Road:geo:-73.8892354,40.8612275
END:VEVENT
BEGIN:VEVENT
DTSTART;TZID=America/New_York:20240529T180000
DTEND;TZID=America/New_York:20240529T193000
DTSTAMP:20260422T234916
CREATED:20240404T190013Z
LAST-MODIFIED:20240424T190501Z
UID:10007372-1717005600-1717011000@newsuat.fordham.edu
SUMMARY:2024 Albany Presidential and Legislative Reception
DESCRIPTION:The Office of Alumni Relations\, the Office of Government Relations and Urban Affairs\, the Alumni Chapter of Albany\, the state legislative alumni of Fordham University\, and Tania Tetlow\, president of Fordham University\, cordially request the honor of your presence at a reception for alumni\, legislators\, parents\, and friends. \nSpace is limited\, and advance registration is required. RSVP by May 24. \nNew York State Legislature\nHon. Juan Ardila\, FCLC ’15\nHon. Neil Breslin\, FCRH ’64\nHon. Michael N. Gianaris\, FCLC ’90\nHon. Deborah J. Glick\, GABELLI ’81\nHon. Andrew Lanza\, LAW ’92\nHon. Zellnor Myrie\, FCRH ’08\, GSAS ’13\nHon. Nader J. Sayegh\, GSE ’81\nHon. Jo Anne Simon\, LAW ’90\nHon. Jaime R. Williams\, GSS ’12 \nNew York State Senate and Assembly Representatives\nRose Hill\nHon. Gustavo Rivera\nHon. George Alvarez \nLincoln Center\nHon. Brad Hoylman-Sigal\nHon. Linda Rosenthal \nWestchester\nHon. Shelley Mayer\nHon. Chris Burdick
URL:https://newsuat.fordham.edu/event/2024-albany-presidential-and-legislative-reception/
LOCATION:Corning Tower Observation Deck\, Empire State Plaza\, Concourse Level\, Albany\, NY\, 12237\, United States
CATEGORIES:Networking and Career,Receptions,Social
ORGANIZER;CN="Office of Alumni Relations":MAILTO:alumnioffice@fordham.edu
END:VEVENT
BEGIN:VEVENT
DTSTART;TZID=America/New_York:20240530T180000
DTEND;TZID=America/New_York:20240530T210000
DTSTAMP:20260422T234916
CREATED:20240507T174813Z
LAST-MODIFIED:20240507T174813Z
UID:10007386-1717092000-1717102800@newsuat.fordham.edu
SUMMARY:Fordham Foundry: 2024 Entrepreneurship and Entertainment Event in LA
DESCRIPTION:The Fordham Foundry\, Fordham University’s global hub for innovation and entrepreneurship\, and the Alumni Chapter of Los Angeles invite you to meet members of the Fordham community for an exciting\, interactive networking and discussion forum focusing on the unique intersection of entrepreneurship and media\, film\, sports\, and entertainment. \nThe evening will begin with a tour of NFL headquarters followed immediately by a panel discussion and Q&A in the NFL screening room used during football season by the NFL Network on-air team. The evening will conclude with a culinary and networking experience. \nDon’t miss an evening of inspired storytelling and networking and a lively panel discussion featuring several distinguished Fordham alumni who will share their career journeys in film\, TV\, sports\, and media. \n\nAndrew Hevia\, GABELLI ’14\, Academy Award-winning producer of Moonlight and head of film and TV\, North America at Fabula Productions\nKatie Conway\, FCRH ’12\, Emmy Award-winning senior producer at ABC News Studios. She currently leads an unscripted production unit for Robin Roberts that produces documentaries\, docuseries\, and high-profile news interview specials for ABC Network and its streamers.\nMichael Mandt\, FCRH ’93\, Emmy Award-winning producer and senior vice president/executive producer at LIV Golf. Mandt has produced shows for ESPN\, HBO\, MLB\, NFL\, and Turner Sports. He has also produced the Golden Globes Awards and the Disney feature film Million Dollar Arm.\nMichael Yam\, FCRH ’03\, studio host at the NFL Network and former ESPN anchor. Yam is also the author of the children’s book Fried Rice and Marinara.\n\nKen Mok will join the event as a special guest. Emmy- and Golden Globe-nominated television producer and founder/president of 10×10 Entertainment\, Mok’s productions include the CW Network’s top-rated reality series America’s Next Top Model\, and he is also the creator of the MTV series Making the Band and WWE Tough Enough. \nJohn Kilcullen\, FCRH ’81\, founder of the For Dummies series and former publisher of The Hollywood Reporter\, will serve as moderator. \nAl Bartosic\, GABELLI ’84\, GSAS ’23\, executive director of the Fordham Foundry\, will discuss its mission and accomplishments\, as well as the Foundry’s vision for the future. \nThe event costs $25 per person. Space is limited\, and registrations will be honored on a first-come\, first-served basis. We encourage you to register early. RSVP by May 24.A
URL:https://newsuat.fordham.edu/event/fordham-foundry-2024-entrepreneurship-and-entertainment-event-in-la/
LOCATION:NFL Network West Coast Headquarters\, 900 District Drive\, Inglewood\, CA\, 90301\, United States
CATEGORIES:Lectures,Networking and Career,Receptions,Social
ORGANIZER;CN="Fordham Foundry":MAILTO:fordhamfoundry@fordham.edu
END:VEVENT
END:VCALENDAR