BEGIN:VCALENDAR
VERSION:2.0
PRODID:-//Fordham Now - ECPv6.15.20//NONSGML v1.0//EN
CALSCALE:GREGORIAN
METHOD:PUBLISH
X-WR-CALNAME:Fordham Now
X-ORIGINAL-URL:https://newsuat.fordham.edu
X-WR-CALDESC:Events for Fordham Now
REFRESH-INTERVAL;VALUE=DURATION:PT1H
X-Robots-Tag:noindex
X-PUBLISHED-TTL:PT1H
BEGIN:VTIMEZONE
TZID:America/New_York
BEGIN:DAYLIGHT
TZOFFSETFROM:-0500
TZOFFSETTO:-0400
TZNAME:EDT
DTSTART:20230312T070000
END:DAYLIGHT
BEGIN:STANDARD
TZOFFSETFROM:-0400
TZOFFSETTO:-0500
TZNAME:EST
DTSTART:20231105T060000
END:STANDARD
BEGIN:DAYLIGHT
TZOFFSETFROM:-0500
TZOFFSETTO:-0400
TZNAME:EDT
DTSTART:20240310T070000
END:DAYLIGHT
BEGIN:STANDARD
TZOFFSETFROM:-0400
TZOFFSETTO:-0500
TZNAME:EST
DTSTART:20241103T060000
END:STANDARD
BEGIN:DAYLIGHT
TZOFFSETFROM:-0500
TZOFFSETTO:-0400
TZNAME:EDT
DTSTART:20250309T070000
END:DAYLIGHT
BEGIN:STANDARD
TZOFFSETFROM:-0400
TZOFFSETTO:-0500
TZNAME:EST
DTSTART:20251102T060000
END:STANDARD
END:VTIMEZONE
BEGIN:VTIMEZONE
TZID:America/Phoenix
BEGIN:STANDARD
TZOFFSETFROM:-0700
TZOFFSETTO:-0700
TZNAME:MST
DTSTART:20230101T000000
END:STANDARD
END:VTIMEZONE
BEGIN:VTIMEZONE
TZID:America/Chicago
BEGIN:DAYLIGHT
TZOFFSETFROM:-0600
TZOFFSETTO:-0500
TZNAME:CDT
DTSTART:20230312T080000
END:DAYLIGHT
BEGIN:STANDARD
TZOFFSETFROM:-0500
TZOFFSETTO:-0600
TZNAME:CST
DTSTART:20231105T070000
END:STANDARD
BEGIN:DAYLIGHT
TZOFFSETFROM:-0600
TZOFFSETTO:-0500
TZNAME:CDT
DTSTART:20240310T080000
END:DAYLIGHT
BEGIN:STANDARD
TZOFFSETFROM:-0500
TZOFFSETTO:-0600
TZNAME:CST
DTSTART:20241103T070000
END:STANDARD
BEGIN:DAYLIGHT
TZOFFSETFROM:-0600
TZOFFSETTO:-0500
TZNAME:CDT
DTSTART:20250309T080000
END:DAYLIGHT
BEGIN:STANDARD
TZOFFSETFROM:-0500
TZOFFSETTO:-0600
TZNAME:CST
DTSTART:20251102T070000
END:STANDARD
END:VTIMEZONE
BEGIN:VTIMEZONE
TZID:America/Puerto_Rico
BEGIN:STANDARD
TZOFFSETFROM:-0400
TZOFFSETTO:-0400
TZNAME:AST
DTSTART:20230101T000000
END:STANDARD
END:VTIMEZONE
BEGIN:VTIMEZONE
TZID:America/Los_Angeles
BEGIN:DAYLIGHT
TZOFFSETFROM:-0800
TZOFFSETTO:-0700
TZNAME:PDT
DTSTART:20230312T100000
END:DAYLIGHT
BEGIN:STANDARD
TZOFFSETFROM:-0700
TZOFFSETTO:-0800
TZNAME:PST
DTSTART:20231105T090000
END:STANDARD
BEGIN:DAYLIGHT
TZOFFSETFROM:-0800
TZOFFSETTO:-0700
TZNAME:PDT
DTSTART:20240310T100000
END:DAYLIGHT
BEGIN:STANDARD
TZOFFSETFROM:-0700
TZOFFSETTO:-0800
TZNAME:PST
DTSTART:20241103T090000
END:STANDARD
BEGIN:DAYLIGHT
TZOFFSETFROM:-0800
TZOFFSETTO:-0700
TZNAME:PDT
DTSTART:20250309T100000
END:DAYLIGHT
BEGIN:STANDARD
TZOFFSETFROM:-0700
TZOFFSETTO:-0800
TZNAME:PST
DTSTART:20251102T090000
END:STANDARD
END:VTIMEZONE
BEGIN:VEVENT
DTSTART;TZID=America/New_York:20240303T130000
DTEND;TZID=America/New_York:20240303T150000
DTSTAMP:20260423T033450
CREATED:20240131T204415Z
LAST-MODIFIED:20240131T204415Z
UID:10002225-1709470800-1709478000@newsuat.fordham.edu
SUMMARY:Alumni Chapter of Sarasota: 2024 Polo at the Sarasota Polo Club
DESCRIPTION:Join fellow Fordham grads for an afternoon of polo at the Sarasota Polo Club! Food trucks and bars offering a wide range of options will be on site. Guests also are welcome to bring their own food and drinks. \nThe event costs $15 per person\, which includes an undesignated bleacher seat. There is no shade or tenting for the viewing area; however\, umbrellas may be used for shade as long as they do not block anyone’s view. Traditional divot stomping is done at halftime. \nCheck out the Sarasota Polo Club website for more information about the grounds and experience. \nPlease note: The ground is uneven\, so it is recommended that you wear comfortable shoes\, as well as a hat for shade. In the event of a cancelation due to inclement weather\, there is no rain date. Parking is a short walk away from the admission area. \nSpace is limited\, and registrations will be honored on a first-come\, first-served basis. We encourage you to register early. \nPlease consider making a gift of $25 or more to support Cura Personalis | For Every Fordham Student.
URL:https://newsuat.fordham.edu/event/alumni-chapter-of-sarasota-2024-polo-at-the-sarasota-polo-club/
LOCATION:FL\, United States
CATEGORIES:Social
ORGANIZER;CN="Jane Bartnett":MAILTO:janebartnett@yahoo.com
END:VEVENT
BEGIN:VEVENT
DTSTART;TZID=America/Phoenix:20240303T130500
DTEND;TZID=America/Phoenix:20240303T160500
DTSTAMP:20260423T033450
CREATED:20240129T162933Z
LAST-MODIFIED:20240129T162933Z
UID:10002050-1709471100-1709481900@newsuat.fordham.edu
SUMMARY:Alumni Chapter of Phoenix: 2024 Dodgers Spring Training Game
DESCRIPTION:Join the Alumni Chapter of Phoenix for an MLB Spring Training alumni outing as the Colorado Rockies take on the Los Angeles Dodgers. Following the game\, our group will be invited onto the field for a chapter photo! \nTickets are $28 each (a $51 value)\, and the seats are located in the Baseline Terrance (section 104). Please note: Tickets are electronic and will be forwarded via email to the email address used by the primary registrant. Tickets will be sent a couple of days before the game. \nSpace is limited\, and registrations will be honored on a first-come\, first-served basis. RSVP by February 28. \nPlease consider making a gift of $25 or more to support Cura Personalis | For Every Fordham Student.
URL:https://newsuat.fordham.edu/event/alumni-chapter-of-phoenix-2024-dodgers-spring-training-game/
LOCATION:FL\, United States
CATEGORIES:Social
ORGANIZER;CN="Alumni Chapter of Phoenix":MAILTO:natalie@arizonamediation.com
END:VEVENT
BEGIN:VEVENT
DTSTART;TZID=America/Chicago:20240304T183000
DTEND;TZID=America/Chicago:20240304T203000
DTSTAMP:20260423T033450
CREATED:20231214T210218Z
LAST-MODIFIED:20231214T210218Z
UID:10000871-1709577000-1709584200@newsuat.fordham.edu
SUMMARY:2024 Chicago Presidential Reception
DESCRIPTION:The Office of Alumni Relations\, the Alumni Chapter of Chicago\, and Tania Tetlow\, president of Fordham University\, cordially invite you to a reception for alumni\, parents\, and friends. \nThe event costs $30 per person and includes heavy passed hors d’oeuvres\, beer\, and wine. \nSpace is limited\, and registrations will be honored on a first-come\, first-served basis. We encourage you to register early. RSVP by February 28. \nPlease consider making a gift of $25 or more to support Cura Personalis | For Every Fordham Student.
URL:https://newsuat.fordham.edu/event/2024-chicago-presidential-reception/
LOCATION:FL\, United States
CATEGORIES:Networking and Career,Receptions,Social
ORGANIZER;CN="Office of Alumni Relations":MAILTO:alumnioffice@fordham.edu
END:VEVENT
BEGIN:VEVENT
DTSTART;TZID=America/New_York:20240305T180000
DTEND;TZID=America/New_York:20240305T200000
DTSTAMP:20260423T033450
CREATED:20231218T154157Z
LAST-MODIFIED:20231218T154157Z
UID:10001009-1709661600-1709668800@newsuat.fordham.edu
SUMMARY:2024 Cleveland Presidential Reception
DESCRIPTION:Jeanette Walton\, TMC ’71\, GSAS ’73\, PAR\, and Jack Walton\, FCRH ’72\, PAR; the Office of Alumni Relations; and Tania Tetlow\, president of Fordham University\, cordially invite you to a complimentary reception for alumni\, parents\, and friends. \nSpace is limited\, and advance registration is required. RSVP by March 1. \nAs the cost of this event is being generously covered by our hosts\, Jeanette and Jack Walton\, please consider making a gift of $25 or more to support Cura Personalis | For Every Fordham Student.
URL:https://newsuat.fordham.edu/event/2024-cleveland-presidential-reception/
LOCATION:The Union Club\, 1211 Euclid Avenue\, Cleveland\, OH\, 44115\, United States
CATEGORIES:Networking and Career,Receptions,Social
ORGANIZER;CN="Office of Alumni Relations":MAILTO:alumnioffice@fordham.edu
GEO:41.5009889;-81.6843534
X-APPLE-STRUCTURED-LOCATION;VALUE=URI;X-ADDRESS=The Union Club 1211 Euclid Avenue Cleveland OH 44115 United States;X-APPLE-RADIUS=500;X-TITLE=1211 Euclid Avenue:geo:-81.6843534,41.5009889
END:VEVENT
BEGIN:VEVENT
DTSTART;TZID=America/New_York:20240309T093000
DTEND;TZID=America/New_York:20240309T130000
DTSTAMP:20260423T033450
CREATED:20240208T165443Z
LAST-MODIFIED:20240208T165443Z
UID:10002410-1709976600-1709989200@newsuat.fordham.edu
SUMMARY:Forever Learning: Cultivating Curiosity
DESCRIPTION:Come back to Fordham for an exciting day of learning\, networking\, and cheering on the Rams in the historic Rose Hill Gym! \nThis year’s Forever Learning program features mini lectures by two esteemed Fordham professors—you’ll learn about hip-hop’s Bronx roots with Mark Naison and explore the links between Darwin\, human nature\, and AI with Christiana Zenner. You’ll also have a chance to revisit Fordham lore “hidden in plain sight\,” and at 1 p.m.\, you can enjoy a special tour of the Fordham Museum of Greek\, Etruscan\, and Roman Art or catch the men’s basketball team in its last home game before the 2024 Atlantic 10 Tournament.
URL:https://newsuat.fordham.edu/event/forever-learning-cultivating-curiosity/
LOCATION:Rose Hill Campus\, Fordham University\, The Bronx\, NY\, USA\, Bronx\, NY\, 10458\, United States
CATEGORIES:Lectures,Social
GEO:40.861203;-73.8892181
X-APPLE-STRUCTURED-LOCATION;VALUE=URI;X-ADDRESS=Rose Hill Campus Fordham University The Bronx NY USA Bronx NY 10458 United States;X-APPLE-RADIUS=500;X-TITLE=Fordham University\, The Bronx\, NY\, USA:geo:-73.8892181,40.861203
END:VEVENT
BEGIN:VEVENT
DTSTART;TZID=America/New_York:20240309T130000
DTEND;TZID=America/New_York:20240309T150000
DTSTAMP:20260423T033450
CREATED:20240108T172313Z
LAST-MODIFIED:20240108T172313Z
UID:10001290-1709989200-1709996400@newsuat.fordham.edu
SUMMARY:Alumni Chapter of Long Island: 2024 Men's Basketball Senior Day
DESCRIPTION:The Alumni Chapter of Long Island invites local alumni to the 2024 Ram Showdown! Cheer on the men’s basketball team as it hosts the University of Rhode Island Rams at the last home game of the season. \nThere is a block of tickets set aside for Long Island alumni for $20 each. Tickets are half-price and located in section 105. \nSpace is limited\, and registrations will be honored on a first-come\, first-served basis. We encourage you to register early. RSVP by March\, 5. \nPlease consider making a gift to the Long Island Scholarship in Memory of John Cifichiello\, GABELLI ’68\, to support Fordham students from our area.
URL:https://newsuat.fordham.edu/event/alumni-chapter-of-long-island-2024-mens-basketball-senior-day/
LOCATION:Rose Hill Gymnasium\, 441 East Fordham Road\, Bronx\, NY\, 10458\, United States
CATEGORIES:Athletics,Social
ORGANIZER;CN="Phil Cicione":MAILTO:phillipcicione@gmail.com
GEO:40.8612275;-73.8892354
X-APPLE-STRUCTURED-LOCATION;VALUE=URI;X-ADDRESS=Rose Hill Gymnasium 441 East Fordham Road Bronx NY 10458 United States;X-APPLE-RADIUS=500;X-TITLE=441 East Fordham Road:geo:-73.8892354,40.8612275
END:VEVENT
BEGIN:VEVENT
DTSTART;TZID=America/New_York:20240310T120000
DTEND;TZID=America/New_York:20240310T150000
DTSTAMP:20260423T033450
CREATED:20240116T162242Z
LAST-MODIFIED:20240116T162242Z
UID:10001521-1710072000-1710082800@newsuat.fordham.edu
SUMMARY:Alumni Chapter of Staten Island: 2024 Brunch and Award Reception
DESCRIPTION:Please join the Alumni Chapter of Staten Island for our annual gathering in celebration of people for others. The Rev. Louis Jerome Jr.\, FCLC ’81\, will be recognized for his dedicated service to the Staten Island community. \nThis event costs $55 per person and includes a deluxe brunch buffet\, beer\, wine\, and soft drinks. A cash bar will be available\, and cocktails can be purchased directly from Li Greci’s Staaten during the event. \nRSVP by Thursday\, March 7. \nPlease consider making a gift of $25 or more to support Cura Personalis | For Every Fordham Student.
URL:https://newsuat.fordham.edu/event/alumni-chapter-of-staten-island-2024-brunch-and-award-reception/
LOCATION:Li Greci’s Staaten\, 697 Forest Avenue\, Staten Island\, NY\, 10310\, United States
CATEGORIES:Social
GEO:40.6294737;-74.1122607
X-APPLE-STRUCTURED-LOCATION;VALUE=URI;X-ADDRESS=Li Greci’s Staaten 697 Forest Avenue Staten Island NY 10310 United States;X-APPLE-RADIUS=500;X-TITLE=697 Forest Avenue:geo:-74.1122607,40.6294737
END:VEVENT
BEGIN:VEVENT
DTSTART;TZID=America/Puerto_Rico:20240313T180000
DTEND;TZID=America/Puerto_Rico:20240313T200000
DTSTAMP:20260423T033450
CREATED:20231218T154259Z
LAST-MODIFIED:20231218T154259Z
UID:10001011-1710352800-1710360000@newsuat.fordham.edu
SUMMARY:2024 Puerto Rico Presidential Reception
DESCRIPTION:Marie Napoli\, PAR\, and Paul Napoli\, GABELLI ’89\, PAR; the Fordham Alumni Chapter of Puerto Rico; and Tania Tetlow\, president of Fordham University\, cordially invite you to a complimentary reception for alumni\, parents\, and friends. \nSpace is limited\, and advance registration is required. RSVP by March 8. \nAs the cost of this event is being generously covered by our hosts\, Marie and Paul Napoli\, please consider making a gift of $25 or more to support Cura Personalis | For Every Fordham Student.
URL:https://newsuat.fordham.edu/event/2024-puerto-rico-presidential-reception/
LOCATION:Dorado Beach\, a Ritz-Carlton Reserve\, 100 Dorado Beach Drive\, Dorado\, 00646\, Puerto Rico
CATEGORIES:Networking and Career,Receptions,Social
ORGANIZER;CN="Office of Alumni Relations":MAILTO:alumnioffice@fordham.edu
END:VEVENT
BEGIN:VEVENT
DTSTART;TZID=America/New_York:20240316T093000
DTEND;TZID=America/New_York:20240316T143000
DTSTAMP:20260423T033450
CREATED:20240131T175237Z
LAST-MODIFIED:20240131T175237Z
UID:10002192-1710581400-1710599400@newsuat.fordham.edu
SUMMARY:2024 St. Patrick's Day Brunch and Parade
DESCRIPTION:The Office of Alumni Relations is excited to invite you to a special St. Patrick’s Day celebration! This year\, you and your guests will get to dine inside the famed private clubhouse with a long history—The Harvard Club of New York—followed by a march up Fifth Avenue in the annual New York City St. Patrick’s Day Parade.
URL:https://newsuat.fordham.edu/event/2024-st-patricks-day-brunch-and-parade/
LOCATION:FL\, United States
CATEGORIES:Cultural,Social
ORGANIZER;CN="Office of Alumni Relations":MAILTO:alumnioffice@fordham.edu
END:VEVENT
BEGIN:VEVENT
DTSTART;TZID=America/Los_Angeles:20240318T190000
DTEND;TZID=America/Los_Angeles:20240318T220000
DTSTAMP:20260423T033450
CREATED:20231204T155707Z
LAST-MODIFIED:20231204T155707Z
UID:10000524-1710788400-1710799200@newsuat.fordham.edu
SUMMARY:Alumni Chapter of Northern California: 2024 Knicks vs. Warriors
DESCRIPTION:Join the Alumni Chapter of Northern California as the Golden State Warriors host the New York Knicks! Tickets are available at two price points: \nSection 127 (lower row): $190 per ticket\nSection 202 (upper row): $95 per ticket \nSpace is limited\, and registrations will be honored on a first-come\, first-served basis. We encourage you to register early. RSVP by February 16.
URL:https://newsuat.fordham.edu/event/alumni-chapter-of-northern-california-2024-knicks-vs-warriors/
LOCATION:Chase Center\, 1 Warriors Way\, San Francisco\, CA\, 94158\, United States
CATEGORIES:Athletics,Social
ORGANIZER;CN="Mark Di Giorgio":MAILTO:markadigiorgio@att.net
END:VEVENT
BEGIN:VEVENT
DTSTART;TZID=America/New_York:20240320T183000
DTEND;TZID=America/New_York:20240320T203000
DTSTAMP:20260423T033450
CREATED:20240214T162659Z
LAST-MODIFIED:20240214T162659Z
UID:10002677-1710959400-1710966600@newsuat.fordham.edu
SUMMARY:Alumni Chapter of Boston: 2024 Drinks with the Jesuits
DESCRIPTION:The Alumni Chapter of Boston invites alumni\, family\, friends\, and other Jesuit school grads to join us for appetizers\, drinks\, and the chance to mingle with other Jesuits in the Boston area. The event costs $15 per person and includes appetizers. There will be a cash bar. \nSpace is limited\, and registrations will be honored on a first-come\, first-served basis. We encourage you to register early. RSVP by March 13.
URL:https://newsuat.fordham.edu/event/alumni-chapter-of-boston-2024-drinks-with-the-jesuits/
LOCATION:FL\, United States
CATEGORIES:Social
ORGANIZER;CN="Sarah Kimball":MAILTO:sarahkimball.mail@gmail.com
END:VEVENT
BEGIN:VEVENT
DTSTART;TZID=America/New_York:20240322T110000
DTEND;TZID=America/New_York:20240322T160000
DTSTAMP:20260423T033450
CREATED:20240108T172659Z
LAST-MODIFIED:20240108T172659Z
UID:10001307-1711105200-1711123200@newsuat.fordham.edu
SUMMARY:2024 Tampa Brunch and Baseball
DESCRIPTION:The Fordham alumni chapters of Tampa and Sarasota and the Office of Alumni Relations cordially invite you to an afternoon of brunch and baseball as we cheer on the Bronx Bombers vs. the New York Mets! \nThe early bird price for this event is $95 per person and includes a selection of brunch/breakfast offerings (yogurt\, fruit cups\, assorted pastries\, and breakfast sandwiches); beer\, wine\, mimosas\, and bloody Marys; and a premium\, loaded game ticket (an $85 value). Brunch will take place in the Pavilion. The Third Base Rooftop Deck ticket includes a buffet\, ballpark fare and other food options\, and a drink package (soft drinks\, beer\, and house wine). Register by February 23 to take advantage of early bird pricing. After February 23\, the cost is $105 per person. \nPlease note: Tickets will be distributed electronically. Detailed instructions for accessing and downloading tickets will be emailed closer to the event. \nSpace is limited\, and registrations will be honored on a first-come\, first-served basis. \nPlease consider making a gift of $25 or more to support Cura Personalis | For Every Fordham Student.
URL:https://newsuat.fordham.edu/event/2024-tampa-brunch-and-baseball/
LOCATION:George M. Steinbrenner Field\, 1 Steinbrenner Drive\, Tampa\, FL\, 33614\, United States
CATEGORIES:Networking and Career,Receptions,Social
ORGANIZER;CN="Office of Alumni Relations":MAILTO:alumnioffice@fordham.edu
GEO:27.9798272;-82.5071038
X-APPLE-STRUCTURED-LOCATION;VALUE=URI;X-ADDRESS=George M. Steinbrenner Field 1 Steinbrenner Drive Tampa FL 33614 United States;X-APPLE-RADIUS=500;X-TITLE=1 Steinbrenner Drive:geo:-82.5071038,27.9798272
END:VEVENT
BEGIN:VEVENT
DTSTART;TZID=America/New_York:20240325T183000
DTEND;TZID=America/New_York:20240325T203000
DTSTAMP:20260423T033450
CREATED:20240129T161730Z
LAST-MODIFIED:20240129T161730Z
UID:10002040-1711391400-1711398600@newsuat.fordham.edu
SUMMARY:2024 Atlanta Regional Reception
DESCRIPTION:The Office of Alumni Relations cordially invites you to a reception for alumni\, parents\, and friends. The event costs $30 per person and includes heavy passed hors d’oeuvres\, beer\, and wine. \nSpace is limited\, and registrations will be honored on a first-come\, first-served basis. We encourage you to register early. RSVP by March 20. \nPlease consider making a gift of $25 or more to support Cura Personalis | For Every Fordham Student.
URL:https://newsuat.fordham.edu/event/2024-atlanta-regional-reception/
LOCATION:The Peachtree Club\, 999 Peachtree Street NE\, Suite 2800\, Atlanta\, GA\, 30309\, United States
CATEGORIES:Networking and Career,Receptions,Social
ORGANIZER;CN="Office of Alumni Relations":MAILTO:alumnioffice@fordham.edu
END:VEVENT
BEGIN:VEVENT
DTSTART;TZID=America/New_York:20240325T184500
DTEND;TZID=America/New_York:20240325T201500
DTSTAMP:20260423T033450
CREATED:20240320T173007Z
LAST-MODIFIED:20240320T173007Z
UID:10003755-1711392300-1711397700@newsuat.fordham.edu
SUMMARY:March 2024 GSS Black Alumni Caucus Meeting
DESCRIPTION:March Meeting Topic\nThe Impact of the Upcoming Election on Black Social Workers \nThe GSS Black Alumni Caucus is a virtual space for self-identified Black alumni of Fordham University’s Graduate School of Social Service (GSS). GSS is holding space for you to connect with other Black alumnni and with GSS in order to create a relaxed and affirming environment where we can support one another.
URL:https://newsuat.fordham.edu/event/march-2024-gss-black-alumni-caucus-meeting/
LOCATION:Zoom
CATEGORIES:Social
END:VEVENT
BEGIN:VEVENT
DTSTART;TZID=America/New_York:20240326T183000
DTEND;TZID=America/New_York:20240326T203000
DTSTAMP:20260423T033450
CREATED:20240208T201021Z
LAST-MODIFIED:20240208T201021Z
UID:10002442-1711477800-1711485000@newsuat.fordham.edu
SUMMARY:2024 Charlotte Regional Reception
DESCRIPTION:The Fordham Alumni Chapter of Charlotte and the Office of Alumni Relations cordially invite you to a reception for alumni\, parents\, and friends. Whether you are new to the Charlotte area or are a longtime resident\, this is a great opportunity to network with Rams from across schools and decades. The event costs $30 per person and includes heavy passed hors d’oeuvres\, beer\, and wine. \nSpace is limited\, and advance registration is required. RSVP by March 21. \nPlease consider making a gift of $25 or more to support Cura Personalis | For Every Fordham Student.
URL:https://newsuat.fordham.edu/event/2024-charlotte-regional-reception/
LOCATION:FL\, United States
CATEGORIES:Networking and Career,Receptions,Social
ORGANIZER;CN="Office of Alumni Relations":MAILTO:alumnioffice@fordham.edu
END:VEVENT
END:VCALENDAR