BEGIN:VCALENDAR
VERSION:2.0
PRODID:-//Fordham Now - ECPv6.15.20//NONSGML v1.0//EN
CALSCALE:GREGORIAN
METHOD:PUBLISH
X-ORIGINAL-URL:https://newsuat.fordham.edu
X-WR-CALDESC:Events for Fordham Now
REFRESH-INTERVAL;VALUE=DURATION:PT1H
X-Robots-Tag:noindex
X-PUBLISHED-TTL:PT1H
BEGIN:VTIMEZONE
TZID:America/New_York
BEGIN:DAYLIGHT
TZOFFSETFROM:-0500
TZOFFSETTO:-0400
TZNAME:EDT
DTSTART:20230312T070000
END:DAYLIGHT
BEGIN:STANDARD
TZOFFSETFROM:-0400
TZOFFSETTO:-0500
TZNAME:EST
DTSTART:20231105T060000
END:STANDARD
BEGIN:DAYLIGHT
TZOFFSETFROM:-0500
TZOFFSETTO:-0400
TZNAME:EDT
DTSTART:20240310T070000
END:DAYLIGHT
BEGIN:STANDARD
TZOFFSETFROM:-0400
TZOFFSETTO:-0500
TZNAME:EST
DTSTART:20241103T060000
END:STANDARD
BEGIN:DAYLIGHT
TZOFFSETFROM:-0500
TZOFFSETTO:-0400
TZNAME:EDT
DTSTART:20250309T070000
END:DAYLIGHT
BEGIN:STANDARD
TZOFFSETFROM:-0400
TZOFFSETTO:-0500
TZNAME:EST
DTSTART:20251102T060000
END:STANDARD
END:VTIMEZONE
BEGIN:VTIMEZONE
TZID:America/Los_Angeles
BEGIN:DAYLIGHT
TZOFFSETFROM:-0800
TZOFFSETTO:-0700
TZNAME:PDT
DTSTART:20230312T100000
END:DAYLIGHT
BEGIN:STANDARD
TZOFFSETFROM:-0700
TZOFFSETTO:-0800
TZNAME:PST
DTSTART:20231105T090000
END:STANDARD
BEGIN:DAYLIGHT
TZOFFSETFROM:-0800
TZOFFSETTO:-0700
TZNAME:PDT
DTSTART:20240310T100000
END:DAYLIGHT
BEGIN:STANDARD
TZOFFSETFROM:-0700
TZOFFSETTO:-0800
TZNAME:PST
DTSTART:20241103T090000
END:STANDARD
BEGIN:DAYLIGHT
TZOFFSETFROM:-0800
TZOFFSETTO:-0700
TZNAME:PDT
DTSTART:20250309T100000
END:DAYLIGHT
BEGIN:STANDARD
TZOFFSETFROM:-0700
TZOFFSETTO:-0800
TZNAME:PST
DTSTART:20251102T090000
END:STANDARD
END:VTIMEZONE
BEGIN:VEVENT
DTSTART;TZID=America/New_York:20240102T180000
DTEND;TZID=America/New_York:20240102T200000
DTSTAMP:20260423T073032
CREATED:20231027T201918Z
LAST-MODIFIED:20231027T201918Z
UID:10005270-1704218400-1704225600@newsuat.fordham.edu
SUMMARY:2024 New Orleans Presidential Reception
DESCRIPTION:The Office of Alumni Relations and Tania Tetlow\, president of Fordham University\, cordially invite you to a reception for alumni\, parents\, and friends. \nThe event cost includes heavy passed hors d’oeuvres\, beer\, and wine. We are pleased to welcome current Fordham students to attend at no charge. \nSpace is limited\, and registrations will be honored on a first-come\, first-served basis. We encourage you to register early. RSVP by December 22. \nPlease consider making a gift of $25 or more to support Cura Personalis | For Every Fordham Student.
URL:https://newsuat.fordham.edu/event/2024-new-orleans-presidential-reception/
LOCATION:Hotel Saint Vincent\, 1507 Magazine Street\, New Orleans\, LA\, 70130\, United States
CATEGORIES:Networking and Career,Receptions,Social
ORGANIZER;CN="Office of Alumni Relations":MAILTO:alumnioffice@fordham.edu
END:VEVENT
BEGIN:VEVENT
DTSTART;TZID=America/New_York:20240107T150000
DTEND;TZID=America/New_York:20240107T180000
DTSTAMP:20260423T073032
CREATED:20231027T215416Z
LAST-MODIFIED:20231027T215416Z
UID:10005272-1704639600-1704650400@newsuat.fordham.edu
SUMMARY:2024 Long Island Mass and Regional Reception
DESCRIPTION:Eileen Lamberti and Tom Lamberti\, FCRH ’52; the Fordham Alumni Chapter of Long Island; and the Office of Alumni Relations cordially invite you to our annual Mass and reception for alumni\, parents\, and friends. Mass will begin at 3 p.m. at the Church of St. Anne. Following Mass\, the reception will begin at 4 p.m. at the Garden City Hotel. \nMass will be celebrated by Daniel Gatti S.J.\, JES ’65\, GSE ’66. Anne T. Donnelly\, FCRH ’86\, LAW ’89\, will be honored with the Nicholas O’Neill Memorial Award in recognition of her dedicated service to Fordham University. \nThis event costs $25 per person and includes heavy hors d’oeuvres\, food stations\, and an open bar. Space is limited\, and advance registration is required. RSVP by December 29. \nPlease consider making a gift of $25 or more to support the Long Island Scholarship in Memory of John Cifichiello\, GABELLI ’68.
URL:https://newsuat.fordham.edu/event/2024-long-island-mass-and-regional-reception/
LOCATION:Garden City Hotel\, 45 Seventh Street\, Garden City\, NY\, 11530\, United States
CATEGORIES:Receptions,Social,Spiritual and Religious Events
ORGANIZER;CN="Office of Alumni Relations":MAILTO:alumnioffice@fordham.edu
GEO:40.7245497;-73.6406515
X-APPLE-STRUCTURED-LOCATION;VALUE=URI;X-ADDRESS=Garden City Hotel 45 Seventh Street Garden City NY 11530 United States;X-APPLE-RADIUS=500;X-TITLE=45 Seventh Street:geo:-73.6406515,40.7245497
END:VEVENT
BEGIN:VEVENT
DTSTART;TZID=America/New_York:20240112T170000
DTEND;TZID=America/New_York:20240112T200000
DTSTAMP:20260423T073032
CREATED:20240108T171724Z
LAST-MODIFIED:20240108T171724Z
UID:10001293-1705078800-1705089600@newsuat.fordham.edu
SUMMARY:Alumni Chapter of Phoenix: 2024 GO! Arizona | Kino Border Initiative
DESCRIPTION:Please join current students\, professors\, and alumni for dinner and an evening of shared experiences! The Alumni Chapter of Phoenix will be hosting students returning from a Global Outreach initiative alongside the Kino Border Initiative in Nogales\, both on the U.S. and Mexican sides of the border. \nKino is a Jesuit organization offering assistance to migrants through a holistic approach\, emphasizing the humanity and worth of every individual. Its goal is to learn of each student’s experience and offer support. \nAs the cost of this event is being generously covered by Madison Farrell\, FCRH ’10\, and Trae Farrell\, FCRH ’10\, please consider making a gift of $25 or more to support Global Outreach and its important initiatives.
URL:https://newsuat.fordham.edu/event/alumni-chapter-of-phoenix-2024-go-arizona-kino-border-initiative/
LOCATION:FL\, United States
CATEGORIES:Social,Volunteer
ORGANIZER;CN="Trae Farrell":MAILTO:Traefarrell@gmail.com
END:VEVENT
BEGIN:VEVENT
DTSTART;TZID=America/Los_Angeles:20240116T183000
DTEND;TZID=America/Los_Angeles:20240116T203000
DTSTAMP:20260423T073032
CREATED:20231128T171940Z
LAST-MODIFIED:20231128T171940Z
UID:10000084-1705429800-1705437000@newsuat.fordham.edu
SUMMARY:2024 Los Angeles Presidential Reception
DESCRIPTION:Madeline Nuñez and Armando Nuñez\, GABELLI ’82\, chair of the Fordham Board of Trustees; the Fordham Alumni Chapter of Los Angeles; and Tania Tetlow\, president of Fordham University\, cordially invite you to a complimentary reception for alumni\, parents\, and friends. \nSpace is limited\, and advance registration is required. RSVP by January 10. \nAs the cost of this event is being generously covered by our hosts\, Madeline and Armando Nuñez\, please consider making a gift of $25 or more to support Cura Personalis | For Every Fordham Student.
URL:https://newsuat.fordham.edu/event/2024-los-angeles-presidential-reception/
LOCATION:FL\, United States
CATEGORIES:Networking and Career,Receptions,Social
ORGANIZER;CN="Office of Alumni Relations":MAILTO:alumnioffice@fordham.edu
END:VEVENT
BEGIN:VEVENT
DTSTART;TZID=America/Los_Angeles:20240118T183000
DTEND;TZID=America/Los_Angeles:20240118T203000
DTSTAMP:20260423T073032
CREATED:20231128T171842Z
LAST-MODIFIED:20231128T171842Z
UID:10000090-1705602600-1705609800@newsuat.fordham.edu
SUMMARY:2024 San Francisco Presidential Reception
DESCRIPTION:Salvatore Giambanco\, GSAS ’90\, and Tom Perrault; the Fordham Alumni Chapter of Northern California; and Tania Tetlow\, president of Fordham University\, cordially invite you to a complimentary reception for alumni\, parents\, and friends. \nSpace is limited\, and advance registration is required. RSVP by January 12. \nAs the cost of this event is being generously covered by our hosts\, Sal Giambanco and Tom Perrault\, please consider making a gift of $25 or more to support Cura Personalis | For Every Fordham Student.
URL:https://newsuat.fordham.edu/event/2024-san-francisco-presidential-reception/
LOCATION:FL\, United States
CATEGORIES:Networking and Career,Receptions,Social
ORGANIZER;CN="Office of Alumni Relations":MAILTO:alumnioffice@fordham.edu
END:VEVENT
BEGIN:VEVENT
DTSTART;TZID=America/New_York:20240122T184500
DTEND;TZID=America/New_York:20240122T201500
DTSTAMP:20260423T073032
CREATED:20240112T184025Z
LAST-MODIFIED:20240112T184025Z
UID:10001444-1705949100-1705954500@newsuat.fordham.edu
SUMMARY:January 2024 GSS Black Alumni Caucus Meeting: Travel Social Work
DESCRIPTION:Topic: What Is Travel Social Work? \nWhat is the Black Alumni Caucus (BAC)? The BAC is a virtual space for self-identified Black alumni of Fordham University’s Graduate School of Social Service (GSS). Fordham GSS is holding space for you to connect with other Black alumni and with GSS in order to create a relaxed and affirming environment in which to support one another.
URL:https://newsuat.fordham.edu/event/gss-black-alumni-caucus-meeting-january-2024/
LOCATION:Zoom
CATEGORIES:Networking and Career,Social
END:VEVENT
BEGIN:VEVENT
DTSTART;TZID=America/New_York:20240129T181500
DTEND;TZID=America/New_York:20240129T194500
DTSTAMP:20260423T073032
CREATED:20240112T190115Z
LAST-MODIFIED:20240112T190115Z
UID:10001447-1706552100-1706557500@newsuat.fordham.edu
SUMMARY:January 2024 GSS Black Student Caucus Meeting: Field Placement
DESCRIPTION:Topic: Getting the Most out of Your Field Placement \nWhat is the GSS Black Student Caucus (BSC)? The BSC is a virtual meeting for self-identified Black students of Fordham University’s Graduate School of Social Service (GSS). Fordham GSS is holding space for you to connect with other Black students and with GSS in order to create a relaxed and affirming environment where social\, support\, mentorship\, and activism activities occur.
URL:https://newsuat.fordham.edu/event/gss-black-student-caucus-meeting-field-placement/
LOCATION:Zoom
CATEGORIES:Networking and Career,Social
END:VEVENT
BEGIN:VEVENT
DTSTART;TZID=America/New_York:20240131T123000
DTEND;TZID=America/New_York:20240131T143000
DTSTAMP:20260423T073032
CREATED:20240124T190254Z
LAST-MODIFIED:20240124T190254Z
UID:10001951-1706704200-1706711400@newsuat.fordham.edu
SUMMARY:A ‘Beloved Community’ Celebration - Rose Hill
DESCRIPTION:As we approach Black History Month\, the Arts and Sciences Deans’ Anti-Racism Advisory (FASARA) invites you to the inaugural Beloved Community Celebration. The Rev. Martin Luther King Jr.’s “Beloved Community” envisions a space where dialogue\, empathy\, and learning foster communities built upon shared ideals of social justice and equity. We invite students\, faculty\, and staff to engage with the question: What would a “Beloved Community” look like at Fordham? Join us for food\, music\, and fellowship!
URL:https://newsuat.fordham.edu/event/a-beloved-community-celebration-rose-hill/
LOCATION:FL\, United States
CATEGORIES:Lectures,Receptions,Social
END:VEVENT
END:VCALENDAR