BEGIN:VCALENDAR
VERSION:2.0
PRODID:-//Fordham Now - ECPv6.15.20//NONSGML v1.0//EN
CALSCALE:GREGORIAN
METHOD:PUBLISH
X-WR-CALNAME:Fordham Now
X-ORIGINAL-URL:https://newsuat.fordham.edu
X-WR-CALDESC:Events for Fordham Now
REFRESH-INTERVAL;VALUE=DURATION:PT1H
X-Robots-Tag:noindex
X-PUBLISHED-TTL:PT1H
BEGIN:VTIMEZONE
TZID:Europe/London
BEGIN:DAYLIGHT
TZOFFSETFROM:+0000
TZOFFSETTO:+0100
TZNAME:BST
DTSTART:20220327T010000
END:DAYLIGHT
BEGIN:STANDARD
TZOFFSETFROM:+0100
TZOFFSETTO:+0000
TZNAME:GMT
DTSTART:20221030T010000
END:STANDARD
BEGIN:DAYLIGHT
TZOFFSETFROM:+0000
TZOFFSETTO:+0100
TZNAME:BST
DTSTART:20230326T010000
END:DAYLIGHT
BEGIN:STANDARD
TZOFFSETFROM:+0100
TZOFFSETTO:+0000
TZNAME:GMT
DTSTART:20231029T010000
END:STANDARD
BEGIN:DAYLIGHT
TZOFFSETFROM:+0000
TZOFFSETTO:+0100
TZNAME:BST
DTSTART:20240331T010000
END:DAYLIGHT
BEGIN:STANDARD
TZOFFSETFROM:+0100
TZOFFSETTO:+0000
TZNAME:GMT
DTSTART:20241027T010000
END:STANDARD
END:VTIMEZONE
BEGIN:VTIMEZONE
TZID:America/New_York
BEGIN:DAYLIGHT
TZOFFSETFROM:-0500
TZOFFSETTO:-0400
TZNAME:EDT
DTSTART:20220313T070000
END:DAYLIGHT
BEGIN:STANDARD
TZOFFSETFROM:-0400
TZOFFSETTO:-0500
TZNAME:EST
DTSTART:20221106T060000
END:STANDARD
BEGIN:DAYLIGHT
TZOFFSETFROM:-0500
TZOFFSETTO:-0400
TZNAME:EDT
DTSTART:20230312T070000
END:DAYLIGHT
BEGIN:STANDARD
TZOFFSETFROM:-0400
TZOFFSETTO:-0500
TZNAME:EST
DTSTART:20231105T060000
END:STANDARD
BEGIN:DAYLIGHT
TZOFFSETFROM:-0500
TZOFFSETTO:-0400
TZNAME:EDT
DTSTART:20240310T070000
END:DAYLIGHT
BEGIN:STANDARD
TZOFFSETFROM:-0400
TZOFFSETTO:-0500
TZNAME:EST
DTSTART:20241103T060000
END:STANDARD
END:VTIMEZONE
BEGIN:VTIMEZONE
TZID:America/Los_Angeles
BEGIN:DAYLIGHT
TZOFFSETFROM:-0800
TZOFFSETTO:-0700
TZNAME:PDT
DTSTART:20220313T100000
END:DAYLIGHT
BEGIN:STANDARD
TZOFFSETFROM:-0700
TZOFFSETTO:-0800
TZNAME:PST
DTSTART:20221106T090000
END:STANDARD
BEGIN:DAYLIGHT
TZOFFSETFROM:-0800
TZOFFSETTO:-0700
TZNAME:PDT
DTSTART:20230312T100000
END:DAYLIGHT
BEGIN:STANDARD
TZOFFSETFROM:-0700
TZOFFSETTO:-0800
TZNAME:PST
DTSTART:20231105T090000
END:STANDARD
BEGIN:DAYLIGHT
TZOFFSETFROM:-0800
TZOFFSETTO:-0700
TZNAME:PDT
DTSTART:20240310T100000
END:DAYLIGHT
BEGIN:STANDARD
TZOFFSETFROM:-0700
TZOFFSETTO:-0800
TZNAME:PST
DTSTART:20241103T090000
END:STANDARD
END:VTIMEZONE
BEGIN:VEVENT
DTSTART;TZID=Europe/London:20231207T170000
DTEND;TZID=Europe/London:20231207T193000
DTSTAMP:20260423T092354
CREATED:20231027T202330Z
LAST-MODIFIED:20231027T202330Z
UID:10003568-1701968400-1701977400@newsuat.fordham.edu
SUMMARY:Alumni Chapter of the U.K.: 2023 Christmas Reception
DESCRIPTION:Fordham London and the Alumni Chapter of the United Kingdom are delighted to invite all alumni\, students\, and faculty to attend a festive holiday reception. Celebrate Christmas traditions and the nativity of Jesus with members of the Fordham community. This event is being sponsored by Andrea Mennillo\, chair of the Fordham London Advisory Board\, and Michael Holman\, S.J.\, superior of the London Jesuit Community and London Advisory Board member. \nRSVP by December 5.
URL:https://newsuat.fordham.edu/event/alumni-chapter-of-the-u-k-2023-christmas-reception/
LOCATION:Fordham London\, 2 Eyre Street Hill\, London\, England\, EC1R 5ET\, United Kingdom
CATEGORIES:Cultural,Networking and Career,Receptions,Social
END:VEVENT
BEGIN:VEVENT
DTSTART;TZID=America/New_York:20231207T183000
DTEND;TZID=America/New_York:20231207T203000
DTSTAMP:20260423T092354
CREATED:20231019T203231Z
LAST-MODIFIED:20231019T203231Z
UID:10003543-1701973800-1701981000@newsuat.fordham.edu
SUMMARY:Winter 2023 Jesuit Alumni Mixer
DESCRIPTION:Fordham University’s Young Alumni Committee invites alumni and friends of all Jesuit colleges and universities to join us for the winter edition of the NYC Jesuit Alumni Mixer. Come meet members of the #JesuitEducated alumni community and reconnect with classmates. \nYour ticket gets you an open bar for two hours and appetizers
URL:https://newsuat.fordham.edu/event/winter-2023-jesuit-alumni-mixer/
LOCATION:FL\, United States
CATEGORIES:Social
ORGANIZER;CN="Rachel Kartiganer":MAILTO:rkartiganer@fordham.edu
END:VEVENT
BEGIN:VEVENT
DTSTART;TZID=America/New_York:20231211T180000
DTEND;TZID=America/New_York:20231211T200000
DTSTAMP:20260423T092354
CREATED:20231121T175220Z
LAST-MODIFIED:20231121T175220Z
UID:10000201-1702317600-1702324800@newsuat.fordham.edu
SUMMARY:Alumni Chapter of Washington\, D.C.: 2023 Holiday Party
DESCRIPTION:The Alumni Chapter of Washington\, D.C.\, invites alumni\, family\, and friends to celebrate at its annual holiday party! We will have drinks\, appetizers\, and merriment at The Admiral near Dupont Circle. The event is located in the Bancroft Bar area toward the back of the restaurant. \nThe event cost includes a selection of appetizers and a drink ticket for the first 35 alumni in attendance. Additional drinks can be purchased at the bar. \nWe encourage you to register early! \nPlease consider making a gift of $25 or more to support Cura Personalis | For Every Fordham Student.
URL:https://newsuat.fordham.edu/event/alumni-chapter-of-washington-d-c-2023-holiday-party/
LOCATION:The Admiral\, 1 Dupont Circle NW\, Washington\, DC\, 20036\, United States
CATEGORIES:Social
ORGANIZER;CN="Deanna Howes Spiro":MAILTO:fordham.club.dc@gmail.com
END:VEVENT
BEGIN:VEVENT
DTSTART;TZID=America/Los_Angeles:20231213T180000
DTEND;TZID=America/Los_Angeles:20231213T200000
DTSTAMP:20260423T092354
CREATED:20231113T215659Z
LAST-MODIFIED:20231113T215659Z
UID:10005281-1702490400-1702497600@newsuat.fordham.edu
SUMMARY:Alumni Chapter of Los Angeles: 2023 Festive Holiday Happy Hour
DESCRIPTION:The Alumni Chapter of Los Angeles invites you to come celebrate the season with fellow SoCal Rams! Alumni\, parents\, friends\, and family are all welcome to join. \nThe event cost includes a selection of small bites courtesy of the Office of Alumni Relations. There will be a cash bar. \nSpace is limited\, and registrations will be honored on a first-come\, first-served basis. We encourage you to register early.
URL:https://newsuat.fordham.edu/event/alumni-chapter-of-los-angeles-2023-festive-holiday-happy-hour/
LOCATION:The Cloverfield\, 3300 Airport Avenue\, Santa Monica\, CA\, 90405\, United States
CATEGORIES:Social
ORGANIZER;CN="Lori Schaffhauser":MAILTO:lorimaui10@gmail.com
END:VEVENT
BEGIN:VEVENT
DTSTART;TZID=America/New_York:20231214T183000
DTEND;TZID=America/New_York:20231214T203000
DTSTAMP:20260423T092354
CREATED:20231020T223243Z
LAST-MODIFIED:20231020T223243Z
UID:10005255-1702578600-1702585800@newsuat.fordham.edu
SUMMARY:2023 Fairfield County Presidential Reception
DESCRIPTION:Ken Rogozinski\, GABELLI ’85\, and Alexandra Smith\, the Alumni Chapter of Fairfield County\, and Tania Tetlow\, president of Fordham Unversity\, cordially invite you to a complimentary reception for alumni\, parents\, and friends. \nSpace is limited\, and advance registration is required. Riverside Yacht Club is a private venue\, and walk-ins cannot be accommodated. We encourage you to register early\, as this event will sell out. \nAs the cost of this event is being generously covered by our hosts\, Ken Rogozinski and Alexandra Smith\, please consider making a gift of $25 or more to support Cura Personalis | For Every Fordham Student.
URL:https://newsuat.fordham.edu/event/2023-fairfield-county-presidential-reception/
LOCATION:Riverside Yacht Club\, 102 Club Road\, Riverside\, CT\, 06878\, United States
CATEGORIES:Networking and Career,Receptions,Social
ORGANIZER;CN="Office of Alumni Relations":MAILTO:alumnioffice@fordham.edu
END:VEVENT
BEGIN:VEVENT
DTSTART;TZID=America/New_York:20231216T083000
DTEND;TZID=America/New_York:20231216T120000
DTSTAMP:20260423T092354
CREATED:20231128T172158Z
LAST-MODIFIED:20231128T172158Z
UID:10000082-1702715400-1702728000@newsuat.fordham.edu
SUMMARY:Alumni Chapter of Washington\, D.C.: 2023 Wreaths Across America
DESCRIPTION:Jesuit-educated alumni and friends are invited to join in service together for Wreaths Across America at Arlington National Cemetery. Jesuit alumni will meet at the McClellan Gate on McClellan and Eisenhower drives before placing wreaths on graves. Please note that parking is extremely limited and that taking the Metro is recommended. \nBeginning at 11 a.m.\, volunteers will meet at Ireland’s Four Courts for a post-service social. Food and beverages can be purchased individually. This is a family-friendly event; children are welcome!
URL:https://newsuat.fordham.edu/event/alumni-chapter-of-washington-d-c-2023-wreaths-across-america/
LOCATION:Arlington National Cemetery\, Arlington\, VA\, United States
CATEGORIES:Receptions,Social,Volunteer
ORGANIZER;CN="AJCU":MAILTO:info@ajcunet.edu
END:VEVENT
BEGIN:VEVENT
DTSTART;TZID=America/New_York:20231216T133000
DTEND;TZID=America/New_York:20231216T150000
DTSTAMP:20260423T092354
CREATED:20231020T215938Z
LAST-MODIFIED:20231020T215938Z
UID:10003545-1702733400-1702738800@newsuat.fordham.edu
SUMMARY:Pregame Reception: Fordham vs. St. John’s 2023
DESCRIPTION:Alumni\, parents\, and Ram fans are invited to join the Office of Alumni Relations and the Maroon Club at Jack Doyle’s before Fordham takes on the St. John’s Red Storm for the Holiday Festival at Madison Square Garden. \nThe pregame reception includes a selection of appetizer platters and two drink tickets (good for beer\, wine\, or a cocktail). Following the pregame\, tip-off is at 3:30 p.m. Visit Ticketmaster to learn more about and purchase tickets for the Holiday Festival. Wear your best maroon gear and cheer on the men’s basketball team! \nPlease note: Space is limited\, and registrations will be honored on a first-come\, first-served basis. We encourage you to register early as this event will sell out. \nPlease consider making a gift of $25 or more to support Cura Personalis | For Every Fordham Student.
URL:https://newsuat.fordham.edu/event/pregame-reception-fordham-vs-st-johns-2023/
LOCATION:Home page 2023 V2
CATEGORIES:Athletics,Receptions,Social
ORGANIZER;CN="Office of Alumni Relations":MAILTO:alumnioffice@fordham.edu
END:VEVENT
BEGIN:VEVENT
DTSTART;TZID=America/Los_Angeles:20231216T170000
DTEND;TZID=America/Los_Angeles:20231216T200000
DTSTAMP:20260423T092354
CREATED:20231031T190426Z
LAST-MODIFIED:20231031T190426Z
UID:10003570-1702746000-1702756800@newsuat.fordham.edu
SUMMARY:Alumni Chapter of Northern California: 2023 Christmas and Holiday Dinner
DESCRIPTION:The Alumni Chapter of Northern California invites you to celebrate the holidays with a dinner at Original Joe’s in North Beach! Alumni\, parents\, friends\, and family are all welcome to join. \nThe event cost includes a four-course meal and drinks (wine\, coffee\, soda) in the private Salesian dining room. Children 12 and under are $30 per child. A portion of the cost has been very generously underwritten by sponsorships from the Office of Alumni Relations and Fordham Law. \nSpace is limited\, and registrations will be honored on a first-come\, first-served basis. We encourage you to register early. RSVP by December 13. \nPlease consider making a gift of $25 or more to support Cura Personalis | For Every Fordham Student.
URL:https://newsuat.fordham.edu/event/alumni-chapter-of-northern-california-2023-christmas-and-holiday-dinner/
LOCATION:FL\, United States
CATEGORIES:Social
ORGANIZER;CN="Mark Di Giorgio":MAILTO:markadigiorgio@att.net
END:VEVENT
END:VCALENDAR