BEGIN:VCALENDAR
VERSION:2.0
PRODID:-//Fordham Now - ECPv6.15.20//NONSGML v1.0//EN
CALSCALE:GREGORIAN
METHOD:PUBLISH
X-WR-CALNAME:Fordham Now
X-ORIGINAL-URL:https://newsuat.fordham.edu
X-WR-CALDESC:Events for Fordham Now
REFRESH-INTERVAL;VALUE=DURATION:PT1H
X-Robots-Tag:noindex
X-PUBLISHED-TTL:PT1H
BEGIN:VTIMEZONE
TZID:America/Los_Angeles
BEGIN:DAYLIGHT
TZOFFSETFROM:-0800
TZOFFSETTO:-0700
TZNAME:PDT
DTSTART:20220313T100000
END:DAYLIGHT
BEGIN:STANDARD
TZOFFSETFROM:-0700
TZOFFSETTO:-0800
TZNAME:PST
DTSTART:20221106T090000
END:STANDARD
BEGIN:DAYLIGHT
TZOFFSETFROM:-0800
TZOFFSETTO:-0700
TZNAME:PDT
DTSTART:20230312T100000
END:DAYLIGHT
BEGIN:STANDARD
TZOFFSETFROM:-0700
TZOFFSETTO:-0800
TZNAME:PST
DTSTART:20231105T090000
END:STANDARD
BEGIN:DAYLIGHT
TZOFFSETFROM:-0800
TZOFFSETTO:-0700
TZNAME:PDT
DTSTART:20240310T100000
END:DAYLIGHT
BEGIN:STANDARD
TZOFFSETFROM:-0700
TZOFFSETTO:-0800
TZNAME:PST
DTSTART:20241103T090000
END:STANDARD
END:VTIMEZONE
BEGIN:VTIMEZONE
TZID:America/New_York
BEGIN:DAYLIGHT
TZOFFSETFROM:-0500
TZOFFSETTO:-0400
TZNAME:EDT
DTSTART:20220313T070000
END:DAYLIGHT
BEGIN:STANDARD
TZOFFSETFROM:-0400
TZOFFSETTO:-0500
TZNAME:EST
DTSTART:20221106T060000
END:STANDARD
BEGIN:DAYLIGHT
TZOFFSETFROM:-0500
TZOFFSETTO:-0400
TZNAME:EDT
DTSTART:20230312T070000
END:DAYLIGHT
BEGIN:STANDARD
TZOFFSETFROM:-0400
TZOFFSETTO:-0500
TZNAME:EST
DTSTART:20231105T060000
END:STANDARD
BEGIN:DAYLIGHT
TZOFFSETFROM:-0500
TZOFFSETTO:-0400
TZNAME:EDT
DTSTART:20240310T070000
END:DAYLIGHT
BEGIN:STANDARD
TZOFFSETFROM:-0400
TZOFFSETTO:-0500
TZNAME:EST
DTSTART:20241103T060000
END:STANDARD
END:VTIMEZONE
BEGIN:VTIMEZONE
TZID:Europe/London
BEGIN:DAYLIGHT
TZOFFSETFROM:+0000
TZOFFSETTO:+0100
TZNAME:BST
DTSTART:20220327T010000
END:DAYLIGHT
BEGIN:STANDARD
TZOFFSETFROM:+0100
TZOFFSETTO:+0000
TZNAME:GMT
DTSTART:20221030T010000
END:STANDARD
BEGIN:DAYLIGHT
TZOFFSETFROM:+0000
TZOFFSETTO:+0100
TZNAME:BST
DTSTART:20230326T010000
END:DAYLIGHT
BEGIN:STANDARD
TZOFFSETFROM:+0100
TZOFFSETTO:+0000
TZNAME:GMT
DTSTART:20231029T010000
END:STANDARD
BEGIN:DAYLIGHT
TZOFFSETFROM:+0000
TZOFFSETTO:+0100
TZNAME:BST
DTSTART:20240331T010000
END:DAYLIGHT
BEGIN:STANDARD
TZOFFSETFROM:+0100
TZOFFSETTO:+0000
TZNAME:GMT
DTSTART:20241027T010000
END:STANDARD
END:VTIMEZONE
BEGIN:VTIMEZONE
TZID:Europe/Rome
BEGIN:DAYLIGHT
TZOFFSETFROM:+0100
TZOFFSETTO:+0200
TZNAME:CEST
DTSTART:20220327T010000
END:DAYLIGHT
BEGIN:STANDARD
TZOFFSETFROM:+0200
TZOFFSETTO:+0100
TZNAME:CET
DTSTART:20221030T010000
END:STANDARD
BEGIN:DAYLIGHT
TZOFFSETFROM:+0100
TZOFFSETTO:+0200
TZNAME:CEST
DTSTART:20230326T010000
END:DAYLIGHT
BEGIN:STANDARD
TZOFFSETFROM:+0200
TZOFFSETTO:+0100
TZNAME:CET
DTSTART:20231029T010000
END:STANDARD
BEGIN:DAYLIGHT
TZOFFSETFROM:+0100
TZOFFSETTO:+0200
TZNAME:CEST
DTSTART:20240331T010000
END:DAYLIGHT
BEGIN:STANDARD
TZOFFSETFROM:+0200
TZOFFSETTO:+0100
TZNAME:CET
DTSTART:20241027T010000
END:STANDARD
END:VTIMEZONE
BEGIN:VEVENT
DTSTART;TZID=America/Los_Angeles:20231004T170000
DTEND;TZID=America/Los_Angeles:20231115T190000
DTSTAMP:20260423T111946
CREATED:20230905T200343Z
LAST-MODIFIED:20230905T200343Z
UID:10005187-1696438800-1700074800@newsuat.fordham.edu
SUMMARY:Alumni Chapter of Northern California: 2023 Ferry Bocce League
DESCRIPTION:Join the Alumni Chapter of Northern California in the Ferry Bocce League in San Francisco this fall! The season runs from October 4 through November 15\, with our teams—the Bronx Ballers—participating in games on Wednesday evenings. We will have one team compete per night\, with each team consisting of up to nine players. \nThe cost includes seven weeks of play and an open bar (soda\, beer\, wine). Fordham Bronx Ballers T-shirts are available on a first-come\, first-served basis. Space is very limited\, as team size is restricted to nine players\, so reserve your spot today! \nMore information about the league can be found at ferrybocce.com. \nRSVP by September 29.
URL:https://newsuat.fordham.edu/event/alumni-chapter-of-northern-california-2023-ferry-bocce-league/
LOCATION:Embarcadero Plaza\, Market and Steuart Streets\, San Francisco\, CA\, 94105\, United States
CATEGORIES:Athletics,Social
ORGANIZER;CN="Mark Di Giorgio":MAILTO:markadigiorgio@att.net
END:VEVENT
BEGIN:VEVENT
DTSTART;TZID=America/New_York:20231102T180000
DTEND;TZID=America/New_York:20231102T200000
DTSTAMP:20260423T111946
CREATED:20230802T172537Z
LAST-MODIFIED:20230802T172537Z
UID:10005151-1698948000-1698955200@newsuat.fordham.edu
SUMMARY:2023 Washington\, D.C.\, Presidential Reception and McMahon Award Ceremony
DESCRIPTION:The Office of Alumni Relations\, the Alumni Chapter of Washington\, D.C.\, and Tania Tetlow\, president of Fordham University\, cordially invite you to a reception honoring Dr. Anthony Fauci with the Brien McMahon Memorial Award for Distinguished Public Service. We are pleased to share that Dr. Fauci will accept the award in person. \nThis event costs $85 per person and includes includes heavy passed hors d’oeuvres\, food stations\, and beer and wine. Recent graduates (2013–2023) may take advantage of a reduced price of $65 per person. \nSpace is limited\, and registrations will be honored on a first-come\, first-served basis. RSVP by October 27. \nPlease consider making a gift of $25 or more to support the Alumni Chapter of Washington\, D.C.\, Endowed Scholarship.
URL:https://newsuat.fordham.edu/event/2023-washington-d-c-presidential-reception-and-mcmahon-award-ceremony/
LOCATION:National Press Club\, 529 14th Street NW\, Washington\, D.C.\, DC\, 20045\, United States
CATEGORIES:Social
ORGANIZER;CN="Ainsley Woakes":MAILTO:awoakes@fordham.edu
END:VEVENT
BEGIN:VEVENT
DTSTART;TZID=America/Los_Angeles:20231103T170000
DTEND;TZID=America/Los_Angeles:20231103T200000
DTSTAMP:20260423T111946
CREATED:20231020T221111Z
LAST-MODIFIED:20231020T221111Z
UID:10005247-1699030800-1699041600@newsuat.fordham.edu
SUMMARY:Fordham Foundry: 2023 Inaugural Event in Northern California
DESCRIPTION:The Fordham Foundry\, Fordham’s hub for innovation and entrepreneurship\, and the Alumni Chapter of Northern California invite you to meet Fordham Bay Area entrepreneurs\, innovators\, and winemakers during this inaugural event. Enjoy an intimate evening of storytelling and networking\, as well as a savory food and wine pairing experience. \nA select group of entrepreneurs and innovators who took the road less traveled to blaze their own trails on the West Coast will share insights and humorous tales that will inform\, inspire\, and entertain you. The evening’s distinguished storytellers include: \nKamal Azari\, GSAS ’88\nJamie Kutch\, FCRH ’96\nJohn Murphy\, GABELLI ’90\nVincent Titolo\, GABELLI ’63 \nJohn Kilcullen\, FCRH ’81\, founder of the For Dummies series\, Russian River Valley winegrower\, and former CEO will serve as moderator. Mark Di Giorgio\, GABELLI ’87\, ’93\, leader of the Northern California alumni chapter\, will introduce Al Bartosic\, GABELLI ’84\, GSAS ’23\, executive director of the Foundry\, who will discuss its mission and accomplishments\, as well as his vision for the future. \nWine will be poured by Kutch\, owner/winemaker of Kutch Wines\, and Azari\, GSAS ’88\, owner/winemaker of Azari Vineyards. Attendees will be treated to an education on the crafting of award-winning pinot noirs and chardonnays while enjoying Kutch and Azari’s latest releases. \nSpace is limited and advance registration is required.
URL:https://newsuat.fordham.edu/event/fordham-foundry-2023-inaugural-event-in-northern-california/
LOCATION:Home page 2023 V2
CATEGORIES:Networking and Career,Receptions,Social
ORGANIZER;CN="Office of Alumni Relations":MAILTO:alumnioffice@fordham.edu
END:VEVENT
BEGIN:VEVENT
DTSTART;TZID=America/New_York:20231104T103000
DTEND;TZID=America/New_York:20231104T124500
DTSTAMP:20260423T111946
CREATED:20230905T201655Z
LAST-MODIFIED:20230905T201655Z
UID:10005192-1699093800-1699101900@newsuat.fordham.edu
SUMMARY:Alumni Chapter of Long Island: 2023 Bucknell Tailgate
DESCRIPTION:Come tailgate with local alumni before the Rams vs. Bisons football game at Jack Coffey Field! The exact location in the parking lot will be determined upon arrival. There is no fee for tailgating\, but tickets for the game may be purchased through the Fordham athletics department. Food and drinks will be available. \nPlease contact Long Island chapter leader Phil Cicione for the location\, or look for the chapter banner. \nPlease consider making a gift of $25 or more to support Cura Personalis | For Every Fordham Student.
URL:https://newsuat.fordham.edu/event/alumni-chapter-of-long-island-2023-bucknell-tailgate/
LOCATION:Parking Lot A Rose Hill Campus\, Fordham University\, Bronx\, NY\, 10458\, United States
CATEGORIES:Athletics,Social
ORGANIZER;CN="Phil Cicione":MAILTO:phillipcicione@gmail.com
END:VEVENT
BEGIN:VEVENT
DTSTART;TZID=America/New_York:20231104T110000
DTEND;TZID=America/New_York:20231104T160000
DTSTAMP:20260423T111946
CREATED:20230908T202031Z
LAST-MODIFIED:20230908T202031Z
UID:10005204-1699095600-1699113600@newsuat.fordham.edu
SUMMARY:Young Alumni Football Tailgate
DESCRIPTION:You’re invited to an unforgettable day of fun\, camaraderie\, and football fever as we cheer on our beloved Fordham Rams in their last home game of the season against Bucknell! Kick off the festivities with a fantastic tailgate experience planned in partnership with the Maroon Club\, featuring delicious food\, refreshing beverages/ open bar\, DJ\, games\, and great company. We are offering young alumni discounted pricing\, so don’t miss out on this chance to relive your Fordham days and support our team in style. Whether you’re a die-hard football fan or just looking for a great time\, this event promises to be a blast! \nThe tailgate will be at Lot A.
URL:https://newsuat.fordham.edu/event/young-alumni-football-tailgate/
LOCATION:Jack Coffey Field\, Rose Hill Campus\, Bronx\, NY\, United States
CATEGORIES:Social
ORGANIZER;CN="Rachel Kartiganer":MAILTO:rkartiganer@fordham.edu
END:VEVENT
BEGIN:VEVENT
DTSTART;TZID=Europe/London:20231108T180000
DTEND;TZID=Europe/London:20231108T200000
DTSTAMP:20260423T111946
CREATED:20230727T175003Z
LAST-MODIFIED:20230727T175003Z
UID:10005150-1699466400-1699473600@newsuat.fordham.edu
SUMMARY:2023 London Presidential Reception
DESCRIPTION:Sheryl Dellapina\, FCRH ’87\, PAR\, and Jeffrey Dellapina\, PAR; the Fordham London Advisory Board; the Alumni Chapter of the United Kingdom; and Tania Tetlow\, president of Fordham University\, cordially invite you to a complimentary reception for alumni\, parents\, and friends. \nSpace is limited\, and advance registration is required. RSVP by November 3. \nAs the cost of this event is being generously covered by hosts Sheryl and Jeff Dellapina\, please consider making a gift of $25 or more to support Cura Personalis | For Every Fordham Student.
URL:https://newsuat.fordham.edu/event/2023-london-presidential-reception/
LOCATION:The Berkeley\, Wilton Place\, London\, SW1X 7RL\, United Kingdom
CATEGORIES:Networking and Career,Receptions,Social
ORGANIZER;CN="Office of Alumni Relations":MAILTO:alumnioffice@fordham.edu
END:VEVENT
BEGIN:VEVENT
DTSTART;TZID=Europe/Rome:20231109T183000
DTEND;TZID=Europe/Rome:20231109T203000
DTSTAMP:20260423T111946
CREATED:20231002T183607Z
LAST-MODIFIED:20231002T183607Z
UID:10003519-1699554600-1699561800@newsuat.fordham.edu
SUMMARY:2023 Rome Regional Reception
DESCRIPTION:Andrea Mennillo\, PAR\, chair of the Fordham London Advisory Board; Dennis C. Jacobs\, Ph.D.\, provost and senior vice president for academic affairs; John Cecero\, S.J.\, vice president for mission integration and ministry; Roger A. Milici Jr.\, vice president for Development and University Relations; and the Office of Alumni Relations invite you to join us in Rome for a networking and social reception for Fordham alumni\, parents\, and friends. \nEnjoy an evening on the beautiful terrace at the Curtis Rome law office overlooking Piazza Venezia. Don’t miss this opportunity to (re)connect with Fordham’s global mission and hear the latest on the University.\nSpace is limited\, and advance registration is required. RSVP by November 3. \nPlease consider making a gift of $25 or more to support Cura Personalis | For Every Fordham Student.
URL:https://newsuat.fordham.edu/event/2023-rome-regional-reception/
LOCATION:FL\, United States
CATEGORIES:Networking and Career,Receptions,Social
ORGANIZER;CN="Office of Alumni Relations":MAILTO:alumnioffice@fordham.edu
END:VEVENT
BEGIN:VEVENT
DTSTART;TZID=Europe/London:20231115T174500
DTEND;TZID=Europe/London:20231115T203000
DTSTAMP:20260423T111946
CREATED:20231027T202226Z
LAST-MODIFIED:20231027T202226Z
UID:10005271-1700070300-1700080200@newsuat.fordham.edu
SUMMARY:Alumni Chapter of the U.K.: Leadership in an Evolving World—Panel and Networking Event
DESCRIPTION:Join Fordham London and the Alumni Chapter of the United Kingdom for a special community event. Attendees will have the chance to meet with current students and network with other members of the Fordham community.  \n5:45 p.m. | Welcome Reception\n6:30 p.m. | Panel\n7:20 p.m. | Networking\n8:30 p.m. | Event finishes \nJoin alumni\, students\, and members of the larger Fordham network for this “Leadership in an Evolving World” panel discussion and networking evening. We’ll discuss the importance of leadership in the workplace and everyday life to tackle society’s pressing issues in business and the world at large.
URL:https://newsuat.fordham.edu/event/alumni-chapter-of-the-u-k-leadership-in-an-evolving-world-panel-and-networking-event/
LOCATION:Fordham London\, 2 Eyre Street Hill\, London\, England\, EC1R 5ET\, United Kingdom
CATEGORIES:Lectures,Networking and Career,Receptions,Social
END:VEVENT
BEGIN:VEVENT
DTSTART;TZID=America/New_York:20231115T183000
DTEND;TZID=America/New_York:20231115T203000
DTSTAMP:20260423T111946
CREATED:20230908T202502Z
LAST-MODIFIED:20230908T202502Z
UID:10005205-1700073000-1700080200@newsuat.fordham.edu
SUMMARY:Rolling with the Rams: Young Alumni Bowling Night
DESCRIPTION:Get ready to strike up some fun at Fordham’s Young Alumni Bowling Night! Join us at The Gutter LES for an unforgettable evening of strikes\, spares\, and socializing. Whether you’re a seasoned pro or just looking to have a ball (pun intended)\, this event is the perfect opportunity to reconnect with fellow Fordham alumni and make some new friends. Join us for a night of friendly competition\, delicious food and drinks\, and a whole lot of nostalgia. \nYour ticket includes: \n\nTwo hours of bowling\nShoe rental\nA dedicated lane for Fordham alumni\nNetworking with your fellow Rams\nComplimentary appetizers\nOne drink on us (followed by a cash bar with a wide selection of beverages)
URL:https://newsuat.fordham.edu/event/rolling-with-the-rams-young-alumni-bowling-night/
LOCATION:The Gutter LES\, 77 Essex St\, New York\, NY\, 10002\, United States
CATEGORIES:Social
ORGANIZER;CN="Rachel Kartiganer":MAILTO:rkartiganer@fordham.edu
END:VEVENT
BEGIN:VEVENT
DTSTART;TZID=America/Los_Angeles:20231128T170000
DTEND;TZID=America/Los_Angeles:20231128T180000
DTSTAMP:20260423T111946
CREATED:20231012T210432Z
LAST-MODIFIED:20231012T210432Z
UID:10005246-1701190800-1701194400@newsuat.fordham.edu
SUMMARY:Alumni Chapter of Seattle: 2023 Pints with the President
DESCRIPTION:The Fordham Alumni Chapter of Seattle and the Office of Alumni Relations cordially invite you to a complimentary Pints with the President event for alumni\, parents\, and friends. Please join us as we welcome Tania Tetlow as Fordham’s 33rd president—the first woman and layperson to serve as president in the University’s history—in Seattle. \nSpace is limited\, and advance registration is required. RSVP by November 24. \nPlease consider making a gift of $25 or more to support Cura Personalis | For Every Fordham Student.
URL:https://newsuat.fordham.edu/event/alumni-chapter-of-seattle-2023-pints-with-the-president/
LOCATION:Home page 2023 V3
CATEGORIES:Social
ORGANIZER;CN="Ainsley Woakes":MAILTO:awoakes@fordham.edu
END:VEVENT
END:VCALENDAR