BEGIN:VCALENDAR
VERSION:2.0
PRODID:-//Fordham Now - ECPv6.15.20//NONSGML v1.0//EN
CALSCALE:GREGORIAN
METHOD:PUBLISH
X-WR-CALNAME:Fordham Now
X-ORIGINAL-URL:https://newsuat.fordham.edu
X-WR-CALDESC:Events for Fordham Now
REFRESH-INTERVAL;VALUE=DURATION:PT1H
X-Robots-Tag:noindex
X-PUBLISHED-TTL:PT1H
BEGIN:VTIMEZONE
TZID:America/Los_Angeles
BEGIN:DAYLIGHT
TZOFFSETFROM:-0800
TZOFFSETTO:-0700
TZNAME:PDT
DTSTART:20220313T100000
END:DAYLIGHT
BEGIN:STANDARD
TZOFFSETFROM:-0700
TZOFFSETTO:-0800
TZNAME:PST
DTSTART:20221106T090000
END:STANDARD
BEGIN:DAYLIGHT
TZOFFSETFROM:-0800
TZOFFSETTO:-0700
TZNAME:PDT
DTSTART:20230312T100000
END:DAYLIGHT
BEGIN:STANDARD
TZOFFSETFROM:-0700
TZOFFSETTO:-0800
TZNAME:PST
DTSTART:20231105T090000
END:STANDARD
BEGIN:DAYLIGHT
TZOFFSETFROM:-0800
TZOFFSETTO:-0700
TZNAME:PDT
DTSTART:20240310T100000
END:DAYLIGHT
BEGIN:STANDARD
TZOFFSETFROM:-0700
TZOFFSETTO:-0800
TZNAME:PST
DTSTART:20241103T090000
END:STANDARD
END:VTIMEZONE
BEGIN:VTIMEZONE
TZID:America/New_York
BEGIN:DAYLIGHT
TZOFFSETFROM:-0500
TZOFFSETTO:-0400
TZNAME:EDT
DTSTART:20220313T070000
END:DAYLIGHT
BEGIN:STANDARD
TZOFFSETFROM:-0400
TZOFFSETTO:-0500
TZNAME:EST
DTSTART:20221106T060000
END:STANDARD
BEGIN:DAYLIGHT
TZOFFSETFROM:-0500
TZOFFSETTO:-0400
TZNAME:EDT
DTSTART:20230312T070000
END:DAYLIGHT
BEGIN:STANDARD
TZOFFSETFROM:-0400
TZOFFSETTO:-0500
TZNAME:EST
DTSTART:20231105T060000
END:STANDARD
BEGIN:DAYLIGHT
TZOFFSETFROM:-0500
TZOFFSETTO:-0400
TZNAME:EDT
DTSTART:20240310T070000
END:DAYLIGHT
BEGIN:STANDARD
TZOFFSETFROM:-0400
TZOFFSETTO:-0500
TZNAME:EST
DTSTART:20241103T060000
END:STANDARD
END:VTIMEZONE
BEGIN:VTIMEZONE
TZID:America/Denver
BEGIN:DAYLIGHT
TZOFFSETFROM:-0700
TZOFFSETTO:-0600
TZNAME:MDT
DTSTART:20220313T090000
END:DAYLIGHT
BEGIN:STANDARD
TZOFFSETFROM:-0600
TZOFFSETTO:-0700
TZNAME:MST
DTSTART:20221106T080000
END:STANDARD
BEGIN:DAYLIGHT
TZOFFSETFROM:-0700
TZOFFSETTO:-0600
TZNAME:MDT
DTSTART:20230312T090000
END:DAYLIGHT
BEGIN:STANDARD
TZOFFSETFROM:-0600
TZOFFSETTO:-0700
TZNAME:MST
DTSTART:20231105T080000
END:STANDARD
BEGIN:DAYLIGHT
TZOFFSETFROM:-0700
TZOFFSETTO:-0600
TZNAME:MDT
DTSTART:20240310T090000
END:DAYLIGHT
BEGIN:STANDARD
TZOFFSETFROM:-0600
TZOFFSETTO:-0700
TZNAME:MST
DTSTART:20241103T080000
END:STANDARD
END:VTIMEZONE
BEGIN:VTIMEZONE
TZID:Asia/Hong_Kong
BEGIN:STANDARD
TZOFFSETFROM:+0800
TZOFFSETTO:+0800
TZNAME:HKT
DTSTART:20220101T000000
END:STANDARD
END:VTIMEZONE
BEGIN:VTIMEZONE
TZID:Asia/Shanghai
BEGIN:STANDARD
TZOFFSETFROM:+0800
TZOFFSETTO:+0800
TZNAME:CST
DTSTART:20220101T000000
END:STANDARD
END:VTIMEZONE
BEGIN:VEVENT
DTSTART;TZID=America/Los_Angeles:20231003T163000
DTEND;TZID=America/Los_Angeles:20231003T190000
DTSTAMP:20260423T131659
CREATED:20230922T184107Z
LAST-MODIFIED:20230922T184107Z
UID:10005218-1696350600-1696359600@newsuat.fordham.edu
SUMMARY:Alumni Chapter of Northern California: 2023 Welcome to the Neighborhood Event
DESCRIPTION:Have you recently graduated from Fordham or just moved to the area? Longtime Northern California resident looking to connect with your fellow Rams? Join the Fordham Alumni Chapter of Northern California at The Barrel Room. Whether you are looking to network or just make some new friends\, we hope you’ll join us for a fun evening! \nAll Fordham alumni\, parents\, and friends are welcome to attend the event. The Office of Alumni Relations will provide a selection of appetizers and one complimentary drink ticket per attendee. A cash bar will be available.
URL:https://newsuat.fordham.edu/event/alumni-chapter-of-northern-california-2023-welcome-to-the-neighborhood-event/
LOCATION:FL\, United States
CATEGORIES:Social
ORGANIZER;CN="Mark Di Giorgio":MAILTO:markadigiorgio@att.net
END:VEVENT
BEGIN:VEVENT
DTSTART;TZID=America/Los_Angeles:20231004T170000
DTEND;TZID=America/Los_Angeles:20231115T190000
DTSTAMP:20260423T131659
CREATED:20230905T200343Z
LAST-MODIFIED:20230905T200343Z
UID:10005187-1696438800-1700074800@newsuat.fordham.edu
SUMMARY:Alumni Chapter of Northern California: 2023 Ferry Bocce League
DESCRIPTION:Join the Alumni Chapter of Northern California in the Ferry Bocce League in San Francisco this fall! The season runs from October 4 through November 15\, with our teams—the Bronx Ballers—participating in games on Wednesday evenings. We will have one team compete per night\, with each team consisting of up to nine players. \nThe cost includes seven weeks of play and an open bar (soda\, beer\, wine). Fordham Bronx Ballers T-shirts are available on a first-come\, first-served basis. Space is very limited\, as team size is restricted to nine players\, so reserve your spot today! \nMore information about the league can be found at ferrybocce.com. \nRSVP by September 29.
URL:https://newsuat.fordham.edu/event/alumni-chapter-of-northern-california-2023-ferry-bocce-league/
LOCATION:Embarcadero Plaza\, Market and Steuart Streets\, San Francisco\, CA\, 94105\, United States
CATEGORIES:Athletics,Social
ORGANIZER;CN="Mark Di Giorgio":MAILTO:markadigiorgio@att.net
END:VEVENT
BEGIN:VEVENT
DTSTART;TZID=America/New_York:20231006T190000
DTEND;TZID=America/New_York:20231006T190000
DTSTAMP:20260423T131659
CREATED:20230905T203941Z
LAST-MODIFIED:20230905T203941Z
UID:10005188-1696618800-1696618800@newsuat.fordham.edu
SUMMARY:2023 Young Alumni Yacht Cruise
DESCRIPTION:Come aboard for an elegant evening cruise featuring dinner\, cocktails\, dancing\, and breathtaking views on a privately chartered yacht. Young alumni and friends will circle lower Manhattan on one of the city’s most luxurious vessels\, which features an open-air top and separate levels for dinner and dancing. \nRegistration includes a buffet dinner and an open bar for $85. Tickets increase to $105 after September 19\, so get yours today!
URL:https://newsuat.fordham.edu/event/2023-young-alumni-yacht-cruise/
LOCATION:Pier 40\, 353 West Street\, New York\, NY\, 10014\, United States
CATEGORIES:Social
ORGANIZER;CN="Office of Alumni Relations":MAILTO:alumnioffice@fordham.edu
END:VEVENT
BEGIN:VEVENT
DTSTART;TZID=America/New_York:20231012T103000
DTEND;TZID=America/New_York:20231012T200000
DTSTAMP:20260423T131659
CREATED:20230623T160829Z
LAST-MODIFIED:20230623T160829Z
UID:10005143-1697106600-1697140800@newsuat.fordham.edu
SUMMARY:Alumni Chapter of Long Island: 2023 Golf Outing
DESCRIPTION:Join the Alumni Chapter of Long Island for its 18th Annual Golf Outing! Enjoy a great round of golf with fellow Fordham alumni\, family\, and friends at the Garden City Country Club! This golf outing benefits the Long Island Scholarship in Memory of John Cifichiello\, GABELLI ’68.
URL:https://newsuat.fordham.edu/event/alumni-chapter-of-long-island-2023-golf-outing/
LOCATION:Garden City Country Club\, 206 Stewart Avenue\, Garden City\, NY\, 11530\, United States
CATEGORIES:Athletics,Receptions,Social
ORGANIZER;CN="Alumni Chapter of Long Island":MAILTO:phillipcicione@gmail.com
END:VEVENT
BEGIN:VEVENT
DTSTART;TZID=America/New_York:20231014T130000
DTEND;TZID=America/New_York:20231014T151500
DTSTAMP:20260423T131659
CREATED:20230905T200535Z
LAST-MODIFIED:20230905T200535Z
UID:10005190-1697288400-1697296500@newsuat.fordham.edu
SUMMARY:Alumni Chapter of Long Island: 2023 Stony Brook Pregame Tailgate
DESCRIPTION:Come tailgate with local alumni before the Rams vs. Seawolves football game at Stony Brook University! The exact location in the parking lot will be determined upon arrival. There is no fee for tailgating\, but tickets for the game may be purchased through the Fordham athletics department or Stony Brook. Food and drinks will be available. \nPlease email Long Island chapter leader Phil Cicione for the location\, or look for the chapter banner. \nPlease consider making a gift of $25 or more to support Cura Personalis | For Every Fordham Student.
URL:https://newsuat.fordham.edu/event/alumni-chapter-of-long-island-2023-stony-brook-pregame-tailgate/
LOCATION:Stony Brook University Parking Lot\, 100 Nicolls Road\, Stony Brook\, NY\, 11794\, United States
CATEGORIES:Athletics,Social
ORGANIZER;CN="Phil Cicione":MAILTO:phillipcicione@gmail.com
END:VEVENT
BEGIN:VEVENT
DTSTART;TZID=America/Denver:20231019T173000
DTEND;TZID=America/Denver:20231019T193000
DTSTAMP:20260423T131659
CREATED:20230915T144348Z
LAST-MODIFIED:20230915T144348Z
UID:10005213-1697736600-1697743800@newsuat.fordham.edu
SUMMARY:Alumni Chapter of Colorado: 2023 Rocky Mountain Rams Fall Happy Hour
DESCRIPTION:Calling all Colorado Rams! Join us for a fall happy hour to connect with fellow Fordham grads and enjoy a night of mingling and networking. Alumni\, family\, and friends are welcome to attend. \nDuring the event\, we’ll be asking for your feedback and ideas for future meetups and events for the new Rocky Mountain chapter. \nThe event cost includes a selection of appetizer platters and a drink ticket. A cash bar will be available. Hope to see you there! \nPlease consider making a gift of $25 or more to support Cura Personalis | For Every Fordham Student.
URL:https://newsuat.fordham.edu/event/alumni-chapter-of-colorado-2023-rocky-mountain-rams-fall-happy-hour/
LOCATION:AR9T7480
CATEGORIES:Social
END:VEVENT
BEGIN:VEVENT
DTSTART;TZID=America/New_York:20231019T180000
DTEND;TZID=America/New_York:20231019T200000
DTSTAMP:20260423T131659
CREATED:20230815T182921Z
LAST-MODIFIED:20230815T182921Z
UID:10005156-1697738400-1697745600@newsuat.fordham.edu
SUMMARY:Alumni Chapter of Charlotte: Welcome to the Neighborhood
DESCRIPTION:Have you recently graduated from Fordham or just moved to the area? Longtime Charlotte resident looking to connect with your fellow Rams? Join the Fordham Alumni Chapter of Charlotte at Tyber Creek Pub. Whether you are looking to network or just make some new friends\, we hope you’ll join us for a fun evening! \nAll Fordham alumni\, parents\, and friends are welcome to attend the event. A selection of appetizers and one complimentary drink ticket per attendee will be provided by the Office of Alumni Relations. A cash bar will be available.
URL:https://newsuat.fordham.edu/event/alumni-chapter-of-charlotte-welcome-to-the-neighborhood/
LOCATION:Tyber Creek Pub\, 1933 South Boulevard\, Charlotte\, NC\, 28203\, United States
CATEGORIES:Social
ORGANIZER;CN="Joaquin Pradas":MAILTO:jpradas103@gmail.com
END:VEVENT
BEGIN:VEVENT
DTSTART;TZID=Asia/Hong_Kong:20231022T150000
DTEND;TZID=Asia/Hong_Kong:20231022T170000
DTSTAMP:20260423T131659
CREATED:20230922T200046Z
LAST-MODIFIED:20230922T200046Z
UID:10003496-1697986800-1697994000@newsuat.fordham.edu
SUMMARY:2023 Hong Kong Regional Reception
DESCRIPTION:The Office of Alumni Relations and the Gabelli School of Business cordially invite you to a complimentary reception for alumni\, parents\, and friends. Meet fellow Hong Kong-based alumni and learn about the latest at Fordham\, including what’s new across the campuses and different ways to stay connected to the University. \nSpace is limited\, and advance registration is required. RSVP by October 17. \nAs this event is being generously hosted by Hong Kong-based 6E Capital\, please consider making a gift of $25 or more to support Cura Personalis | For Every Fordham Student. \nProgram\n3 – 3:45 p.m. | Networking: Guests are invited to mingle and enjoy a selection of complimentary canapés\, savories\, desserts\, beer\, wine\, and soft drinks. \n3:45 p.m. | Welcome and alumni relations update from Michael E. Griffin\, associate vice president for alumni relations \n3:50 p.m. | Remarks from Francis Petit\, FRCH ’89\, GSE ’94\, associate dean of global initiatives and partnerships\, Gabelli School of Business \n4 – 5 p.m. | Reception \nAll guests will receive a special Fordham gift.
URL:https://newsuat.fordham.edu/event/hong-kong-regional-reception/
LOCATION:Homepage 2023
CATEGORIES:Networking and Career,Receptions,Social
ORGANIZER;CN="Office of Alumni Relations":MAILTO:alumnioffice@fordham.edu
END:VEVENT
BEGIN:VEVENT
DTSTART;TZID=Asia/Shanghai:20231024T190000
DTEND;TZID=Asia/Shanghai:20231024T210000
DTSTAMP:20260423T131659
CREATED:20230922T200214Z
LAST-MODIFIED:20230922T200214Z
UID:10005219-1698174000-1698181200@newsuat.fordham.edu
SUMMARY:2023 Shanghai Regional Alumni Reception
DESCRIPTION:The Office of Alumni Relations and the Gabelli School of Business cordially invite you to a complimentary reception for alumni\, parents\, and friends. Meet fellow Shanghai-based alumni and learn about the latest at Fordham\, including what’s new across the campuses and different ways to stay connected to the University. \nSpace is limited\, and advance registration is required. RSVP by October 20. \nPlease consider making a gift of $25 or more to support Cura Personalis | For Every Fordham Student. \nProgram\n7 – 7:45 p.m. | Networking: Guests are invited to mingle and enjoy a selection of complimentary canapés\, savories\, desserts\, beer\, wine\, and soft drinks. \n7:45 p.m. | Welcome and alumni relations update from Michael E. Griffin\, associate vice president for alumni relations \n7:50 p.m. | Remarks by featured speaker Lerzan Aksoy\, dean of the Gabelli School of Business. \n8 – 9 p.m. | Reception \nAll guests will receive a special Fordham gift.
URL:https://newsuat.fordham.edu/event/2023-shanghai-regional-alumni-reception/
LOCATION:Homepage 2023
CATEGORIES:Networking and Career,Receptions,Social
ORGANIZER;CN="Office of Alumni Relations":MAILTO:alumnioffice@fordham.edu
END:VEVENT
BEGIN:VEVENT
DTSTART;TZID=America/New_York:20231024T190000
DTEND;TZID=America/New_York:20231024T230000
DTSTAMP:20260423T131659
CREATED:20230915T143552Z
LAST-MODIFIED:20230915T143552Z
UID:10005215-1698174000-1698188400@newsuat.fordham.edu
SUMMARY:Here We Are at The Shed with John Johnson\, FCLC ’02
DESCRIPTION:Fordham alumni and guests are invited to the Shed to watch Here We Are\, the final musical by legendary composer Stephen Sondheim. Produced by Tony Award-winner John Johnson\, FCLC ’02; directed by two-time Tony Award-winner Joe Mantello; and featuring a cast that includes David Hyde Pierce\, Rachel Bay Jones\, and Bobby Cannavale\, Here We Are was inspired by two cinematic masterpieces of Luis Buñuel\, The Discreet Charm of the Bourgeoisie and The Exterminating Angel. \nFordham guests will have an exclusive opportunity to hear from Johnson.
URL:https://newsuat.fordham.edu/event/here-we-are-at-the-shed-with-john-johnson-fclc-02/
LOCATION:The Shed at The Bloomberg Building\, 545 West 30th Street\, New York\, New York\, 10001
CATEGORIES:Cultural,Social
END:VEVENT
BEGIN:VEVENT
DTSTART;TZID=Asia/Shanghai:20231026T190000
DTEND;TZID=Asia/Shanghai:20231026T210000
DTSTAMP:20260423T131659
CREATED:20231002T144949Z
LAST-MODIFIED:20231002T144949Z
UID:10003517-1698346800-1698354000@newsuat.fordham.edu
SUMMARY:2023 Beijing Regional Alumni Reception
DESCRIPTION:The Office of Alumni Relations and the Gabelli School of Business cordially invite you to a complimentary reception for alumni\, parents\, and friends. Meet fellow Beijing-based alumni and learn about what’s happening at Fordham\, including the relaunch of the Doctorate of Professional Studies program with Peking University. \nSpace is limited\, and advance registration is required. RSVP by October 20. \nPlease consider making a gift of $25 or more to support Cura Personalis | For Every Fordham Student. \nProgram\n7 – 7:45 p.m. | Networking: Guests are invited to mingle and enjoy a selection of complimentary canapés\, savories\, desserts\, beer\, wine\, and soft drinks \n7:45 p.m. | Welcome and alumni relations update from Michael E. Griffin\, associate vice president for alumni relations \n7:50 p.m. | PKU speaker (TBD) \n7:55 p.m. | Remarks by featured speaker Lerzan Aksoy\, dean of the Gabelli School of Business \n8:15 – 9 p.m. Reception \nAll guests will receive a special Fordham gift.
URL:https://newsuat.fordham.edu/event/2023-beijing-regional-alumni-reception/
LOCATION:The Regent Beijing\, 99 Jinbao Street\, Dongcheng District\, Beijing\, China
CATEGORIES:Networking and Career,Receptions,Social
ORGANIZER;CN="Office of Alumni Relations":MAILTO:alumnioffice@fordham.edu
END:VEVENT
BEGIN:VEVENT
DTSTART;TZID=America/Los_Angeles:20231028T100000
DTEND;TZID=America/Los_Angeles:20231028T130000
DTSTAMP:20260423T131659
CREATED:20231002T214724Z
LAST-MODIFIED:20231002T214724Z
UID:10003521-1698487200-1698498000@newsuat.fordham.edu
SUMMARY:Alumni Chapter of Los Angeles: 2023 Run to Daylight! Fordham v. Holy Cross
DESCRIPTION:“Run to daylight” is a football expression born on Rose Hill by none other than Vincent Thomas Lombardi. \nOn Saturday\, October 28\, at Rose Hill’s newly christened Joe Moglia Stadium\, Fordham looks to follow Lombardi’s eternal mantra while facing off against the visiting Holy Cross Crusaders. More an upheaval of nature than mere sporting event\, this annual Jesuit showdown is nicknamed the Iron Major Cup in honor of the Iron Major\, Frank Cavanaugh. Aside from bragging rights and possession of the Ram-Crusader Cup\, a clear path toward Patriot League supremacy and an automatic spot into the FCS playoffs are also at play. Not to mention a chance to erase last year’s heartache while making a historic run to daylight. \nJoin us for breakfast burritos\, mimosas\, and warmer daylight than the cooler skies back east as we cheer on the Rams! You don’t have to be a football fan to attend. \nPlease consider making a gift of $25 or more to support Cura Personalis | For Every Fordham Student.
URL:https://newsuat.fordham.edu/event/alumni-chapter-of-los-angeles-2023-run-to-daylight-fordham-v-holy-cross/
LOCATION:FL\, United States
CATEGORIES:Athletics,Social
ORGANIZER;CN="Eva Fordham":MAILTO:evafordham@gmail.com
END:VEVENT
END:VCALENDAR