BEGIN:VCALENDAR
VERSION:2.0
PRODID:-//Fordham Now - ECPv6.15.20//NONSGML v1.0//EN
CALSCALE:GREGORIAN
METHOD:PUBLISH
X-ORIGINAL-URL:https://newsuat.fordham.edu
X-WR-CALDESC:Events for Fordham Now
REFRESH-INTERVAL;VALUE=DURATION:PT1H
X-Robots-Tag:noindex
X-PUBLISHED-TTL:PT1H
BEGIN:VTIMEZONE
TZID:America/Chicago
BEGIN:DAYLIGHT
TZOFFSETFROM:-0600
TZOFFSETTO:-0500
TZNAME:CDT
DTSTART:20220313T080000
END:DAYLIGHT
BEGIN:STANDARD
TZOFFSETFROM:-0500
TZOFFSETTO:-0600
TZNAME:CST
DTSTART:20221106T070000
END:STANDARD
BEGIN:DAYLIGHT
TZOFFSETFROM:-0600
TZOFFSETTO:-0500
TZNAME:CDT
DTSTART:20230312T080000
END:DAYLIGHT
BEGIN:STANDARD
TZOFFSETFROM:-0500
TZOFFSETTO:-0600
TZNAME:CST
DTSTART:20231105T070000
END:STANDARD
BEGIN:DAYLIGHT
TZOFFSETFROM:-0600
TZOFFSETTO:-0500
TZNAME:CDT
DTSTART:20240310T080000
END:DAYLIGHT
BEGIN:STANDARD
TZOFFSETFROM:-0500
TZOFFSETTO:-0600
TZNAME:CST
DTSTART:20241103T070000
END:STANDARD
END:VTIMEZONE
BEGIN:VTIMEZONE
TZID:America/New_York
BEGIN:DAYLIGHT
TZOFFSETFROM:-0500
TZOFFSETTO:-0400
TZNAME:EDT
DTSTART:20220313T070000
END:DAYLIGHT
BEGIN:STANDARD
TZOFFSETFROM:-0400
TZOFFSETTO:-0500
TZNAME:EST
DTSTART:20221106T060000
END:STANDARD
BEGIN:DAYLIGHT
TZOFFSETFROM:-0500
TZOFFSETTO:-0400
TZNAME:EDT
DTSTART:20230312T070000
END:DAYLIGHT
BEGIN:STANDARD
TZOFFSETFROM:-0400
TZOFFSETTO:-0500
TZNAME:EST
DTSTART:20231105T060000
END:STANDARD
BEGIN:DAYLIGHT
TZOFFSETFROM:-0500
TZOFFSETTO:-0400
TZNAME:EDT
DTSTART:20240310T070000
END:DAYLIGHT
BEGIN:STANDARD
TZOFFSETFROM:-0400
TZOFFSETTO:-0500
TZNAME:EST
DTSTART:20241103T060000
END:STANDARD
END:VTIMEZONE
BEGIN:VTIMEZONE
TZID:America/Los_Angeles
BEGIN:DAYLIGHT
TZOFFSETFROM:-0800
TZOFFSETTO:-0700
TZNAME:PDT
DTSTART:20220313T100000
END:DAYLIGHT
BEGIN:STANDARD
TZOFFSETFROM:-0700
TZOFFSETTO:-0800
TZNAME:PST
DTSTART:20221106T090000
END:STANDARD
BEGIN:DAYLIGHT
TZOFFSETFROM:-0800
TZOFFSETTO:-0700
TZNAME:PDT
DTSTART:20230312T100000
END:DAYLIGHT
BEGIN:STANDARD
TZOFFSETFROM:-0700
TZOFFSETTO:-0800
TZNAME:PST
DTSTART:20231105T090000
END:STANDARD
BEGIN:DAYLIGHT
TZOFFSETFROM:-0800
TZOFFSETTO:-0700
TZNAME:PDT
DTSTART:20240310T100000
END:DAYLIGHT
BEGIN:STANDARD
TZOFFSETFROM:-0700
TZOFFSETTO:-0800
TZNAME:PST
DTSTART:20241103T090000
END:STANDARD
END:VTIMEZONE
BEGIN:VEVENT
DTSTART;TZID=America/Chicago:20230907T180000
DTEND;TZID=America/Chicago:20230907T200000
DTSTAMP:20260423T152113
CREATED:20230815T182806Z
LAST-MODIFIED:20230815T182806Z
UID:10005158-1694109600-1694116800@newsuat.fordham.edu
SUMMARY:Alumni Chapter of Chicago: Welcome to the Neighborhood
DESCRIPTION:Calling all recent graduates and new residents! Join the Fordham Alumni Chapter of Chicago as we welcome new alumni to the neighborhood at Chicago Yacht Club Belmont Station. Whether you are looking to network or just make some friendly Fordham connections in Chicago\, we hope you’ll join us for a fun evening with some fellow Rams! \nAll Fordham alumni\, parents\, and friends are welcome. The Office of Alumni Relations will provide a selection of appetizers and one complimentary drink ticket per attendee. A cash bar will be available.
URL:https://newsuat.fordham.edu/event/alumni-chapter-of-chicago-welcome-to-the-neighborhood/
LOCATION:Chicago Yacht Club Belmont Station\, 300 W Belmont Ave\, Chicago\, IL\, 60657\, United States
CATEGORIES:Social
ORGANIZER;CN="Claire O'Neill":MAILTO:clairebsullivan@gmail.com
END:VEVENT
BEGIN:VEVENT
DTSTART;TZID=America/New_York:20230908T190000
DTEND;TZID=America/New_York:20230908T230000
DTSTAMP:20260423T152113
CREATED:20230613T200822Z
LAST-MODIFIED:20230613T200822Z
UID:10005139-1694199600-1694214000@newsuat.fordham.edu
SUMMARY:5th Annual FUAA ‘Fordham Night’ at Yankee Stadium
DESCRIPTION:The Fordham University Alumni Association (FUAA) invites you to a fun-filled night at Yankee Stadium to watch the Yankees take on the Milwaukee Brewers. \nEach special event ticket for Fordham alumni and friends includes: \n\nAn exclusive New York Yankees baseball cap co-branded with the Fordham University logo\nA regular-sized hot dog\nA drink (choose from a 12 oz. domestic beer for those 21 years of age or older with a valid ID\, Pepsi product\, or Poland Spring bottled water)
URL:https://newsuat.fordham.edu/event/5th-annual-fuaa-fordham-night-at-yankee-stadium/
LOCATION:Yankee Stadium
CATEGORIES:Athletics,Social
GEO:40.8288189;-73.9265691
END:VEVENT
BEGIN:VEVENT
DTSTART;TZID=America/New_York:20230912T180000
DTEND;TZID=America/New_York:20230912T200000
DTSTAMP:20260423T152113
CREATED:20230815T182831Z
LAST-MODIFIED:20230815T182831Z
UID:10005157-1694541600-1694548800@newsuat.fordham.edu
SUMMARY:Alumni Chapter of Boston: Welcome to the Neighborhood
DESCRIPTION:Have you recently graduated from Fordham or just moved to the area? Longtime Bostonian looking to connect with your fellow Rams? Join the Fordham Alumni Chapter of Boston at Night Shift Brewing\, Lovejoy Wharf. Whether you are looking to network or just make some new friends\, we hope you’ll join us for a fun evening! \nAll Fordham alumni\, parents\, and friends are welcome. The Office of Alumni Relations will provide a selection of appetizers and one complimentary drink ticket per attendee. A cash bar will be available.
URL:https://newsuat.fordham.edu/event/alumni-chapter-of-boston-2023-welcome-to-the-neighborhood/
LOCATION:Night Shift Brewing\, Lovejoy Wharf\, 1 Lovejoy Wharf No. 101\, Boston\, MA\, 02114\, United States
CATEGORIES:Social
ORGANIZER;CN="Angela Bonnici":MAILTO:angbonnici@gmail.com
END:VEVENT
BEGIN:VEVENT
DTSTART;TZID=America/Los_Angeles:20230920T190000
DTEND;TZID=America/Los_Angeles:20230920T210000
DTSTAMP:20260423T152113
CREATED:20230829T222832Z
LAST-MODIFIED:20230829T222832Z
UID:10005179-1695236400-1695243600@newsuat.fordham.edu
SUMMARY:Alumni Chapter of Northern California: Disorderly Men Book Talk with Author Edward Cahill
DESCRIPTION:Join Fordham alumni and friends as literary historian and Fordham University professor Edward Cahill kicks off the tour for his debut novel\, Disorderly Men. The book is a page-turner set in the gay subculture of pre-Stonewall\, Mad Men-era New York City\, and will be Fordham University Press’ first work of original fiction \nCahill will be in conversation with Lambda Award-winning author K.M. Soehnlein. Fabulosa is located in San Francisco’s historic Castro district and is the city’s premier LGBTQ+ bookstore.
URL:https://newsuat.fordham.edu/event/alumni-chapter-of-northern-california-disorderly-men-book-talk-with-author-edward-cahill/
LOCATION:Fabulosa Books\, 489 Castro Street\, San Francisco\, CA\, 94114\, United States
CATEGORIES:Cultural,Lectures,Social
END:VEVENT
BEGIN:VEVENT
DTSTART;TZID=America/New_York:20230921T180000
DTEND;TZID=America/New_York:20230921T200000
DTSTAMP:20260423T152113
CREATED:20230815T195846Z
LAST-MODIFIED:20230815T195846Z
UID:10005160-1695319200-1695326400@newsuat.fordham.edu
SUMMARY:Alumni Chapter of Miami: Welcome to the Neighborhood
DESCRIPTION:Have you recently graduated from Fordham or just moved to the area? Longtime Miami resident looking to connect with your fellow Rams? Join the Fordham Alumni Chapter of Miami at Ecléctico Restaurant & Bar. Whether you are looking to network or just make some new friends\, we hope you’ll join us for a fun evening! \nAll Fordham alumni\, parents\, and friends are welcome to attend the event. A selection of appetizers and one complimentary drink ticket per attendee will be provided by the Office of Alumni Relations. A cash bar will be available.
URL:https://newsuat.fordham.edu/event/alumni-chapter-of-miami-welcome-to-the-neighborhood/
LOCATION:Ecléctico Restaurant & Bar\, 320 San Lorenzo Avenue\, Suite 1315\, Miami\, FL\, 33146\, United States
CATEGORIES:Social
ORGANIZER;CN="Elio Martinez":MAILTO:emartinez@etlaw.com
END:VEVENT
BEGIN:VEVENT
DTSTART;TZID=America/Los_Angeles:20230921T180000
DTEND;TZID=America/Los_Angeles:20230921T200000
DTSTAMP:20260423T152113
CREATED:20230906T215838Z
LAST-MODIFIED:20230906T215838Z
UID:10005196-1695319200-1695326400@newsuat.fordham.edu
SUMMARY:Alumni Chapter of Los Angeles: 2023 Welcome to the Neighborhood Event
DESCRIPTION:Have you recently graduated from Fordham or just moved to the area? Longtime Los Angeles resident looking to connect with your fellow Rams? Join the Fordham Alumni Chapter of Los Angeles at the Cloverfield. Whether you are looking to network or just make some new friends\, we hope you’ll join us for a fun evening! \nAll Fordham alumni\, parents\, and friends are welcome to attend the event. The Office of Alumni Relations will provide a selection of appetizers and one complimentary drink ticket per attendee. A cash bar will be available. \nPlease consider making a gift of $25 or more to support Cura Personalis | For Every Fordham Student.
URL:https://newsuat.fordham.edu/event/alumni-chapter-of-los-angeles-2023-welcome-to-the-neighborhood-event/
LOCATION:The Cloverfield\, 3300 Airport Avenue\, Santa Monica\, CA\, 90405\, United States
CATEGORIES:Social
ORGANIZER;CN="Lori Schaffhauser":MAILTO:lorimaui10@gmail.com
END:VEVENT
BEGIN:VEVENT
DTSTART;TZID=America/New_York:20230923T160000
DTEND;TZID=America/New_York:20230923T200000
DTSTAMP:20260423T152113
CREATED:20230831T150617Z
LAST-MODIFIED:20230831T150617Z
UID:10005183-1695484800-1695499200@newsuat.fordham.edu
SUMMARY:Alumni Chapter of Boston: 2023 Red Sox Outing
DESCRIPTION:Join the Alumni Chapter of Boston as the Boston Red Sox host the Chicago White Sox. Friends and family are welcome to join us. Seats are located in right field grandstand section three for $42 each. \nRSVP by September 22. We are planning a pre-game social before the game; details will be provided two weeks prior to the game. \nPlease note: All tickets are electronic and will be forwarded via the MLB Ballpark app to the email used by the primary registrant. \nPlease consider making a gift of $25 or more to support Cura Personalis | For Every Fordham Student.
URL:https://newsuat.fordham.edu/event/alumni-chapter-of-boston-2023-red-sox-outing/
LOCATION:Fenway Park\, 4 Yawkey Way\, Boston\, MA\, 02215\, United States
CATEGORIES:Athletics,Social
ORGANIZER;CN="Sarah Kimball":MAILTO:sarahkimball.mail@gmail.com
GEO:42.3458436;-71.0987819
X-APPLE-STRUCTURED-LOCATION;VALUE=URI;X-ADDRESS=Fenway Park 4 Yawkey Way Boston MA 02215 United States;X-APPLE-RADIUS=500;X-TITLE=4 Yawkey Way:geo:-71.0987819,42.3458436
END:VEVENT
BEGIN:VEVENT
DTSTART;TZID=America/New_York:20230930T113000
DTEND;TZID=America/New_York:20230930T133000
DTSTAMP:20260423T152113
CREATED:20230915T151242Z
LAST-MODIFIED:20230915T151242Z
UID:10005210-1696073400-1696080600@newsuat.fordham.edu
SUMMARY:Alumni Chapter of Washington\, D.C.: 2023 Fordham vs. Georgetown Tailgate
DESCRIPTION:Cheer on the Fordham Rams with your fellow alumni as they take on the Georgetown Hoyas. Enjoy a pregame tailgate and stay for the game; kickoff is at 1:30 p.m. Please note: Game tickets must be purchased directly through the Georgetown Athletic Office. \nBBQ lunch items and a selection of beer\, wine\, and soft drinks will be available. Space is limited\, and advanced online registration is required. We anticipate this event will sell out. The tailgate will take place in Higgins Plaza\, by the McDonough Bus Turnaround.
URL:https://newsuat.fordham.edu/event/alumni-chapter-of-washington-d-c-2023-fordham-vs-georgetown-tailgate/
LOCATION:Georgetown University\, 3700 O Street\, Washington\, DC\, 20057\, United States
CATEGORIES:Athletics,Receptions,Social
ORGANIZER;CN="Office of Alumni Relations":MAILTO:alumnioffice@fordham.edu
END:VEVENT
END:VCALENDAR