BEGIN:VCALENDAR
VERSION:2.0
PRODID:-//Fordham Now - ECPv6.15.20//NONSGML v1.0//EN
CALSCALE:GREGORIAN
METHOD:PUBLISH
X-WR-CALNAME:Fordham Now
X-ORIGINAL-URL:https://newsuat.fordham.edu
X-WR-CALDESC:Events for Fordham Now
REFRESH-INTERVAL;VALUE=DURATION:PT1H
X-Robots-Tag:noindex
X-PUBLISHED-TTL:PT1H
BEGIN:VTIMEZONE
TZID:America/New_York
BEGIN:DAYLIGHT
TZOFFSETFROM:-0500
TZOFFSETTO:-0400
TZNAME:EDT
DTSTART:20220313T070000
END:DAYLIGHT
BEGIN:STANDARD
TZOFFSETFROM:-0400
TZOFFSETTO:-0500
TZNAME:EST
DTSTART:20221106T060000
END:STANDARD
BEGIN:DAYLIGHT
TZOFFSETFROM:-0500
TZOFFSETTO:-0400
TZNAME:EDT
DTSTART:20230312T070000
END:DAYLIGHT
BEGIN:STANDARD
TZOFFSETFROM:-0400
TZOFFSETTO:-0500
TZNAME:EST
DTSTART:20231105T060000
END:STANDARD
BEGIN:DAYLIGHT
TZOFFSETFROM:-0500
TZOFFSETTO:-0400
TZNAME:EDT
DTSTART:20240310T070000
END:DAYLIGHT
BEGIN:STANDARD
TZOFFSETFROM:-0400
TZOFFSETTO:-0500
TZNAME:EST
DTSTART:20241103T060000
END:STANDARD
END:VTIMEZONE
BEGIN:VTIMEZONE
TZID:America/Los_Angeles
BEGIN:DAYLIGHT
TZOFFSETFROM:-0800
TZOFFSETTO:-0700
TZNAME:PDT
DTSTART:20220313T100000
END:DAYLIGHT
BEGIN:STANDARD
TZOFFSETFROM:-0700
TZOFFSETTO:-0800
TZNAME:PST
DTSTART:20221106T090000
END:STANDARD
BEGIN:DAYLIGHT
TZOFFSETFROM:-0800
TZOFFSETTO:-0700
TZNAME:PDT
DTSTART:20230312T100000
END:DAYLIGHT
BEGIN:STANDARD
TZOFFSETFROM:-0700
TZOFFSETTO:-0800
TZNAME:PST
DTSTART:20231105T090000
END:STANDARD
BEGIN:DAYLIGHT
TZOFFSETFROM:-0800
TZOFFSETTO:-0700
TZNAME:PDT
DTSTART:20240310T100000
END:DAYLIGHT
BEGIN:STANDARD
TZOFFSETFROM:-0700
TZOFFSETTO:-0800
TZNAME:PST
DTSTART:20241103T090000
END:STANDARD
END:VTIMEZONE
BEGIN:VEVENT
DTSTART;VALUE=DATE:20230329
DTEND;VALUE=DATE:20230423
DTSTAMP:20260424T002424
CREATED:20230329T203750Z
LAST-MODIFIED:20230329T203750Z
UID:10005070-1680048000-1682207999@newsuat.fordham.edu
SUMMARY:Faith Fest 2023
DESCRIPTION:You’re invited to learn\, serve\, pray\, and engage with the many ways faith is alive at Fordham! \nView a complete breakdown of events. \nFaith Fest 2023 is supported by the Fordham University Department of Theology and the deans’ offices at Fordham College at Lincoln Center and Fordham College at Rose Hill.
URL:https://newsuat.fordham.edu/event/faith-fest-2023/
LOCATION:Fordham University\, 441 E Fordham Rd\, Bronx\, NY\, 10458\, United States
CATEGORIES:Social,Spiritual and Religious Events,Volunteer
GEO:40.8620281;-73.8854257
X-APPLE-STRUCTURED-LOCATION;VALUE=URI;X-ADDRESS=Fordham University 441 E Fordham Rd Bronx NY 10458 United States;X-APPLE-RADIUS=500;X-TITLE=441 E Fordham Rd:geo:-73.8854257,40.8620281
END:VEVENT
BEGIN:VEVENT
DTSTART;TZID=America/New_York:20230401T130000
DTEND;TZID=America/New_York:20230401T160000
DTSTAMP:20260424T002424
CREATED:20230313T200625Z
LAST-MODIFIED:20230313T200625Z
UID:10005026-1680354000-1680364800@newsuat.fordham.edu
SUMMARY:Alumni Chapter of Westchester: 2023 Easter Egg Hunt
DESCRIPTION:It may be April 1\, but we’re not joking: the Easter Egg Hunt is back! The Alumni Chapter of Westchester invites alumni\, parents\, and friends for some arts and crafts\, snacks\, and the annual Easter Egg Hunt in the courtyard of the Fordham Westchester campus! \nPlease note: Fordham has a COVID-19 vaccine requirement for visitors to campus\, but honors medical and personal religious exemptions.
URL:https://newsuat.fordham.edu/event/alumni-chapter-of-westchester-2023-easter-egg-hunt/
LOCATION:Fordham Westchester Campus\, 400 Westchester Ave\, West Harrison\, NY\, 10604\, United States
CATEGORIES:Social
ORGANIZER;CN="David Lasco":MAILTO:fordhamalumniwestchester@gmail.com
GEO:41.029376;-73.7288048
X-APPLE-STRUCTURED-LOCATION;VALUE=URI;X-ADDRESS=Fordham Westchester Campus 400 Westchester Ave West Harrison NY 10604 United States;X-APPLE-RADIUS=500;X-TITLE=400 Westchester Ave:geo:-73.7288048,41.029376
END:VEVENT
BEGIN:VEVENT
DTSTART;TZID=America/New_York:20230402T133000
DTEND;TZID=America/New_York:20230402T163000
DTSTAMP:20260424T002424
CREATED:20230303T165732Z
LAST-MODIFIED:20230303T165732Z
UID:10005014-1680442200-1680453000@newsuat.fordham.edu
SUMMARY:April 2023 MOSAIC Volunteer Outing with God's Love We Deliver
DESCRIPTION:Join MOSAIC in volunteering with God’s Love We Deliver\, a nonprofit that provides high-quality meals to people who are sick or grappling with food insecurity. Volunteers will help with kitchen prep with the guidance of staff chefs. Tasks may include packaging meals\, chopping onions\, making meatballs\, ladling soup\, peeling potatoes\, scooping baked goods\, or preparing fresh herbs. \nPlease register\, and additional details will be sent in the confirmation email. \nWe hope to see you there!
URL:https://newsuat.fordham.edu/event/april-2023-mosaic-volunteer-outing-with-gods-love-we-deliver/
LOCATION:Gods Love We Deilver\, 166 Avenue of the Americas\, New York\, NY\, 10013\, United States
CATEGORIES:Social,Volunteer
ORGANIZER;CN="Taylor Palmer":MAILTO:tpalmer7@fordham.edu
END:VEVENT
BEGIN:VEVENT
DTSTART;TZID=America/New_York:20230413T183000
DTEND;TZID=America/New_York:20230413T203000
DTSTAMP:20260424T002424
CREATED:20230208T163448Z
LAST-MODIFIED:20230208T163448Z
UID:10004978-1681410600-1681417800@newsuat.fordham.edu
SUMMARY:2023 Dallas Regional Reception
DESCRIPTION:Melissa Crew\, PAR\, and Philip Crew\, PAR; the Fordham Alumni Chapter of Dallas; and the Office of Alumni Relations cordially invite you to a reception for alumni\, parents\, and friends. \nThis event costs $25 per person and includes heavy hors d’oeuvres\, food stations\, and beer\, wine\, and soft drinks. Space is limited and advance registration is required. RSVP by April 6. \nPlease consider making a gift of $25 or more to support Cura Personalis | For Every Fordham Student.
URL:https://newsuat.fordham.edu/event/2023-dallas-regional-reception/
LOCATION:The Tower Club\, 1601 Elm Street\, 48th Floor\, Dallas\, TX\, 75201\, United States
CATEGORIES:Social
ORGANIZER;CN="Ainsley Woakes":MAILTO:awoakes@fordham.edu
END:VEVENT
BEGIN:VEVENT
DTSTART;TZID=America/New_York:20230414T150000
DTEND;TZID=America/New_York:20230414T180000
DTSTAMP:20260424T002424
CREATED:20230331T150915Z
LAST-MODIFIED:20230331T150915Z
UID:10005077-1681484400-1681495200@newsuat.fordham.edu
SUMMARY:AAPI Heritage Month: Bookstore Outing
DESCRIPTION:Celebrate Asian American and Pacific Islander Heritage Month with us as we go on a group outing to Yu & Me Books\, an Asian woman-owned bookstore in downtown Manhattan! The first 22 RSVPs will receive a free metro card and a $25 gift card to the bookstore to use during the outing!
URL:https://newsuat.fordham.edu/event/aapi-heritage-month-bookstore-outing/
LOCATION:Yu and Me Books\, 44 Mulberry Street\, New York\, NY\, 10013\, United States
CATEGORIES:Cultural,Social
ORGANIZER;CN="The Office of Multicultural Affairs":MAILTO:culturallc@fordham.edu
END:VEVENT
BEGIN:VEVENT
DTSTART;TZID=America/New_York:20230416T140000
DTEND;TZID=America/New_York:20230416T160000
DTSTAMP:20260424T002424
CREATED:20230214T213612Z
LAST-MODIFIED:20230214T213612Z
UID:10004990-1681653600-1681660800@newsuat.fordham.edu
SUMMARY:Alumni Chapter of Sarasota: 2023 Rhythm on the Bay Cruise
DESCRIPTION:Join the Alumni Chapter of Sarasota for LeBarge Tropical Cruise’s newest tour: the Rhythm on the Bay Cruise! Explore Sarasota Bay from a new perspective\, with the Caribbean sounds of a steel drum and an afternoon of music on the Bay. See the magnificent shoreline of Siesta Key\, Casey Key\, and downtown Sarasota\, along with playful dolphins and native birds that call Sarasota Bay their home. \nRefreshments can be purchased on the cruise. \nPlease note: Tickets will be distributed at the boat. Detailed instructions for securing your tickets will be shared in the confirmation email after registering. \nSpace is limited\, and registrations will be honored on a first-come\, first-served basis. We encourage you to register early.
URL:https://newsuat.fordham.edu/event/alumni-chapter-of-sarasota-2023-rhythm-on-the-bay-cruise/
LOCATION:LeBarge Tropical Cruises\, 2 Marina Plaza\, Sarasota\, FL\, 34236\, United States
CATEGORIES:Social
ORGANIZER;CN="Jane Bartnett":MAILTO:janebartnett@yahoo.com
END:VEVENT
BEGIN:VEVENT
DTSTART;TZID=America/New_York:20230420T180000
DTEND;TZID=America/New_York:20230420T200000
DTSTAMP:20260424T002424
CREATED:20230324T184708Z
LAST-MODIFIED:20230324T184708Z
UID:10005053-1682013600-1682020800@newsuat.fordham.edu
SUMMARY:Alumni Chapter of Miami: 2023 Spring Happy Hour
DESCRIPTION:Calling all Miami-area alumni! Come out and join local alumni\, family\, and friends for a spring happy hour. The Alumni Chapter of Miami will provide an assortment of appetizers for the group. We’re looking forward to seeing you. We are also busy planning more chapter activities for the upcoming year\, so join us to share your input! \nSpace is limited\, and advance registration is required. RSVP by April 13. \nPlease consider making a gift of $25 or more to support Cura Personalis | For Every Fordham Student.
URL:https://newsuat.fordham.edu/event/alumni-chapter-of-miami-2023-spring-happy-hour/
LOCATION:Mayfair Grill at Mayfair House Hotel and Garden\, 3000 Florida Ave.\, Miami\, FL\, 33133\, United States
CATEGORIES:Social
ORGANIZER;CN="Fady Maghak":MAILTO:fmaghak@janney.com
END:VEVENT
BEGIN:VEVENT
DTSTART;TZID=America/New_York:20230420T183000
DTEND;TZID=America/New_York:20230420T203000
DTSTAMP:20260424T002424
CREATED:20230208T165824Z
LAST-MODIFIED:20230208T165824Z
UID:10004979-1682015400-1682022600@newsuat.fordham.edu
SUMMARY:2023 Chicago Presidential Welcome Reception
DESCRIPTION:The Alumni Chapter of Chicago and the Office of Alumni Relations cordially invite you to a reception for alumni\, parents\, and friends. Please join us as we welcome Tania Tetlow as Fordham’s 33rd president—the first woman and layperson to serve as president in the University’s history. \nThe event cost includes heavy passed hors d’oeuvres\, beer\, and wine. \nSpace is limited\, and registrations will be honored on a first-come\, first-served basis. We encourage you to register early. RSVP by April 13. \nPlease consider making a gift of $25 or more to support Cura Personalis | For Every Fordham Student.
URL:https://newsuat.fordham.edu/event/2023-chicago-presidential-welcome-reception/
LOCATION:The Chicago Club\, 91 East Van Buren St\, Chicago\, IL\, 60605\, United States
CATEGORIES:Social
ORGANIZER;CN="Ainsley Woakes":MAILTO:awoakes@fordham.edu
GEO:41.8769989;-87.6245821
X-APPLE-STRUCTURED-LOCATION;VALUE=URI;X-ADDRESS=The Chicago Club 91 East Van Buren St Chicago IL 60605 United States;X-APPLE-RADIUS=500;X-TITLE=91 East Van Buren St:geo:-87.6245821,41.8769989
END:VEVENT
BEGIN:VEVENT
DTSTART;TZID=America/New_York:20230421T180000
DTEND;TZID=America/New_York:20230421T220000
DTSTAMP:20260424T002424
CREATED:20230313T171011Z
LAST-MODIFIED:20230313T171011Z
UID:10005025-1682100000-1682114400@newsuat.fordham.edu
SUMMARY:Alumni Chapter of Baltimore: 2023 Spring Happy Hour
DESCRIPTION:Baltimore calling! It’s time to shake off the pandemic cobwebs and gather in person! Join fellow alumni\, family\, and friends for a springtime Fordham gathering at a spirited brewpub: Guilford Hall Brewery. Guilford Hall Brewery is located near Baltimore Penn Station and offers valet parking. \nGood food. Good drink. Good music. Good people. Your first two drinks and appetizers are complimentary. \nSpace is limited\, and advance registration is appreciated. Please RSVP by April 17. \nPlease consider making a gift of $25 or more to support Cura Personalis | For Every Fordham Student.
URL:https://newsuat.fordham.edu/event/alumni-chapter-of-baltimore-2023-spring-happy-hour/
LOCATION:Guilford Hall Brewery\, 1611 Guilford Ave\, Baltimore\, MD\, 21202\, United States
CATEGORIES:Social
ORGANIZER;CN="Tom Nealis":MAILTO:tjnealis@gmail.com
END:VEVENT
BEGIN:VEVENT
DTSTART;TZID=America/Los_Angeles:20230421T191500
DTEND;TZID=America/Los_Angeles:20230421T223000
DTSTAMP:20260424T002424
CREATED:20230228T151909Z
LAST-MODIFIED:20230228T151909Z
UID:10005006-1682104500-1682116200@newsuat.fordham.edu
SUMMARY:Alumni Chapter of Northern California: 2023 Mets at Giants Baseball Outing
DESCRIPTION:Join the Alumni Chapter of Northern California for Fordham Alumni Night as the San Francisco Giants host the New York Mets. We have just 60 tickets reserved for our group\, so register before they sell out! Friends and family are welcome to join us. Seats are located in Club Level section 233 for $43 each and in Bleachers section 136 for $23 each. All tickets are electronic and will be forwarded via the MLB Ballpark app. \nSpace is limited\, and registrations will be honored on a first-come\, first-served basis. We encourage you to register early. RSVP by April 7.
URL:https://newsuat.fordham.edu/event/alumni-chapter-of-northern-california-2023-mets-at-giants-baseball-outing/
LOCATION:Oracle Park\, 24 Willie Mays Plaza\, San Francisco\, CA\, 94107\, United States
CATEGORIES:Social
ORGANIZER;CN="Mark Di Giorgio":MAILTO:markadigiorgio@att.net
END:VEVENT
BEGIN:VEVENT
DTSTART;TZID=America/New_York:20230422T110000
DTEND;TZID=America/New_York:20230422T210000
DTSTAMP:20260424T002424
CREATED:20230330T175329Z
LAST-MODIFIED:20230330T175329Z
UID:10005071-1682161200-1682197200@newsuat.fordham.edu
SUMMARY:Fordham Dance Marathon
DESCRIPTION:Fordham Dance Marathon is a 10-hour-long\, birthday-themed event that raises money for childhood cancer. The slogan for this year’s dance marathon is “for more birthdays.” This event will be filled with birthday-themed activities\, events\, contests\, and entertainment.
URL:https://newsuat.fordham.edu/event/fordham-dance-marathon/
LOCATION:Lombardi Fieldhouse at Rose Hill Campus\, 441 East Fordham Road\, Bronx\, NY\, 10458\, United States
CATEGORIES:Social,Volunteer
ORGANIZER;CN="Fordham Club":MAILTO:mshahin@fordham.edu
END:VEVENT
BEGIN:VEVENT
DTSTART;TZID=America/New_York:20230426T180000
DTEND;TZID=America/New_York:20230426T200000
DTSTAMP:20260424T002424
CREATED:20230214T213908Z
LAST-MODIFIED:20230214T213908Z
UID:10004991-1682532000-1682539200@newsuat.fordham.edu
SUMMARY:Alumni Chapter of Albany: 2023 Spring Happy Hour
DESCRIPTION:Calling all Capital Region Rams: It’s time to shake off the COVID-19 cobwebs and gather in person! Come out and join fellow Albany-area alumni\, family\, and friends for a spring happy hour. Reconnect with local Rams and enjoy appetizers\, drinks\, and memories. It’s been quite a while since we’ve seen you\, and we’d love to have you with us to toast to Fordham! \nAppetizers will be provided by the Office of Alumni Relations\, and drinks can be purchased directly from the restaurant.
URL:https://newsuat.fordham.edu/event/alumni-chapter-of-albany-2023-spring-happy-hour/
LOCATION:The Hollow Bar + Kitchen\, 79 N Pearl Street\, Albany\, NY\, 12207\, United States
CATEGORIES:Social
ORGANIZER;CN="Catherine Helmer":MAILTO:catherine.helmer@gmail.com
END:VEVENT
END:VCALENDAR