BEGIN:VCALENDAR
VERSION:2.0
PRODID:-//Fordham Now - ECPv6.15.20//NONSGML v1.0//EN
CALSCALE:GREGORIAN
METHOD:PUBLISH
X-ORIGINAL-URL:https://newsuat.fordham.edu
X-WR-CALDESC:Events for Fordham Now
REFRESH-INTERVAL;VALUE=DURATION:PT1H
X-Robots-Tag:noindex
X-PUBLISHED-TTL:PT1H
BEGIN:VTIMEZONE
TZID:America/New_York
BEGIN:DAYLIGHT
TZOFFSETFROM:-0500
TZOFFSETTO:-0400
TZNAME:EDT
DTSTART:20220313T070000
END:DAYLIGHT
BEGIN:STANDARD
TZOFFSETFROM:-0400
TZOFFSETTO:-0500
TZNAME:EST
DTSTART:20221106T060000
END:STANDARD
BEGIN:DAYLIGHT
TZOFFSETFROM:-0500
TZOFFSETTO:-0400
TZNAME:EDT
DTSTART:20230312T070000
END:DAYLIGHT
BEGIN:STANDARD
TZOFFSETFROM:-0400
TZOFFSETTO:-0500
TZNAME:EST
DTSTART:20231105T060000
END:STANDARD
BEGIN:DAYLIGHT
TZOFFSETFROM:-0500
TZOFFSETTO:-0400
TZNAME:EDT
DTSTART:20240310T070000
END:DAYLIGHT
BEGIN:STANDARD
TZOFFSETFROM:-0400
TZOFFSETTO:-0500
TZNAME:EST
DTSTART:20241103T060000
END:STANDARD
END:VTIMEZONE
BEGIN:VEVENT
DTSTART;TZID=America/New_York:20230301T180000
DTEND;TZID=America/New_York:20230301T200000
DTSTAMP:20260424T015111
CREATED:20230106T204956Z
LAST-MODIFIED:20230106T204956Z
UID:10004918-1677693600-1677700800@newsuat.fordham.edu
SUMMARY:2023 Puerto Rico Regional Reception
DESCRIPTION:Marie Napoli\, PAR\, and Paul Napoli\, GABELLI ’89\, PAR; the Fordham Alumni Chapter of Puerto Rico; and the Office of Alumni Relations cordially invite you to a complimentary reception for alumni\, parents\, and friends. \nAs the cost of the reception is being generously covered by our hosts Marie and Paul Napoli\, please consider making a gift of $25 or more to support the University’s campaign\, Cura Personalis | For Every Fordham Student.
URL:https://newsuat.fordham.edu/event/2023-puerto-rico-regional-reception/
LOCATION:Dorado Beach\, a Ritz-Carlton Reserve\, 100 Dorado Beach Drive\, Dorado\, 00646\, Puerto Rico
CATEGORIES:Networking and Career,Receptions,Social
END:VEVENT
BEGIN:VEVENT
DTSTART;TZID=America/New_York:20230301T190000
DTEND;TZID=America/New_York:20230301T220000
DTSTAMP:20260424T015111
CREATED:20230221T152524Z
LAST-MODIFIED:20230221T152524Z
UID:10004998-1677697200-1677708000@newsuat.fordham.edu
SUMMARY:Alumni Chapter of Washington\, D.C.: 2023 Men's Basketball at George Mason
DESCRIPTION:The Fordham University men’s basketball team is having its best season in 30 years! The Alumni Chapter of Washington\, D.C.\, invites alumni\, family\, friends\, and fans to join in cheering on the Rams at George Mason University’s Eagle Bank Arena. Tickets are available at multiple price points.
URL:https://newsuat.fordham.edu/event/alumni-chapter-of-washington-d-c-2023-mens-basketball-at-george-mason/
LOCATION:Eaglebank Arena\, 4500 Patriot Circle\, Fairfax\, VA\, 22030\, United States
CATEGORIES:Athletics,Social
ORGANIZER;CN="Alumni Chapter of Washington%2C D.C.":MAILTO:fordham.club.dc@gmail.com
END:VEVENT
BEGIN:VEVENT
DTSTART;TZID=America/New_York:20230305T120000
DTEND;TZID=America/New_York:20230305T160000
DTSTAMP:20260424T015111
CREATED:20230215T181713Z
LAST-MODIFIED:20230215T181713Z
UID:10004996-1678017600-1678032000@newsuat.fordham.edu
SUMMARY:WFUV Garden Party to  Benefit Astoria Food Pantry
DESCRIPTION:Join WFUV host Benham Jones and friends from WFUV\, the Queens Botanical Garden\, and the Astoria Food Pantry as we take a break from the winter doldrums with a music-filled garden party! Come connect with friends\, music lovers\, and nature to lift your spirits and the spirits of others. Help us collect food and donations to make a difference so that Queens families in need won’t be left behind. \nBenham has been a part of the Astoria Food Pantry since its start at the beginning of the pandemic and has not stopped working since! What started as a way to help neighbors in a time of crisis has become an ongoing mission to serve the community as additional challenges make food insecurity an ongoing issue for so many. \nWFUV host Alisa Ali will host a live music performance by Lily Mao in the garden’s Helen M. Marshall Auditorium. A vibrant singer\, songwriter\, and musician\, Mao has been a featured artist on “NY Slice\,” WFUV’s weekday feature that puts the spotlight on local artists. \nAttendees are also invited to join Queens Botanical Garden staff for guided tours\, tea making with ingredients from the QBG farm\, botanically inspired musical instrument crafts\, basil planting\, and storytime for kids. You’ll enjoy activities\, giveaways\, and music that make our world a better place. Plus\, get a chance to win a pair of tickets for a live concert this summer at Forest Hills Stadium. \nFood and beverages will be available for purchase on site. For directions and parking info and rates\, visit queensbotanical.org. \nIn lieu of paying admission fees\, please bring nonperishable food and household items to donate to Astoria Food Pantry. High-need items include cereal\, oatmeal\, canned tuna\, cooking oil\, ground/instant coffee\, diapers\, baby wipes\, and menstrual pads.
URL:https://newsuat.fordham.edu/event/wfuv-garden-party-to-benefit-astoria-food-pantry/
LOCATION:Queens Botanical Garden\, 43-50 Main Street\, Flushing\, NY\, 11355\, United States
CATEGORIES:Social,Volunteer
ORGANIZER;CN="WFUV":MAILTO:membership@wfuv.org
END:VEVENT
BEGIN:VEVENT
DTSTART;TZID=America/New_York:20230307T200000
DTEND;TZID=America/New_York:20230307T230000
DTSTAMP:20260424T015111
CREATED:20230302T192726Z
LAST-MODIFIED:20230302T192726Z
UID:10005011-1678219200-1678230000@newsuat.fordham.edu
SUMMARY:Bad Cinderella on Broadway
DESCRIPTION:Join us to see Cinderella for the 21st century! Andrew Lloyd Webber’s latest musical is “a big\, colorful\, fun fairy-tale rewrite” (The New York Times)\, which adds up not just to a ball\, but a blast (The Guardian). \nAdapted for modern times\, the classic fairy tale features an original story and book by Oscar-winning writer Emerald Fennell (Promising Young Woman\, Killing Eve) and lyrics by Tony Award winner David Zippel (City of Angels). The production is choreographed by Joann M. Hunter (School of Rock) and directed by Laurence Connor (Les Misérables). \nAfter the show\, Fordham alumni and guests are invited to a private talkback in the theater with the executive producer of Bad Cinderella\, John Johnson\, FCLC ’02. \nSeats are located in the orchestra section.
URL:https://newsuat.fordham.edu/event/bad-cinderella-on-broadway/
LOCATION:Imperial Theatre\, 249 W. 45th Street\, New York City\, NY\, 10036\, United States
CATEGORIES:Cultural,Social
GEO:40.7590146;-73.9874373
X-APPLE-STRUCTURED-LOCATION;VALUE=URI;X-ADDRESS=Imperial Theatre 249 W. 45th Street New York City NY 10036 United States;X-APPLE-RADIUS=500;X-TITLE=249 W. 45th Street:geo:-73.9874373,40.7590146
END:VEVENT
BEGIN:VEVENT
DTSTART;TZID=America/New_York:20230309T103000
DTEND;TZID=America/New_York:20230309T160000
DTSTAMP:20260424T015111
CREATED:20230113T161518Z
LAST-MODIFIED:20230113T161518Z
UID:10004939-1678357800-1678377600@newsuat.fordham.edu
SUMMARY:2023 Tampa Brunch and Baseball
DESCRIPTION:The Fordham alumni chapters of Tampa and Sarasota and the Office of Alumni Relations cordially invite you to an afternoon of brunch and baseball\, as we cheer on the Bronx Bombers as they take on the Boston Red Sox! Please join us as we welcome Tania Tetlow as Fordham’s 33rd president—the first woman and layperson to serve as president in the University’s history. \nThe early bird price for this event is $95 per person and includes a selection of brunch/breakfast offerings (yogurt\, fruit cups\, assorted pastries\, and breakfast sandwiches); beer\, wine\, mimosas\, and bloody Marys; and a premium\, loaded game ticket (an $85 value). Brunch will take place in the Pavilion. The Bullpen Club Rooftop Deck tickets include a buffet\, ballpark fare and other food options\, and a drink package (soft drinks\, beer\, and house wine). Register by February 10 to take advantage of early bird pricing. After February 10\, the cost is $105 per person. \nPlease note: Tickets will be distributed electronically. Detailed instructions for accessing and downloading tickets will be emailed closer to the event. \nSpace is limited\, and registrations will be honored on a first-come\, first-served basis. \nPlease consider making a gift of $25 or more to support Cura Personalis | For Every Fordham Student.
URL:https://newsuat.fordham.edu/event/2023-tampa-brunch-and-baseball/
LOCATION:George M. Steinbrenner Field\, 1 Steinbrenner Drive\, Tampa\, FL\, 33614\, United States
CATEGORIES:Social
ORGANIZER;CN="Ainsley Woakes":MAILTO:awoakes@fordham.edu
GEO:27.9798272;-82.5071038
X-APPLE-STRUCTURED-LOCATION;VALUE=URI;X-ADDRESS=George M. Steinbrenner Field 1 Steinbrenner Drive Tampa FL 33614 United States;X-APPLE-RADIUS=500;X-TITLE=1 Steinbrenner Drive:geo:-82.5071038,27.9798272
END:VEVENT
BEGIN:VEVENT
DTSTART;TZID=America/New_York:20230311T073000
DTEND;TZID=America/New_York:20230311T123000
DTSTAMP:20260424T015111
CREATED:20230214T212203Z
LAST-MODIFIED:20230214T212203Z
UID:10004985-1678519800-1678537800@newsuat.fordham.edu
SUMMARY:Alumni Chapter of Southwest Florida: 2023 St. Patrick's Day Parade
DESCRIPTION:Join your fellow Fordham alumni for the largest parade in Southwest Florida: the Naples Saint Patrick’s Day Parade! Don your Fordham colors and apparel and show your Ram spirit! A trolley is reserved for our group\, so you can either ride or walk through the parade. \nEvent Schedule \n\n7:30 – 8:45 a.m.: Breakfast at EJ’s Bayfront Café\n8:45 a.m.: Board the Parade Trolley\n(If you are unable to make breakfast\, please arrive at this time to join the parade.)\n9 a.m.: Trolley leaves for the parade\n11 a.m. Parade Begins\n12:30 p.m. (estimated): Trolley returns to EJ’s Bayfront Café\n\nBreakfast is not included in the ticket fee. Bottled water will be provided for participants during the parade. There is free covered parking at the cafe.
URL:https://newsuat.fordham.edu/event/alumni-chapter-of-southwest-florida-2023-st-patricks-day-parade/
LOCATION:EJ’s Bayfront Café\, 469 Bayfront Place\, Naples\, FL\, 34102\, United States
CATEGORIES:Social
ORGANIZER;CN="Jim Melican":MAILTO:pelican9840@hotmail.com
GEO:26.143966;-81.789768
X-APPLE-STRUCTURED-LOCATION;VALUE=URI;X-ADDRESS=EJ’s Bayfront Café 469 Bayfront Place Naples FL 34102 United States;X-APPLE-RADIUS=500;X-TITLE=469 Bayfront Place:geo:-81.789768,26.143966
END:VEVENT
BEGIN:VEVENT
DTSTART;TZID=America/New_York:20230312T100000
DTEND;TZID=America/New_York:20230312T130000
DTSTAMP:20260424T015111
CREATED:20230303T165519Z
LAST-MODIFIED:20230303T165519Z
UID:10005013-1678615200-1678626000@newsuat.fordham.edu
SUMMARY:March 2023 MOSAIC Volunteer Outing with God's Love We Deliver
DESCRIPTION:Join MOSAIC in volunteering with God’s Love We Deliver\, a nonprofit that provides high-quality meals to people who are sick or grappling with food insecurity. Volunteers will help with kitchen prep with the guidance of staff chefs. Tasks may include packaging meals\, chopping onions\, making meatballs\, ladling soup\, peeling potatoes\, scooping baked goods\, or preparing fresh herbs. \nPlease register\, and additional details will be sent in the confirmation email. \nWe hope to see you there!
URL:https://newsuat.fordham.edu/event/march-2023-mosaic-volunteer-outing-with-gods-love-we-deliver/
LOCATION:Gods Love We Deilver\, 166 Avenue of the Americas\, New York\, NY\, 10013\, United States
CATEGORIES:Social,Volunteer
ORGANIZER;CN="Taylor Palmer":MAILTO:tpalmer7@fordham.edu
END:VEVENT
BEGIN:VEVENT
DTSTART;TZID=America/New_York:20230317T093000
DTEND;TZID=America/New_York:20230317T150000
DTSTAMP:20260424T015111
CREATED:20230203T165143Z
LAST-MODIFIED:20230203T165143Z
UID:10004963-1679045400-1679065200@newsuat.fordham.edu
SUMMARY:2023 St. Patrick's Day Brunch and Parade
DESCRIPTION:Join your fellow alumni and friends for a festive brunch featuring live Irish music and remarks by Tania Tetlow\, president of Fordham University. \nAfter the brunch\, join us as we march up Fifth Avenue with Fordham for New York City’s 262nd annual St. Patrick’s Day Parade. \nSchedule\nBrunch: 9:30 a.m. \nParade: 12:30 p.m.
URL:https://newsuat.fordham.edu/event/2023-st-patricks-day-brunch-and-parade/
LOCATION:The Yale Club\, 50 Vanderbilt Ave\, New York\, NY\, 10017\, United States
CATEGORIES:Cultural,Social
END:VEVENT
BEGIN:VEVENT
DTSTART;TZID=America/New_York:20230322T103000
DTEND;TZID=America/New_York:20230322T140000
DTSTAMP:20260424T015111
CREATED:20230303T214702Z
LAST-MODIFIED:20230303T214702Z
UID:10005016-1679481000-1679493600@newsuat.fordham.edu
SUMMARY:Fordham Research Day Celebration 2023
DESCRIPTION:Every year\, the University recognizes faculty research at Fordham Research Day\, an in-person event at the Fordham School of Law. This year\, the keynote speaker will be Jeannette Wing\, Ph.D.\, executive vice president of research and professor of computer science at Columbia University. Wing will speak about “Trustworthy AI.” \nAlso\, we will honor five faculty members with this year’s Distinguished Research Awards and hear presentations from six new book authors during concurrent sessions. \nLunch will be served at 1 p.m.
URL:https://newsuat.fordham.edu/event/fordham-research-day-celebration-2023/
LOCATION:Costantino Room\, Fordham Law School\, 150 West 62nd Street\, New York\, NY\, 10023\, United States
CATEGORIES:Receptions,Social
ORGANIZER;CN="Office of the Provost":MAILTO:provost@fordham.edu
GEO:40.7715478;-73.9849293
X-APPLE-STRUCTURED-LOCATION;VALUE=URI;X-ADDRESS=Costantino Room Fordham Law School 150 West 62nd Street New York NY 10023 United States;X-APPLE-RADIUS=500;X-TITLE=Fordham Law School\, 150 West 62nd Street:geo:-73.9849293,40.7715478
END:VEVENT
BEGIN:VEVENT
DTSTART;TZID=America/New_York:20230326T120000
DTEND;TZID=America/New_York:20230326T150000
DTSTAMP:20260424T015111
CREATED:20230216T224508Z
LAST-MODIFIED:20230216T224508Z
UID:10004988-1679832000-1679842800@newsuat.fordham.edu
SUMMARY:Alumni Chapter of Staten Island: 2023 Brunch and Award Reception
DESCRIPTION:Please join the Alumni Chapter of Staten Island for our annual gathering in celebration of people for others. Information about this year’s award recipients is forthcoming. \nThis event costs $50 per person and includes a deluxe brunch buffet\, beer\, wine\, and soft drinks. A cash bar will be available\, and cocktails can be purchased directly from Li Greci’s The Staaten during the event. \nRSVP by Wednesday\, March 22.
URL:https://newsuat.fordham.edu/event/alumni-chapter-of-staten-island-2023-brunch-and-award-reception-2/
LOCATION:Li Greci’s Staaten\, 697 Forest Avenue\, Staten Island\, NY\, 10310\, United States
CATEGORIES:Social
ORGANIZER;CN="Alumni Chapter of Staten Island":MAILTO:marjorie.pugliese@yahoo.com
GEO:40.6294737;-74.1122607
X-APPLE-STRUCTURED-LOCATION;VALUE=URI;X-ADDRESS=Li Greci’s Staaten 697 Forest Avenue Staten Island NY 10310 United States;X-APPLE-RADIUS=500;X-TITLE=697 Forest Avenue:geo:-74.1122607,40.6294737
END:VEVENT
BEGIN:VEVENT
DTSTART;VALUE=DATE:20230329
DTEND;VALUE=DATE:20230423
DTSTAMP:20260424T015111
CREATED:20230329T203750Z
LAST-MODIFIED:20230329T203750Z
UID:10005070-1680048000-1682207999@newsuat.fordham.edu
SUMMARY:Faith Fest 2023
DESCRIPTION:You’re invited to learn\, serve\, pray\, and engage with the many ways faith is alive at Fordham! \nView a complete breakdown of events. \nFaith Fest 2023 is supported by the Fordham University Department of Theology and the deans’ offices at Fordham College at Lincoln Center and Fordham College at Rose Hill.
URL:https://newsuat.fordham.edu/event/faith-fest-2023/
LOCATION:Fordham University\, 441 E Fordham Rd\, Bronx\, NY\, 10458\, United States
CATEGORIES:Social,Spiritual and Religious Events,Volunteer
GEO:40.8620281;-73.8854257
X-APPLE-STRUCTURED-LOCATION;VALUE=URI;X-ADDRESS=Fordham University 441 E Fordham Rd Bronx NY 10458 United States;X-APPLE-RADIUS=500;X-TITLE=441 E Fordham Rd:geo:-73.8854257,40.8620281
END:VEVENT
END:VCALENDAR