BEGIN:VCALENDAR
VERSION:2.0
PRODID:-//Fordham Now - ECPv6.15.20//NONSGML v1.0//EN
CALSCALE:GREGORIAN
METHOD:PUBLISH
X-WR-CALNAME:Fordham Now
X-ORIGINAL-URL:https://newsuat.fordham.edu
X-WR-CALDESC:Events for Fordham Now
REFRESH-INTERVAL;VALUE=DURATION:PT1H
X-Robots-Tag:noindex
X-PUBLISHED-TTL:PT1H
BEGIN:VTIMEZONE
TZID:America/New_York
BEGIN:DAYLIGHT
TZOFFSETFROM:-0500
TZOFFSETTO:-0400
TZNAME:EDT
DTSTART:20220313T070000
END:DAYLIGHT
BEGIN:STANDARD
TZOFFSETFROM:-0400
TZOFFSETTO:-0500
TZNAME:EST
DTSTART:20221106T060000
END:STANDARD
BEGIN:DAYLIGHT
TZOFFSETFROM:-0500
TZOFFSETTO:-0400
TZNAME:EDT
DTSTART:20230312T070000
END:DAYLIGHT
BEGIN:STANDARD
TZOFFSETFROM:-0400
TZOFFSETTO:-0500
TZNAME:EST
DTSTART:20231105T060000
END:STANDARD
BEGIN:DAYLIGHT
TZOFFSETFROM:-0500
TZOFFSETTO:-0400
TZNAME:EDT
DTSTART:20240310T070000
END:DAYLIGHT
BEGIN:STANDARD
TZOFFSETFROM:-0400
TZOFFSETTO:-0500
TZNAME:EST
DTSTART:20241103T060000
END:STANDARD
END:VTIMEZONE
BEGIN:VTIMEZONE
TZID:America/Los_Angeles
BEGIN:DAYLIGHT
TZOFFSETFROM:-0800
TZOFFSETTO:-0700
TZNAME:PDT
DTSTART:20220313T100000
END:DAYLIGHT
BEGIN:STANDARD
TZOFFSETFROM:-0700
TZOFFSETTO:-0800
TZNAME:PST
DTSTART:20221106T090000
END:STANDARD
BEGIN:DAYLIGHT
TZOFFSETFROM:-0800
TZOFFSETTO:-0700
TZNAME:PDT
DTSTART:20230312T100000
END:DAYLIGHT
BEGIN:STANDARD
TZOFFSETFROM:-0700
TZOFFSETTO:-0800
TZNAME:PST
DTSTART:20231105T090000
END:STANDARD
BEGIN:DAYLIGHT
TZOFFSETFROM:-0800
TZOFFSETTO:-0700
TZNAME:PDT
DTSTART:20240310T100000
END:DAYLIGHT
BEGIN:STANDARD
TZOFFSETFROM:-0700
TZOFFSETTO:-0800
TZNAME:PST
DTSTART:20241103T090000
END:STANDARD
END:VTIMEZONE
BEGIN:VEVENT
DTSTART;TZID=America/New_York:20230211T140000
DTEND;TZID=America/New_York:20230211T170000
DTSTAMP:20260424T032157
CREATED:20221219T151027Z
LAST-MODIFIED:20221219T151027Z
UID:10004905-1676124000-1676134800@newsuat.fordham.edu
SUMMARY:Alumni Chapter of Long Island: 2023 Fordham Davidson Basketball Watch Party
DESCRIPTION:The Alumni Chapter of Long Island invites local alumni to join fellow Rams and Fordham fans at The Point in Point Lookout to watch the men’s basketball team take on Davidson. Wear your best Fordham gear and cheer on the Rams! Appetizers will be provided and guests’ first two drinks will be generously covered by Fordham Athletics. Please arrive by 2:30 p.m.\, in time for tipoff.
URL:https://newsuat.fordham.edu/event/alumni-chapter-of-long-island-2023-fordham-davidson-basketball-watch-party/
LOCATION:The Point\, 70 Lido Boulevard\, Point Lookout\, NY\, 11569\, United States
CATEGORIES:Athletics,Receptions,Social
ORGANIZER;CN="Alumni Chapter of Long Island":MAILTO:phillipcicione@gmail.com
END:VEVENT
BEGIN:VEVENT
DTSTART;TZID=America/New_York:20230211T143000
DTEND;TZID=America/New_York:20230211T183000
DTSTAMP:20260424T032157
CREATED:20221221T221521Z
LAST-MODIFIED:20221221T221521Z
UID:10004909-1676125800-1676140200@newsuat.fordham.edu
SUMMARY:Alumni Chapter of Charlotte: 2023 Fordham Basketball vs. Davidson
DESCRIPTION:Join the Alumni Chapter of Charlotte as the Fordham men’s basketball team takes on Davidson! Cheer on the Rams with fellow Fordham alumni\, parents\, friends\, and fans. \nTickets are $24 for adults\, and $12 for children 17 years and younger. Tickets may be purchased directly from the Davidson ticket office by calling 704-894-2943. Please mention you are part of the Fordham Charlotte Alumni Club and would like tickets in section 106\, where our group will be sitting. Following the game\, join the group for an informal gathering at the Brickhouse Tavern (209 Delburg St.\, Davidson\, NC 28036)\, located near the Davidson campus. \nPlease contact Gene McCarthy\, GABELLI ’60\, at 803-627-3984 with any questions.
URL:https://newsuat.fordham.edu/event/alumni-chapter-of-charlotte-2023-fordham-basketball-vs-davidson/
LOCATION:John M. Belk Arena\, 200 Baker Street\, Davidson\, NC\, 28036\, United States
CATEGORIES:Athletics,Receptions,Social
ORGANIZER;CN="Alumni Chapter of Charlotte":MAILTO:ejmcwylie@aol.com
GEO:35.4992779;-80.840521
X-APPLE-STRUCTURED-LOCATION;VALUE=URI;X-ADDRESS=John M. Belk Arena 200 Baker Street Davidson NC 28036 United States;X-APPLE-RADIUS=500;X-TITLE=200 Baker Street:geo:-80.840521,35.4992779
END:VEVENT
BEGIN:VEVENT
DTSTART;TZID=America/New_York:20230213T183000
DTEND;TZID=America/New_York:20230213T200000
DTSTAMP:20260424T032157
CREATED:20230203T164830Z
LAST-MODIFIED:20230203T164830Z
UID:10004964-1676313000-1676318400@newsuat.fordham.edu
SUMMARY:GSS Black Student Caucus Meeting: Our Relationship with the Police
DESCRIPTION:Facilitator: Tessie Beaubrun \nWhat is The GSS Black Student Caucus? The GSS Black Student Caucus is a virtual meeting for self-identified Black students of Fordham University’s Graduate School of Social Service (GSS). Fordham GSS is holding space for you to connect with other Black students and with GSS in order to create a relaxed and affirming environment where social\, support\, mentorship\, and activism activities occur.
URL:https://newsuat.fordham.edu/event/gss-black-student-caucus-meeting-our-relationship-with-the-police/
LOCATION:Zoom
CATEGORIES:Social
END:VEVENT
BEGIN:VEVENT
DTSTART;TZID=America/New_York:20230222T180000
DTEND;TZID=America/New_York:20230222T200000
DTSTAMP:20260424T032157
CREATED:20221221T221652Z
LAST-MODIFIED:20221221T221652Z
UID:10004908-1677088800-1677096000@newsuat.fordham.edu
SUMMARY:2023 Naples Presidential Welcome Reception
DESCRIPTION:Ann FitzSimons\, PAR\, and Dennis FitzSimons\, FCRH ’72\, PAR\, and the Fordham Alumni Chapter of Southwest Florida cordially invite you to a complimentary reception for alumni\, parents\, and friends. Please join us as we welcome Tania Tetlow as Fordham’s 33rd president—the first woman and layperson to serve as president in the University’s history. \nSpace is limited\, and advance registration is required. RSVP by February 17. \nAs the cost of this event is being generously covered by our hosts\, Ann and Dennis FitzSimons\, please consider making a gift of $25 or more to support Cura Personalis | For Every Fordham Student.
URL:https://newsuat.fordham.edu/event/2023-naples-presidential-welcome-reception/
LOCATION:Club Pelican Bay\, 707 Gulf Park Drive\, Naples\, FL\, 34108\, United States
CATEGORIES:Networking and Career,Receptions,Social
ORGANIZER;CN="Office of Alumni Relations":MAILTO:alumnioffice@fordham.edu
END:VEVENT
BEGIN:VEVENT
DTSTART;TZID=America/Los_Angeles:20230222T180000
DTEND;TZID=America/Los_Angeles:20230222T210000
DTSTAMP:20260424T032157
CREATED:20230127T173207Z
LAST-MODIFIED:20230127T173207Z
UID:10004954-1677088800-1677099600@newsuat.fordham.edu
SUMMARY:Alumni Chapter of Los Angeles: 2023 Fordham Loyola Watch Party
DESCRIPTION:Deep dish casserole versus real pizza; Great Lake versus greater ocean; Untouchables versus Goodfellas: The longtime Chicago/New York feud comes with many chapters\, but never one like this! \nFor the first time in recorded history\, the Fordham men’s basketball team travels to the Windy City to take on the Loyola Ramblers as conference foes. \nFar from the cold\, but in LA’s coolest nabe\, State Social House on iconic Sunset Boulevard has all the stimulating action covered. The Fordham Alumni Chapter of Los Angeles invites alumni\, family\, friends\, and fans from across SoCal to join in what promises to be the start of an epic new rivalry between two of college basketball’s most historic Jesuit programs. \nOf course\, a love of college hoops or clapping back at Chicago is not required. Even if you simply want to meet up with other area Rams\, please drop on by. Just make sure to wear your best Fordham gear and have your horns up! \nThe event costs $5 per person and includes a selection of appetizers. Drinks and additional food can be purchased directly from the restaurant. \nPlease consider making a gift of $25 or more to support Cura Personalis | For Every Fordham Student.
URL:https://newsuat.fordham.edu/event/alumni-chapter-of-los-angeles-2023-fordham-loyola-watch-party/
LOCATION:State Social House\, 8782 Sunset Boulevard\, West Hollywood\, CA\, 90069\, United States
CATEGORIES:Athletics,Receptions,Social
ORGANIZER;CN="Alumni Chapter of Los Angeles":MAILTO:evafordham@gmail.com
END:VEVENT
BEGIN:VEVENT
DTSTART;TZID=America/New_York:20230223T180000
DTEND;TZID=America/New_York:20230223T200000
DTSTAMP:20260424T032157
CREATED:20221221T221239Z
LAST-MODIFIED:20221221T221239Z
UID:10004910-1677175200-1677182400@newsuat.fordham.edu
SUMMARY:2023 Palm Beach Presidential Welcome Reception
DESCRIPTION:Jerry Jordan and Darlene Jordan\, FCRH ’89\, and the Fordham Alumni Chapter of Palm Beach cordially invite you to a complimentary reception for alumni\, parents\, and friends. Please join us as we welcome Tania Tetlow as Fordham’s 33rd president—the first woman and layperson to serve as president in the University’s history. \nSpace is limited\, and advance registration is required. RSVP by February 17. \nAs the cost of this event is being generously covered by our hosts\, Jerry and Darlene Jordan\, please consider making a gift of $25 or more to support Cura Personalis | For Every Fordham Student.
URL:https://newsuat.fordham.edu/event/2023-palm-beach-presidential-welcome-reception/
LOCATION:The Jordan Home\, Address details will be emailed upon registration\, Palm Beach\, FL\, United States
CATEGORIES:Networking and Career,Receptions,Social
ORGANIZER;CN="Office of Alumni Relations":MAILTO:alumnioffice@fordham.edu
END:VEVENT
BEGIN:VEVENT
DTSTART;TZID=America/New_York:20230225T173000
DTEND;TZID=America/New_York:20230225T203000
DTSTAMP:20260424T032157
CREATED:20230120T171304Z
LAST-MODIFIED:20230120T171304Z
UID:10004950-1677346200-1677357000@newsuat.fordham.edu
SUMMARY:2023 Miami Mass and Presidential Welcome Reception
DESCRIPTION:Elena Wilson and Rick Wilson\, FCRH ’82; the Fordham alumni chapters of South Florida and Miami; and the Office of Alumni Relations cordially invite you to an evening Mass and a complimentary reception for alumni\, parents\, and friends. Please join us as we welcome Tania Tetlow as Fordham’s 33rd president—the first woman and layperson to serve as president in the University’s history. \nMass will be celebrated by Archbishop Thomas Wenski\, GSAS ’93\, at 5:30 p.m. Following Mass\, a reception will take place in the parish hall and garden. Space is limited\, and advance registration is required. RSVP by February 20. \nAs the cost of this event is being generously covered by our hosts\, Elena and Rick Wilson\, please consider making a gift of $25 or more to support Cura Personalis | For Every Fordham Student.
URL:https://newsuat.fordham.edu/event/2023-miami-mass-and-presidential-welcome-reception/
LOCATION:St Mary Cathedral\, 7525 NW 2nd Avenue\, Miami\, FL\, 33150\, United States
CATEGORIES:Social
ORGANIZER;CN="Ainsley Woakes":MAILTO:awoakes@fordham.edu
END:VEVENT
BEGIN:VEVENT
DTSTART;TZID=America/New_York:20230227T184500
DTEND;TZID=America/New_York:20230227T201500
DTSTAMP:20260424T032157
CREATED:20230203T164613Z
LAST-MODIFIED:20230203T164613Z
UID:10004965-1677523500-1677528900@newsuat.fordham.edu
SUMMARY:GSS Black Alumni Caucus Meeting: The Paid Practicum?
DESCRIPTION:Facilitator: TBD \nThe GSS Black Alumni Caucus is a virtual space for self-identified Black alumni of Fordham University’s Graduate School of Social Service (GSS). Fordham GSS is holding space for you to connect with other Black alums and with GSS in order to create a relaxed and affirming environment where we can support one another.
URL:https://newsuat.fordham.edu/event/gss-black-alumni-caucus-meeting-the-paid-practicum/
LOCATION:Zoom
CATEGORIES:Social
END:VEVENT
END:VCALENDAR