BEGIN:VCALENDAR
VERSION:2.0
PRODID:-//Fordham Now - ECPv6.15.20//NONSGML v1.0//EN
CALSCALE:GREGORIAN
METHOD:PUBLISH
X-WR-CALNAME:Fordham Now
X-ORIGINAL-URL:https://newsuat.fordham.edu
X-WR-CALDESC:Events for Fordham Now
REFRESH-INTERVAL;VALUE=DURATION:PT1H
X-Robots-Tag:noindex
X-PUBLISHED-TTL:PT1H
BEGIN:VTIMEZONE
TZID:America/Chicago
BEGIN:DAYLIGHT
TZOFFSETFROM:-0600
TZOFFSETTO:-0500
TZNAME:CDT
DTSTART:20220313T080000
END:DAYLIGHT
BEGIN:STANDARD
TZOFFSETFROM:-0500
TZOFFSETTO:-0600
TZNAME:CST
DTSTART:20221106T070000
END:STANDARD
BEGIN:DAYLIGHT
TZOFFSETFROM:-0600
TZOFFSETTO:-0500
TZNAME:CDT
DTSTART:20230312T080000
END:DAYLIGHT
BEGIN:STANDARD
TZOFFSETFROM:-0500
TZOFFSETTO:-0600
TZNAME:CST
DTSTART:20231105T070000
END:STANDARD
BEGIN:DAYLIGHT
TZOFFSETFROM:-0600
TZOFFSETTO:-0500
TZNAME:CDT
DTSTART:20240310T080000
END:DAYLIGHT
BEGIN:STANDARD
TZOFFSETFROM:-0500
TZOFFSETTO:-0600
TZNAME:CST
DTSTART:20241103T070000
END:STANDARD
END:VTIMEZONE
BEGIN:VTIMEZONE
TZID:America/Los_Angeles
BEGIN:DAYLIGHT
TZOFFSETFROM:-0800
TZOFFSETTO:-0700
TZNAME:PDT
DTSTART:20220313T100000
END:DAYLIGHT
BEGIN:STANDARD
TZOFFSETFROM:-0700
TZOFFSETTO:-0800
TZNAME:PST
DTSTART:20221106T090000
END:STANDARD
BEGIN:DAYLIGHT
TZOFFSETFROM:-0800
TZOFFSETTO:-0700
TZNAME:PDT
DTSTART:20230312T100000
END:DAYLIGHT
BEGIN:STANDARD
TZOFFSETFROM:-0700
TZOFFSETTO:-0800
TZNAME:PST
DTSTART:20231105T090000
END:STANDARD
BEGIN:DAYLIGHT
TZOFFSETFROM:-0800
TZOFFSETTO:-0700
TZNAME:PDT
DTSTART:20240310T100000
END:DAYLIGHT
BEGIN:STANDARD
TZOFFSETFROM:-0700
TZOFFSETTO:-0800
TZNAME:PST
DTSTART:20241103T090000
END:STANDARD
END:VTIMEZONE
BEGIN:VTIMEZONE
TZID:America/New_York
BEGIN:DAYLIGHT
TZOFFSETFROM:-0500
TZOFFSETTO:-0400
TZNAME:EDT
DTSTART:20220313T070000
END:DAYLIGHT
BEGIN:STANDARD
TZOFFSETFROM:-0400
TZOFFSETTO:-0500
TZNAME:EST
DTSTART:20221106T060000
END:STANDARD
BEGIN:DAYLIGHT
TZOFFSETFROM:-0500
TZOFFSETTO:-0400
TZNAME:EDT
DTSTART:20230312T070000
END:DAYLIGHT
BEGIN:STANDARD
TZOFFSETFROM:-0400
TZOFFSETTO:-0500
TZNAME:EST
DTSTART:20231105T060000
END:STANDARD
BEGIN:DAYLIGHT
TZOFFSETFROM:-0500
TZOFFSETTO:-0400
TZNAME:EDT
DTSTART:20240310T070000
END:DAYLIGHT
BEGIN:STANDARD
TZOFFSETFROM:-0400
TZOFFSETTO:-0500
TZNAME:EST
DTSTART:20241103T060000
END:STANDARD
END:VTIMEZONE
BEGIN:VEVENT
DTSTART;TZID=America/Chicago:20230105T183000
DTEND;TZID=America/Chicago:20230105T203000
DTSTAMP:20260424T050812
CREATED:20221020T170412Z
LAST-MODIFIED:20221020T170412Z
UID:10004859-1672943400-1672950600@newsuat.fordham.edu
SUMMARY:2023 New Orleans Presidential Welcome Reception
DESCRIPTION:The Office of Alumni Relations cordially invites you to a reception for alumni\, parents\, and friends. Please join us as we welcome Tania Tetlow as Fordham’s 33rd president—the first woman and layperson to serve as president in the University’s history. \nThe event cost includes heavy passed hors d’oeuvres\, beer\, and wine. \nSpace is limited\, and registrations will be honored on a first-come\, first-served basis. We encourage you to register early. RSVP by December 21. \nPlease consider making a gift of $25 or more to support Cura Personalis | For Every Fordham Student.
URL:https://newsuat.fordham.edu/event/2023-new-orleans-presidential-welcome-reception/
LOCATION:Hotel Saint Vincent\, 1507 Magazine Street\, New Orleans\, LA\, 70130\, United States
CATEGORIES:Networking and Career,Receptions,Social
ORGANIZER;CN="Office of Alumni Relations":MAILTO:alumnioffice@fordham.edu
END:VEVENT
BEGIN:VEVENT
DTSTART;TZID=America/Los_Angeles:20230110T183000
DTEND;TZID=America/Los_Angeles:20230110T203000
DTSTAMP:20260424T050812
CREATED:20221201T162614Z
LAST-MODIFIED:20221201T162614Z
UID:10004897-1673375400-1673382600@newsuat.fordham.edu
SUMMARY:2023 San Francisco Presidential Welcome Reception
DESCRIPTION:Madeline Nuñez and Armando Nuñez\, GABELLI ’82\, and the Fordham Alumni Chapter of Northern California cordially invite you to a complimentary reception for alumni\, parents\, and friends. Please join us as we welcome Tania Tetlow as Fordham’s 33rd president—the first woman and layperson to serve as president in the University’s history. \nSpace is limited\, and advance registration is required. RSVP by December 28. \nAs the cost of this event is being generously covered by our hosts\, Madeline and Armando Nuñez\, please consider making a gift of $25 or more to support Cura Personalis | For Every Fordham Student.
URL:https://newsuat.fordham.edu/event/2023-san-francisco-presidential-welcome-reception/
LOCATION:The City Club of San Francisco\, 155 Sansome Street\, San Francisco\, CA\, 94101
CATEGORIES:Networking and Career,Receptions,Social
ORGANIZER;CN="Office of Alumni Relations":MAILTO:alumnioffice@fordham.edu
END:VEVENT
BEGIN:VEVENT
DTSTART;TZID=America/Los_Angeles:20230112T183000
DTEND;TZID=America/Los_Angeles:20230112T203000
DTSTAMP:20260424T050812
CREATED:20221201T162701Z
LAST-MODIFIED:20221201T162701Z
UID:10004898-1673548200-1673555400@newsuat.fordham.edu
SUMMARY:2023 Los Angeles Presidential Welcome Reception
DESCRIPTION:The Fordham Alumni Chapter of Los Angeles and the Office of Alumni Relations cordially invite you to a complimentary reception for alumni\, parents\, and friends. This event is hosted by Shelley McCarthy and Brian McCarthy\, LAW ’78\, Teresa Hicks-Nuzzi\, FCRH ’77\, PAR\, and Dominick Nuzzi\, FCRH ’76\, PAR. Please join us as we welcome Tania Tetlow as Fordham’s 33rd president—the first woman and layperson to serve as president in the University’s history. \nSpace is limited\, and advance registration is required. RSVP by December 29. \nAs the cost of this event is being generously covered by our hosts\, Shelley and Brian McCarthy and Terry and Dom Nuzzi\, please consider making a gift of $25 or more to support Cura Personalis | For Every Fordham Student.
URL:https://newsuat.fordham.edu/event/2023-los-angeles-presidential-welcome-reception/
LOCATION:Loews Santa Monica Beach Hotel\, 1700 Ocean Avenue\, Santa Monica\, CA\, 90401\, United States
CATEGORIES:Networking and Career,Receptions,Social
ORGANIZER;CN="Office of Alumni Relations":MAILTO:alumnioffice@fordham.edu
END:VEVENT
BEGIN:VEVENT
DTSTART;TZID=America/New_York:20230123T183000
DTEND;TZID=America/New_York:20230123T200000
DTSTAMP:20260424T050812
CREATED:20230123T175629Z
LAST-MODIFIED:20230123T175629Z
UID:10004951-1674498600-1674504000@newsuat.fordham.edu
SUMMARY:January 2023 GSS Black Student Caucus Meeting: Game Night
DESCRIPTION:What is the GSS Black Student Caucus? The GSS Black Student Caucus is a virtual meeting for self-identified Black students of Fordham University’s Graduate School of Social Service (GSS). Fordham GSS is holding space for you to connect with other Black students and with GSS in order to create a relaxed and affirming environment where social\, support\, mentorship\, and activism activities occur.
URL:https://newsuat.fordham.edu/event/gss-black-student-caucus-meeting-2/
LOCATION:Zoom
CATEGORIES:Social
END:VEVENT
BEGIN:VEVENT
DTSTART;TZID=America/New_York:20230125T180000
DTEND;TZID=America/New_York:20230125T210000
DTSTAMP:20260424T050812
CREATED:20230105T220135Z
LAST-MODIFIED:20230105T220135Z
UID:10004915-1674669600-1674680400@newsuat.fordham.edu
SUMMARY:Washington\, D.C.\, Young Alumni Happy Hour
DESCRIPTION:The Fordham Fund team and the Alumni Chapter of Washington\, D.C.\, invite young alumni and recent graduates to connect at Never Looked Better! Located in Blagden Alley\, Never Looked Better is a neon-lit speakeasy hidden behind a glowing red door. Come say “hi” and connect with other recent graduates who are living in the D.C. metro area! \nThis event is free to attend with light food provided. Drinks can be purchased on-site.
URL:https://newsuat.fordham.edu/event/washington-d-c-young-alumni-happy-hour/
LOCATION:Never Looked Better\, 130 Blagden Alley NW\, Washington\, D.C.\, DC\, 20001\, United States
CATEGORIES:Social
ORGANIZER;CN="Fordham Fund":MAILTO:fordhamfund@fordham.edu
END:VEVENT
BEGIN:VEVENT
DTSTART;TZID=America/Los_Angeles:20230125T183000
DTEND;TZID=America/Los_Angeles:20230125T203000
DTSTAMP:20260424T050812
CREATED:20221219T212807Z
LAST-MODIFIED:20221219T212807Z
UID:10004907-1674671400-1674678600@newsuat.fordham.edu
SUMMARY:2023 Portland Regional Reception
DESCRIPTION:The Fordham Alumni Chapter of Portland and the Office of Alumni Relations cordially invite you to a reception for alumni\, parents\, and friends. \nThe event costs $25 per person and includes heavy hors d’oeuvres\, beer\, and wine. Register by January 15 to take advantage of early bird pricing. After January 15\, the cost is $30 per person. \nPlease consider making a gift of $25 or more to support Cura Personalis | For Every Fordham Student.
URL:https://newsuat.fordham.edu/event/2023-portland-regional-reception/
LOCATION:Portland City Grill\, 111 SW 5th Avenue\, 30th Floor\, Portland\, OR\, 97204\, United States
CATEGORIES:Networking and Career,Receptions,Social
ORGANIZER;CN="Office of Alumni Relations":MAILTO:alumnioffice@fordham.edu
END:VEVENT
BEGIN:VEVENT
DTSTART;TZID=America/Los_Angeles:20230126T183000
DTEND;TZID=America/Los_Angeles:20230126T203000
DTSTAMP:20260424T050812
CREATED:20221219T212715Z
LAST-MODIFIED:20221219T212715Z
UID:10004906-1674757800-1674765000@newsuat.fordham.edu
SUMMARY:2023 Seattle Regional Reception
DESCRIPTION:The Fordham Alumni Chapter of Seattle and the Office of Alumni Relations cordially invite you to a reception for alumni\, parents\, and friends. \nThe event costs $25 per person and includes heavy hors d’oeuvres\, beer\, and wine. Register by January 15 to take advantage of early bird pricing. After January 15\, the cost is $30 per person. \nPlease consider making a gift of $25 or more to support Cura Personalis | For Every Fordham Student.
URL:https://newsuat.fordham.edu/event/2023-seattle-regional-reception/
LOCATION:Renaissance Seattle Hotel\, 515 Madison Street\, Seattle\, WA\, 98104\, United States
CATEGORIES:Networking and Career,Receptions,Social
ORGANIZER;CN="Office of Alumni Relations":MAILTO:alumnioffice@fordham.edu
END:VEVENT
BEGIN:VEVENT
DTSTART;TZID=America/New_York:20230128T123000
DTEND;TZID=America/New_York:20230128T170000
DTSTAMP:20260424T050812
CREATED:20221219T151522Z
LAST-MODIFIED:20221219T151522Z
UID:10004904-1674909000-1674925200@newsuat.fordham.edu
SUMMARY:Alumni Chapters of Long Island and Westchester: 2023 Campus Center Tour and Basketball Game
DESCRIPTION:The Fordham alumni chapters of Long Island and Westchester invite alumni\, family\, and friends to attend a tour of the McShane Campus Center before the men’s basketball team takes on George Washington University in the Rose Hill Gym. \nPlease meet at the Victory Bell outside the Rose Hill Gymnasium at 12:30 p.m.; the tour will begin promptly at 12:45 p.m. \nTickets to the game are $10 each (normally $25) and will be located in Section 112. A limited number of tickets is available\, so don’t miss a chance to catch up with fellow Rams and cheer on Fordham basketball. Tickets will be sent electronically the week before the game.
URL:https://newsuat.fordham.edu/event/alumni-chapters-of-long-island-and-westchester-2023-campus-center-tour-and-basketball-game/
LOCATION:Rose Hill Campus\, Fordham University\, The Bronx\, NY\, USA\, Bronx\, NY\, 10458\, United States
CATEGORIES:Athletics,Receptions,Social
ORGANIZER;CN="Alumni Chapter of Long Island":MAILTO:phillipcicione@gmail.com
GEO:40.861203;-73.8892181
X-APPLE-STRUCTURED-LOCATION;VALUE=URI;X-ADDRESS=Rose Hill Campus Fordham University The Bronx NY USA Bronx NY 10458 United States;X-APPLE-RADIUS=500;X-TITLE=Fordham University\, The Bronx\, NY\, USA:geo:-73.8892181,40.861203
END:VEVENT
BEGIN:VEVENT
DTSTART;TZID=America/New_York:20230130T184500
DTEND;TZID=America/New_York:20230130T201500
DTSTAMP:20260424T050812
CREATED:20230123T180204Z
LAST-MODIFIED:20230123T180204Z
UID:10004952-1675104300-1675109700@newsuat.fordham.edu
SUMMARY:January 2023 GSS Black Alumni Caucus Meeting: Reparations
DESCRIPTION:The GSS Black Alumni Caucus is a virtual space for self-identified Black alumni of Fordham University’s Graduate School of Social Service (GSS). Fordham GSS is holding space for you to connect with other Black alums and with GSS in order to create a relaxed and affirming environment where we can support one another. \nThe topic of this meeting will be reparations: What is the social worker’s role?
URL:https://newsuat.fordham.edu/event/january-2023-gss-black-alumni-caucus-meeting-reparations/
LOCATION:Zoom
CATEGORIES:Social
END:VEVENT
END:VCALENDAR