BEGIN:VCALENDAR
VERSION:2.0
PRODID:-//Fordham Now - ECPv6.15.20//NONSGML v1.0//EN
CALSCALE:GREGORIAN
METHOD:PUBLISH
X-WR-CALNAME:Fordham Now
X-ORIGINAL-URL:https://newsuat.fordham.edu
X-WR-CALDESC:Events for Fordham Now
REFRESH-INTERVAL;VALUE=DURATION:PT1H
X-Robots-Tag:noindex
X-PUBLISHED-TTL:PT1H
BEGIN:VTIMEZONE
TZID:America/New_York
BEGIN:DAYLIGHT
TZOFFSETFROM:-0500
TZOFFSETTO:-0400
TZNAME:EDT
DTSTART:20210314T070000
END:DAYLIGHT
BEGIN:STANDARD
TZOFFSETFROM:-0400
TZOFFSETTO:-0500
TZNAME:EST
DTSTART:20211107T060000
END:STANDARD
BEGIN:DAYLIGHT
TZOFFSETFROM:-0500
TZOFFSETTO:-0400
TZNAME:EDT
DTSTART:20220313T070000
END:DAYLIGHT
BEGIN:STANDARD
TZOFFSETFROM:-0400
TZOFFSETTO:-0500
TZNAME:EST
DTSTART:20221106T060000
END:STANDARD
BEGIN:DAYLIGHT
TZOFFSETFROM:-0500
TZOFFSETTO:-0400
TZNAME:EDT
DTSTART:20230312T070000
END:DAYLIGHT
BEGIN:STANDARD
TZOFFSETFROM:-0400
TZOFFSETTO:-0500
TZNAME:EST
DTSTART:20231105T060000
END:STANDARD
END:VTIMEZONE
BEGIN:VTIMEZONE
TZID:America/Los_Angeles
BEGIN:DAYLIGHT
TZOFFSETFROM:-0800
TZOFFSETTO:-0700
TZNAME:PDT
DTSTART:20210314T100000
END:DAYLIGHT
BEGIN:STANDARD
TZOFFSETFROM:-0700
TZOFFSETTO:-0800
TZNAME:PST
DTSTART:20211107T090000
END:STANDARD
BEGIN:DAYLIGHT
TZOFFSETFROM:-0800
TZOFFSETTO:-0700
TZNAME:PDT
DTSTART:20220313T100000
END:DAYLIGHT
BEGIN:STANDARD
TZOFFSETFROM:-0700
TZOFFSETTO:-0800
TZNAME:PST
DTSTART:20221106T090000
END:STANDARD
BEGIN:DAYLIGHT
TZOFFSETFROM:-0800
TZOFFSETTO:-0700
TZNAME:PDT
DTSTART:20230312T100000
END:DAYLIGHT
BEGIN:STANDARD
TZOFFSETFROM:-0700
TZOFFSETTO:-0800
TZNAME:PST
DTSTART:20231105T090000
END:STANDARD
END:VTIMEZONE
BEGIN:VEVENT
DTSTART;TZID=America/New_York:20220825T180000
DTEND;TZID=America/New_York:20220825T203000
DTSTAMP:20260424T131514
CREATED:20220615T135600Z
LAST-MODIFIED:20220615T135600Z
UID:10004761-1661450400-1661459400@newsuat.fordham.edu
SUMMARY:2022 Spring Lake Presidential Welcome Reception
DESCRIPTION:The Office of Alumni Relations and the alumni chapters of Northern New Jersey\, Central New Jersey\, and the Jersey Shore cordially invite you to a reception for alumni\, parents\, and friends. Please join us as we welcome Tania Tetlow\, J.D.\, as Fordham’s 33rd president—the first woman and layperson to serve as president in the University’s history. \nThe event costs $65 per person and includes heavy passed hors d’oeuvres\, food stations\, and beer and wine. \nSpace is limited\, and registrations will be honored on a first-come\, first-served basis. We encourage you to register early as this event always sells out. RSVP by August 18. \nPlease consider making a gift of $25 or more to support Cura Personalis | For Every Fordham Student.
URL:https://newsuat.fordham.edu/event/2022-spring-lake-presidential-welcome-reception/
LOCATION:Spring Lake Bath and Tennis Club\, 1 Jersey Avenue\, Spring Lake\, NJ\, 07762\, United States
CATEGORIES:Receptions,Social
ORGANIZER;CN="Office of Alumni Relations":MAILTO:alumnioffice@fordham.edu
END:VEVENT
BEGIN:VEVENT
DTSTART;TZID=America/New_York:20220827T100000
DTEND;TZID=America/New_York:20220827T220000
DTSTAMP:20260424T131514
CREATED:20220816T174027Z
LAST-MODIFIED:20220816T174027Z
UID:10004790-1661594400-1661637600@newsuat.fordham.edu
SUMMARY:Alumni Chapter of the Hudson Valley: 2022 Dutchess County Fair
DESCRIPTION:Join the Alumni Chapter of the Hudson Valley at the 2022 Dutchess County Fair! There is much to see and do for everyone—shows\, rides\, agriculture\, food\, shopping\, and more! This is a family-friendly event and Fordham alumni\, parents\, friends\, and children are welcome to attend. \nWhile the fair runs from August 23 – 28\, our outing will take place on Saturday\, August 27. This is an informal event and we invite attendees to explore the fair on their own. Our group will meet at 1 p.m. for a group photo near the Century Museum Antique Village (building 40 on the map). Look for Linda Purcell\, MC ’73\, Hudson Valley chapter leader\, wearing a Fordham baseball hat. \nPlease note: Registration is not required for the alumni gathering but it is strongly recommended to purchase tickets online in advance\, as lines will be long. Due to staffing shortages\, there will be limited person-to-person window sales. The online presale ends on August 22\, and you will receive a discount for purchasing online in advance. View pricing and buy tickets on the fair’s website. \nPlease consider making a donation of $25 or more to support Cura Personalis | For Every Fordham Student.
URL:https://newsuat.fordham.edu/event/alumni-chapter-of-the-hudson-valley-175th-dutchess-fair/
LOCATION:Dutchess County Fairgrounds\, 6636 Route 9\, Rhinebeck\, NY\, 12572\, United States
CATEGORIES:Social
ORGANIZER;CN="Alumni Chapter of the Hudson Valley":MAILTO:hudsonvalleyfordhamchapter@gmail.com
END:VEVENT
BEGIN:VEVENT
DTSTART;TZID=America/Los_Angeles:20220827T180700
DTEND;TZID=America/Los_Angeles:20220827T180700
DTSTAMP:20260424T131514
CREATED:20220616T172850Z
LAST-MODIFIED:20220616T172850Z
UID:10004763-1661623620-1661623620@newsuat.fordham.edu
SUMMARY:Alumni Chapter of Northern California: 2022 Yankees at A's Baseball Outing
DESCRIPTION:Join the Alumni Chapter of Northern California for our 16th annual Fordham Alumni Night at the Oakland Coliseum as we cheer on the Bronx Bombers versus the Oakland A’s. \nSeats are located in Lower Box 106\, only a few rows off the field behind the Yankees’ bullpen. Alumni\, family\, and friends are welcome to join\, and there is no ticket limit. Please note: All tickets are electronic and will be forwarded via the MLB Ballpark app to the email used by the primary registrant. \nRSVP by August 12. \nWe are planning a pre-game social in the parking lot\, details will be provided two weeks prior to the game.
URL:https://newsuat.fordham.edu/event/alumni-chapter-of-northern-california-2022-yankees-at-as-baseball-outing/
LOCATION:Oakland Coliseum\, 7000 Coliseum Way\, Oakland\, CA\, 94621\, United States
CATEGORIES:Athletics,Networking and Career,Receptions,Social
ORGANIZER;CN="Alumni Chapter of Northern California":MAILTO:markadigiorgio@att.net
END:VEVENT
END:VCALENDAR