BEGIN:VCALENDAR
VERSION:2.0
PRODID:-//Fordham Now - ECPv6.15.20//NONSGML v1.0//EN
CALSCALE:GREGORIAN
METHOD:PUBLISH
X-WR-CALNAME:Fordham Now
X-ORIGINAL-URL:https://newsuat.fordham.edu
X-WR-CALDESC:Events for Fordham Now
REFRESH-INTERVAL;VALUE=DURATION:PT1H
X-Robots-Tag:noindex
X-PUBLISHED-TTL:PT1H
BEGIN:VTIMEZONE
TZID:America/New_York
BEGIN:DAYLIGHT
TZOFFSETFROM:-0500
TZOFFSETTO:-0400
TZNAME:EDT
DTSTART:20210314T070000
END:DAYLIGHT
BEGIN:STANDARD
TZOFFSETFROM:-0400
TZOFFSETTO:-0500
TZNAME:EST
DTSTART:20211107T060000
END:STANDARD
BEGIN:DAYLIGHT
TZOFFSETFROM:-0500
TZOFFSETTO:-0400
TZNAME:EDT
DTSTART:20220313T070000
END:DAYLIGHT
BEGIN:STANDARD
TZOFFSETFROM:-0400
TZOFFSETTO:-0500
TZNAME:EST
DTSTART:20221106T060000
END:STANDARD
BEGIN:DAYLIGHT
TZOFFSETFROM:-0500
TZOFFSETTO:-0400
TZNAME:EDT
DTSTART:20230312T070000
END:DAYLIGHT
BEGIN:STANDARD
TZOFFSETFROM:-0400
TZOFFSETTO:-0500
TZNAME:EST
DTSTART:20231105T060000
END:STANDARD
END:VTIMEZONE
BEGIN:VTIMEZONE
TZID:America/Chicago
BEGIN:DAYLIGHT
TZOFFSETFROM:-0600
TZOFFSETTO:-0500
TZNAME:CDT
DTSTART:20210314T080000
END:DAYLIGHT
BEGIN:STANDARD
TZOFFSETFROM:-0500
TZOFFSETTO:-0600
TZNAME:CST
DTSTART:20211107T070000
END:STANDARD
BEGIN:DAYLIGHT
TZOFFSETFROM:-0600
TZOFFSETTO:-0500
TZNAME:CDT
DTSTART:20220313T080000
END:DAYLIGHT
BEGIN:STANDARD
TZOFFSETFROM:-0500
TZOFFSETTO:-0600
TZNAME:CST
DTSTART:20221106T070000
END:STANDARD
BEGIN:DAYLIGHT
TZOFFSETFROM:-0600
TZOFFSETTO:-0500
TZNAME:CDT
DTSTART:20230312T080000
END:DAYLIGHT
BEGIN:STANDARD
TZOFFSETFROM:-0500
TZOFFSETTO:-0600
TZNAME:CST
DTSTART:20231105T070000
END:STANDARD
END:VTIMEZONE
BEGIN:VEVENT
DTSTART;TZID=America/New_York:20220402T110000
DTEND;TZID=America/New_York:20220402T140000
DTSTAMP:20260425T001136
CREATED:20220321T142508Z
LAST-MODIFIED:20220321T142508Z
UID:10004690-1648897200-1648908000@newsuat.fordham.edu
SUMMARY:Forever Learning Week: Madison Square Park Walking Tour & Happy Hour
DESCRIPTION:Join Untapped New York’s Chief Experience Officer Justin Rivers\, FCRH ’01\, for a stroll around the secrets of one of New York City’s oldest public gathering spaces. Discover the story behind the monument to New York City’s first public Christmas tree. Uncover a historic tree in the park with a special history rooted in the park’s name. Learn about the park’s role in the invention of baseball. Locate the hidden mausoleum right next to the park\, which is one of only two in the whole city. And\, of course\, there will be some lesser-known Fordham connections as well. \nAfter the tour\, join us for delicious afternoon fare and drinks at Old Town Bar\, owned and operated by alumnus Gerard Meagher\, FCRH ’74. \nThis event is part of Forever Learning Week 2022\, sponsored by the Fordham University Alumni Association.
URL:https://newsuat.fordham.edu/event/forever-learning-week-madison-square-park-walking-tour-happy-hour/
LOCATION:Old Town Bar\, 45 E. 18th St.\, New York\, NY\, 10003\, United States
CATEGORIES:Cultural,Receptions,Social
ORGANIZER;CN="Office of Alumni Relations":MAILTO:alumnioffice@fordham.edu
END:VEVENT
BEGIN:VEVENT
DTSTART;TZID=America/Chicago:20220405T183000
DTEND;TZID=America/Chicago:20220405T203000
DTSTAMP:20260425T001136
CREATED:20220215T195911Z
LAST-MODIFIED:20220215T195911Z
UID:10004653-1649183400-1649190600@newsuat.fordham.edu
SUMMARY:2022 Chicago Presidential Reception
DESCRIPTION:Patti Heller\, PAR\, and John Heller\, PAR; the Fordham Alumni Chapter of Chicago; and Joseph M. McShane\, S.J.\, president of Fordham University\, cordially invite you to a complimentary reception for alumni\, parents\, and friends. We hope you’ll join us in wishing Father McShane a fond farewell before he steps down at the end of the academic year. \nSpace is limited\, and advance registration is required. Due to venue capacity\, walk-ins cannot be accommodated. \nAs the cost of the reception is being generously covered by our hosts\, Patti and John Heller\, please consider making a donation of $25 or more to support the University’s new campaign\, Cura Personalis | For Every Fordham Student. \nPlease note: Per the Chicago Club\, proof of COVID-19 vaccination must be shown upon entry to the venue.
URL:https://newsuat.fordham.edu/event/2022-chicago-presidential-reception/
LOCATION:The Chicago Club\, 91 East Van Buren St\, Chicago\, IL\, 60605\, United States
CATEGORIES:Networking and Career,Receptions,Social
ORGANIZER;CN="Office of Alumni Relations":MAILTO:alumnioffice@fordham.edu
GEO:41.8769989;-87.6245821
X-APPLE-STRUCTURED-LOCATION;VALUE=URI;X-ADDRESS=The Chicago Club 91 East Van Buren St Chicago IL 60605 United States;X-APPLE-RADIUS=500;X-TITLE=91 East Van Buren St:geo:-87.6245821,41.8769989
END:VEVENT
BEGIN:VEVENT
DTSTART;TZID=America/New_York:20220411T183000
DTEND;TZID=America/New_York:20220411T193000
DTSTAMP:20260425T001136
CREATED:20211022T183731Z
LAST-MODIFIED:20211022T183731Z
UID:10004484-1649701800-1649705400@newsuat.fordham.edu
SUMMARY:April 2022 GSS Students and Alumni Challenging Anti-Black Racism Caucus Meeting
DESCRIPTION:The Students and Alumni Challenging Anti-Black Racism Caucus is a student- and alumni-led group for anyone who does not self-identify as Black\, and is a space for doing introspective work as students and alumni collectively challenge white supremacy.
URL:https://newsuat.fordham.edu/event/gss-students-and-alumni-challenging-anti-black-racism-caucus-meeting-2022-04-11/
LOCATION:Zoom
CATEGORIES:Social
END:VEVENT
BEGIN:VEVENT
DTSTART;TZID=America/New_York:20220423T120000
DTEND;TZID=America/New_York:20220423T160000
DTSTAMP:20260425T001136
CREATED:20220419T193447Z
LAST-MODIFIED:20220419T193447Z
UID:10004725-1650715200-1650729600@newsuat.fordham.edu
SUMMARY:Bronx Celebration Day
DESCRIPTION:Fordham Club’s annual Bronx Celebration Day will be on April 23 from 12 to 4 p.m. at Fordham Plaza. It will feature a mixture of local Bronx musicians\, poets\, dance groups\, and Fordham student performers\, as well as local vendors and community health and aid organizations. This year we are excited to be partnering with the Bronx Night Market and expect around five popular food vendors to be there throughout the afternoon. It’s going to be a lot of fun; we encourage everyone to come and bring friends and family!
URL:https://newsuat.fordham.edu/event/bronx-celebration-day/
LOCATION:Fordham Plaza\, Bronx\, NY\, 10458\, United States
CATEGORIES:Social
ORGANIZER;CN="Fordham Club":MAILTO:mshahin@fordham.edu
END:VEVENT
END:VCALENDAR