BEGIN:VCALENDAR
VERSION:2.0
PRODID:-//Fordham Now - ECPv6.15.20//NONSGML v1.0//EN
CALSCALE:GREGORIAN
METHOD:PUBLISH
X-WR-CALNAME:Fordham Now
X-ORIGINAL-URL:https://newsuat.fordham.edu
X-WR-CALDESC:Events for Fordham Now
REFRESH-INTERVAL;VALUE=DURATION:PT1H
X-Robots-Tag:noindex
X-PUBLISHED-TTL:PT1H
BEGIN:VTIMEZONE
TZID:America/New_York
BEGIN:DAYLIGHT
TZOFFSETFROM:-0500
TZOFFSETTO:-0400
TZNAME:EDT
DTSTART:20200308T070000
END:DAYLIGHT
BEGIN:STANDARD
TZOFFSETFROM:-0400
TZOFFSETTO:-0500
TZNAME:EST
DTSTART:20201101T060000
END:STANDARD
BEGIN:DAYLIGHT
TZOFFSETFROM:-0500
TZOFFSETTO:-0400
TZNAME:EDT
DTSTART:20210314T070000
END:DAYLIGHT
BEGIN:STANDARD
TZOFFSETFROM:-0400
TZOFFSETTO:-0500
TZNAME:EST
DTSTART:20211107T060000
END:STANDARD
BEGIN:DAYLIGHT
TZOFFSETFROM:-0500
TZOFFSETTO:-0400
TZNAME:EDT
DTSTART:20220313T070000
END:DAYLIGHT
BEGIN:STANDARD
TZOFFSETFROM:-0400
TZOFFSETTO:-0500
TZNAME:EST
DTSTART:20221106T060000
END:STANDARD
END:VTIMEZONE
BEGIN:VEVENT
DTSTART;TZID=America/New_York:20211206T170000
DTEND;TZID=America/New_York:20211206T180000
DTSTAMP:20260425T080645
CREATED:20211022T185059Z
LAST-MODIFIED:20211022T185059Z
UID:10004486-1638810000-1638813600@newsuat.fordham.edu
SUMMARY:December 2021 GSS Activism Subcommittee Meeting
DESCRIPTION:The Activism Subcommittee\, a subcommittee of the Action Committee for Racial and Social Justice\, provides a mechanism through which Graduate School of Social Service (GSS) community members can engage in coordinated advocacy efforts that promote antiracism. We engage in these efforts using an intersectional lens and seek to address social injustice\, specifically white supremacy\, within our own institutions\, as well as the larger social contexts of our surrounding city\, state\, and country. \nPlease join us if you are interested in: \n\nTaking action to promote antiracism and social justice\nEngaging in coordinated advocacy efforts within your community and beyond\nTranslating fundamental social work values into concrete action
URL:https://newsuat.fordham.edu/event/gss-activism-subcommittee-meeting-2021-12-06/
LOCATION:Zoom
CATEGORIES:Social
END:VEVENT
BEGIN:VEVENT
DTSTART;TZID=America/New_York:20211209T170000
DTEND;TZID=America/New_York:20211209T190000
DTSTAMP:20260425T080645
CREATED:20211116T192239Z
LAST-MODIFIED:20211116T192239Z
UID:10004562-1639069200-1639076400@newsuat.fordham.edu
SUMMARY:Alumni Chapter of Austin: Holiday Happy Hour
DESCRIPTION:Calling all Austin Rams! Please come join your fellow central Texas alumni for a holiday kickoff happy hour at Ellis\, named for New York’s own Ellis Island. \nAs the Alumni Chapter of Austin reemerges from our pandemic hibernation\, we look forward to reconnecting with those of y’all from our previous events and meeting the new faces that have moved to the City of the Violet Crown since then. We will also discuss available officer positions and plans for events in 2022. \nThere is an outdoor bar at Ellis. Masks are encouraged—double-points if it is maroon!
URL:https://newsuat.fordham.edu/event/alumni-chapter-of-austin-holiday-happy-hour/
LOCATION:Ellis\, 111 Congress Avenue\, Austin\, TX\, 78704\, United States
CATEGORIES:Social
END:VEVENT
BEGIN:VEVENT
DTSTART;TZID=America/New_York:20211211T170000
DTEND;TZID=America/New_York:20211211T220000
DTSTAMP:20260425T080645
CREATED:20211122T174224Z
LAST-MODIFIED:20211122T174224Z
UID:10004565-1639242000-1639260000@newsuat.fordham.edu
SUMMARY:Alumni Chapter of Northern California Holiday Dinner
DESCRIPTION:Ring in the holidays with alumni\, family\, and friends as the Alumni Chapter of Northern California enjoys an evening at Palio\, a modern Italian trattoria in downtown San Francisco. Our first priority is everyone’s health and safety\, so we are reserving a private dining room and all attendees must show proof of vaccination to remain compliant with San Francisco mandates. \nThe night begins with an optional cocktail hour at the Palio bar\, where drinks will be available for purchase. At 6 p.m.\, we will move to the private dining room to socialize and enjoy a three-course meal. Our dinner includes a salad appetizer followed by three entree choices of Dungeness crab pasta\, roasted chicken\, or grilled ribeye steak; finished with coffee\, cannolis\, and cookies for dessert. \nWe hope you will join us for cocktails\, dinner\, and the opportunity to see the tallest Christmas tree west of the Mississippi one block away on California Street. We look forward to safely celebrating the season with good friends! \nThe event costs $80 and includes a three-course dinner. Drinks are available for separate purchase. RSVP by December 7.
URL:https://newsuat.fordham.edu/event/alumni-chapter-of-northern-california-holiday-dinner/
LOCATION:Palio\, 640 Sacramento Street\, San Francisco\, CA\, 94111\, United States
CATEGORIES:Social
ORGANIZER;CN="Alumni Chapter of Northern California":MAILTO:markadigiorgio@att.net
END:VEVENT
BEGIN:VEVENT
DTSTART;TZID=America/New_York:20211212T150000
DTEND;TZID=America/New_York:20211212T180000
DTSTAMP:20260425T080645
CREATED:20211008T172332Z
LAST-MODIFIED:20211008T172332Z
UID:10004463-1639321200-1639332000@newsuat.fordham.edu
SUMMARY:Alumni Chapter of Long Island: 2021 Christmas Party
DESCRIPTION:Gather with local alumni as we ring in the holidays with our annual Christmas party! A buffet dinner will be served\, and beer and wine are included. \nTickets are $45 for alumni and friends. RSVP by December 9. \nPlease consider making a gift of $25 or more to support the Alumni Chapter of Long Island Endowed Scholarship. \nPlease note: The event is within walking distance of the Farmingdale train station. The venue is not accessible\, so please contact us if you have any concerns.
URL:https://newsuat.fordham.edu/event/alumni-chapter-of-long-island-2021-christmas-party/
LOCATION:The Library Cafe\, 274 Main Street\, Farmingdale\, NY\, 11735\, United States
CATEGORIES:Receptions,Social
ORGANIZER;CN="Alumni Chapter of Long Island":MAILTO:phillipcicione@gmail.com
GEO:40.7327405;-73.4460814
X-APPLE-STRUCTURED-LOCATION;VALUE=URI;X-ADDRESS=The Library Cafe 274 Main Street Farmingdale NY 11735 United States;X-APPLE-RADIUS=500;X-TITLE=274 Main Street:geo:-73.4460814,40.7327405
END:VEVENT
BEGIN:VEVENT
DTSTART;TZID=America/New_York:20211213T180000
DTEND;TZID=America/New_York:20211213T190000
DTSTAMP:20260425T080645
CREATED:20211122T183607Z
LAST-MODIFIED:20211122T183607Z
UID:10004566-1639418400-1639422000@newsuat.fordham.edu
SUMMARY:Secrets of the Holiday Season in New York City
DESCRIPTION:Untapped New York’s CEO Justin Rivers\, FCRH ’01\, delivers this virtual holiday card by tracing the history and secrets of some of New York City’s time-honored holiday traditions. Join us for a fun look at how New York sets the trends for the holiday season all over the globe. Ridiculous holiday sweaters are optional! \nTopics will include \n\nLearn how Santa Claus really is a New Yorker by birth\nExplore how and when the Christmas windows started\nHear the story of the first Rockefeller Center Christmas tree and the origin story of the Radio City Christmas Spectacular\nHow in the world did we come to celebrate New Year’s Eve by dropping a ball at midnight?
URL:https://newsuat.fordham.edu/event/secrets-of-the-holiday-season-in-new-york-city/
LOCATION:Virtual
CATEGORIES:Social
ORGANIZER;CN="Office of Alumni Relations":MAILTO:alumnioffice@fordham.edu
END:VEVENT
BEGIN:VEVENT
DTSTART;TZID=America/New_York:20211213T183000
DTEND;TZID=America/New_York:20211213T193000
DTSTAMP:20260425T080645
CREATED:20211022T183729Z
LAST-MODIFIED:20211022T183729Z
UID:10004480-1639420200-1639423800@newsuat.fordham.edu
SUMMARY:December 2021 GSS Students and Alumni Challenging Anti-Black Racism Caucus Meeting
DESCRIPTION:The Students and Alumni Challenging Anti-Black Racism Caucus is a student- and alumni-led group for anyone who does not self-identify as Black\, and is a space for doing introspective work as students and alumni collectively challenge white supremacy.
URL:https://newsuat.fordham.edu/event/gss-students-and-alumni-challenging-anti-black-racism-caucus-meeting-2021-12-13/
LOCATION:Zoom
CATEGORIES:Social
END:VEVENT
BEGIN:VEVENT
DTSTART;TZID=America/New_York:20211214T190000
DTEND;TZID=America/New_York:20211214T210000
DTSTAMP:20260425T080645
CREATED:20211130T225252Z
LAST-MODIFIED:20211130T225252Z
UID:10004570-1639508400-1639515600@newsuat.fordham.edu
SUMMARY:2021 NYC Winter All-Jesuit Happy Hour
DESCRIPTION:Feel that chill in the air? Get out of the cold and enjoy a festive happy hour! Fordham University’s Young Alumni Committee invites alumni and friends of all Jesuit colleges and universities to join us for the winter edition of the NYC All-Jesuit Happy Hour. Reconnect with classmates and meet fellow #JesuitEducated alumni! \nIn the spirit of the season\, we will be partnering with Socks in the City\, a nonprofit initiative created by recent Fordham alumna Cat Fernando\, to host a sock drive for our neighbors in need.
URL:https://newsuat.fordham.edu/event/2021-nyc-winter-all-jesuit-happy-hour/
LOCATION:The Three Monkeys\, 236 West 54th Street\, New York\, NY\, 10019\, United States
CATEGORIES:Social
ATTACH;FMTTYPE=image/png:https://newsuat.fordham.edu/wp-content/uploads/2021/11/Alumni-Calendar-Image-Template.png
ORGANIZER;CN="Matt Burns":MAILTO:mburns2@fordham.edu
GEO:40.7641217;-73.9832325
X-APPLE-STRUCTURED-LOCATION;VALUE=URI;X-ADDRESS=The Three Monkeys 236 West 54th Street New York NY 10019 United States;X-APPLE-RADIUS=500;X-TITLE=236 West 54th Street:geo:-73.9832325,40.7641217
END:VEVENT
BEGIN:VEVENT
DTSTART;TZID=America/New_York:20211216T190000
DTEND;TZID=America/New_York:20211216T210000
DTSTAMP:20260425T080645
CREATED:20211116T192400Z
LAST-MODIFIED:20211116T192400Z
UID:10004561-1639681200-1639688400@newsuat.fordham.edu
SUMMARY:Alumni Chapter of Chicago: 2021 Christmas Celebration
DESCRIPTION:We’ve missed you! The Alumni Chapter of Chicago invites you to an evening at the Reveler for our annual Christmas party as we return to in-person chapter gatherings. \nA variety of appetizers will be provided\, and a cash bar will be available for drinks. Please join us as we celebrate the holiday season! \nAdvanced registration is required. RSVP by December 13.
URL:https://newsuat.fordham.edu/event/alumni-chapter-of-chicago-2021-christmas-celebration/
LOCATION:The Reveler\, 3403 N. Damen Ave.\, Chicago\, IL\, 60618\, United States
CATEGORIES:Social
ORGANIZER;CN="Alumni Chapter of Chicago":MAILTO:margaret.graver@gmail.com
END:VEVENT
END:VCALENDAR