BEGIN:VCALENDAR
VERSION:2.0
PRODID:-//Fordham Now - ECPv6.15.20//NONSGML v1.0//EN
CALSCALE:GREGORIAN
METHOD:PUBLISH
X-WR-CALNAME:Fordham Now
X-ORIGINAL-URL:https://newsuat.fordham.edu
X-WR-CALDESC:Events for Fordham Now
REFRESH-INTERVAL;VALUE=DURATION:PT1H
X-Robots-Tag:noindex
X-PUBLISHED-TTL:PT1H
BEGIN:VTIMEZONE
TZID:America/New_York
BEGIN:DAYLIGHT
TZOFFSETFROM:-0500
TZOFFSETTO:-0400
TZNAME:EDT
DTSTART:20200308T070000
END:DAYLIGHT
BEGIN:STANDARD
TZOFFSETFROM:-0400
TZOFFSETTO:-0500
TZNAME:EST
DTSTART:20201101T060000
END:STANDARD
BEGIN:DAYLIGHT
TZOFFSETFROM:-0500
TZOFFSETTO:-0400
TZNAME:EDT
DTSTART:20210314T070000
END:DAYLIGHT
BEGIN:STANDARD
TZOFFSETFROM:-0400
TZOFFSETTO:-0500
TZNAME:EST
DTSTART:20211107T060000
END:STANDARD
BEGIN:DAYLIGHT
TZOFFSETFROM:-0500
TZOFFSETTO:-0400
TZNAME:EDT
DTSTART:20220313T070000
END:DAYLIGHT
BEGIN:STANDARD
TZOFFSETFROM:-0400
TZOFFSETTO:-0500
TZNAME:EST
DTSTART:20221106T060000
END:STANDARD
END:VTIMEZONE
BEGIN:VEVENT
DTSTART;TZID=America/New_York:20211101T170000
DTEND;TZID=America/New_York:20211101T180000
DTSTAMP:20260425T095015
CREATED:20211022T185059Z
LAST-MODIFIED:20211022T185059Z
UID:10004485-1635786000-1635789600@newsuat.fordham.edu
SUMMARY:November 2021 GSS Activism Subcommittee Meeting
DESCRIPTION:The Activism Subcommittee\, a subcommittee of the Action Committee for Racial and Social Justice\, provides a mechanism through which Graduate School of Social Service (GSS) community members can engage in coordinated advocacy efforts that promote antiracism. We engage in these efforts using an intersectional lens and seek to address social injustice\, specifically white supremacy\, within our own institutions\, as well as the larger social contexts of our surrounding city\, state\, and country. \nPlease join us if you are interested in: \n\nTaking action to promote antiracism and social justice\nEngaging in coordinated advocacy efforts within your community and beyond\nTranslating fundamental social work values into concrete action
URL:https://newsuat.fordham.edu/event/gss-activism-subcommittee-meeting/
LOCATION:Zoom
CATEGORIES:Social
END:VEVENT
BEGIN:VEVENT
DTSTART;TZID=America/New_York:20211106T153000
DTEND;TZID=America/New_York:20211106T173000
DTSTAMP:20260425T095015
CREATED:20211101T161144Z
LAST-MODIFIED:20211101T161144Z
UID:10004497-1636212600-1636219800@newsuat.fordham.edu
SUMMARY:Alumni Chapter of Washington D.C.: Post-Football Game Gathering
DESCRIPTION:Join us for craft beer and appetizers after Fordham takes on Georgetown in an afternoon football game! \nWe will have two tables reserved for food and fellowship at The Berliner in Georgetown immediately following the game. Game tickets must be purchased separately. \nTickets are $25 for alumni\, family\, and friends. RSVP by November 5. Space is limited and advance registration is required. We hope to see you there!
URL:https://newsuat.fordham.edu/event/alumni-chapter-of-washington-d-c-post-football-game-gathering/
LOCATION:The Berliner\, 3401 Water Street NW\, Washington\, DC\, MD\, 20007\, United States
CATEGORIES:Social
ORGANIZER;CN="Alumni Chapter of Washington%2C D.C.":MAILTO:fordham.club.dc@gmail.com
END:VEVENT
BEGIN:VEVENT
DTSTART;TZID=America/New_York:20211107T110000
DTEND;TZID=America/New_York:20211107T140000
DTSTAMP:20260425T095015
CREATED:20211020T145929Z
LAST-MODIFIED:20211020T145929Z
UID:10004473-1636282800-1636293600@newsuat.fordham.edu
SUMMARY:Veterans Alumni Chapter Memorial Mass and Hall of Fame
DESCRIPTION:All Fordham veterans and ROTC alumni are invited back to campus for a special Mass at the University Church to honor their service and remember fallen comrades. Veteran alumni and student veterans are invited to participate in the Mass as lectors\, extraordinary ministers\, cantors\, and greeters. \nIf you would like to participate in the Mass\, please email Katie Anderson Kuo\, assistant director of campus ministry for liturgy\, at kanderson26@fordham.edu. \nJoin us in Bepler Commons following the Mass as we congratulate the 2021 Fordham Military and NYC Army Reserve Officer Corps Hall of Fame inductees. Refreshments will be served\, and registration is preferred for planning purposes.
URL:https://newsuat.fordham.edu/event/veterans-alumni-chapter-memorial-mass-and-hall-of-fame-2/
LOCATION:Rose Hill Campus\, Fordham University\, The Bronx\, NY\, USA\, Bronx\, NY\, 10458\, United States
CATEGORIES:Receptions,Social,Spiritual and Religious Events
ATTACH;FMTTYPE=image/png:https://newsuat.fordham.edu/wp-content/uploads/2021/10/Event-Submission-Photo-Size-.png
ORGANIZER;CN="Taylor Palmer":MAILTO:tpalmer7@fordham.edu
GEO:40.861203;-73.8892181
X-APPLE-STRUCTURED-LOCATION;VALUE=URI;X-ADDRESS=Rose Hill Campus Fordham University The Bronx NY USA Bronx NY 10458 United States;X-APPLE-RADIUS=500;X-TITLE=Fordham University\, The Bronx\, NY\, USA:geo:-73.8892181,40.861203
END:VEVENT
BEGIN:VEVENT
DTSTART;TZID=America/New_York:20211108T183000
DTEND;TZID=America/New_York:20211108T193000
DTSTAMP:20260425T095015
CREATED:20211022T183729Z
LAST-MODIFIED:20211022T183729Z
UID:10004479-1636396200-1636399800@newsuat.fordham.edu
SUMMARY:GSS Students and Alumni Challenging Anti-Black Racism Caucus Meeting
DESCRIPTION:The Students and Alumni Challenging Anti-Black Racism Caucus is a student- and alumni-led group for anyone who does not self-identify as Black\, and is a space for doing introspective work as students and alumni collectively challenge white supremacy.
URL:https://newsuat.fordham.edu/event/gss-students-and-alumni-challenging-anti-black-racism-caucus-meeting/2021-11-08/
LOCATION:Zoom
CATEGORIES:Social
END:VEVENT
BEGIN:VEVENT
DTSTART;TZID=America/New_York:20211109T180000
DTEND;TZID=America/New_York:20211109T190000
DTSTAMP:20260425T095015
CREATED:20211022T205436Z
LAST-MODIFIED:20211022T205436Z
UID:10004487-1636480800-1636484400@newsuat.fordham.edu
SUMMARY:Alumni Chapter of Washington\, D.C.: Thanksgiving Virtual Cooking Demo
DESCRIPTION:The Fordham Alumni Chapter of D.C.’s Zoom chef extraordinaire\, Mike Mele\, FCRH ’74\, is back with a special virtual\, Thanksgiving-themed cooking demonstration! \nAll alumni chapters\, families\, and friends are welcome to join us as we learn how to prepare for the holiday and cook new recipes in the process. \nThe Zoom link will be shared in the registration confirmation email. We hope to see you online!
URL:https://newsuat.fordham.edu/event/alumni-chapter-of-washington-d-c-thanksgiving-virtual-cooking-demo/
LOCATION:Zoom
CATEGORIES:Cultural,Social
ORGANIZER;CN="Alumni Chapter of Washington%2C D.C.":MAILTO:fordham.club.dc@gmail.com
END:VEVENT
BEGIN:VEVENT
DTSTART;TZID=America/New_York:20211110T180000
DTEND;TZID=America/New_York:20211110T200000
DTSTAMP:20260425T095015
CREATED:20211006T142715Z
LAST-MODIFIED:20211006T142715Z
UID:10004458-1636567200-1636574400@newsuat.fordham.edu
SUMMARY:Alumni Chapter of Northern California: Welcome to the Neighborhood
DESCRIPTION:Calling all recent graduates! Have you recently graduated from Fordham or just moved to the area? Join the Fordham Alumni Chapter of Northern California as we welcome new alumni to the neighborhood at Black Magic Voodoo Lounge. Whether you are looking to network or just make some friendly Fordham connections\, we hope you’ll join us for a fun evening with fellow Rams! \nAll Fordham alumni\, parents\, and friends are welcome to attend the event. Attendees will receive one complimentary drink.
URL:https://newsuat.fordham.edu/event/alumni-chapter-of-northern-california-welcome-to-the-neighborhood/
LOCATION:Black Magic Voodoo Lounge\, 1400 Lombard St.\, San Francisco\, 94123\, United States
CATEGORIES:Networking and Career,Social
ORGANIZER;CN="Alumni Chapter of Northern California":MAILTO:markadigiorgio@att.net
END:VEVENT
BEGIN:VEVENT
DTSTART;TZID=America/New_York:20211113T110000
DTEND;TZID=America/New_York:20211113T130000
DTSTAMP:20260425T095015
CREATED:20211008T172719Z
LAST-MODIFIED:20211008T172719Z
UID:10004462-1636801200-1636808400@newsuat.fordham.edu
SUMMARY:Alumni Chapter of Long Island: Fordham vs. Holy Cross Tailgate
DESCRIPTION:Join the Long Island Alumni Chapter for a pregame tailgate before Fordham takes on Holy Cross! Enjoy a drink and something to eat with fellow Fordham fans before kickoff at 1 p.m. \nWhile there is no fee for this event\, please consider making a donation to the Alumni Chapter of Long Island Endowed Scholarship.
URL:https://newsuat.fordham.edu/event/alumni-chapter-of-long-island-fordham-vs-holy-cross-tailgate/
LOCATION:Parking Lot A Rose Hill Campus\, Fordham University\, Bronx\, NY\, 10458\, United States
CATEGORIES:Athletics,Social
ORGANIZER;CN="Alumni Chapter of Long Island":MAILTO:phillipcicione@gmail.com
END:VEVENT
BEGIN:VEVENT
DTSTART;TZID=America/New_York:20211115T184500
DTEND;TZID=America/New_York:20211115T201500
DTSTAMP:20260425T095015
CREATED:20211022T184604Z
LAST-MODIFIED:20211022T184604Z
UID:10004478-1637001900-1637007300@newsuat.fordham.edu
SUMMARY:GSS Black Alumni Caucus Meeting
DESCRIPTION:The GSS Black Alumni Caucus is a virtual space for self-identified Black alumni of Fordham University’s Graduate School of Social Service (GSS). Fordham GSS is holding space for you to connect with other Black alums and with GSS in order to create a relaxed and affirming environment in which we can support one another. \nMeeting Topic: Sharing Our Licensure Examination Experiences to Help the Next Generation of Black Social Workers \nWe are concerned about the perceived racial disparity in the pass rate of the licensure exams. So\, please come to our next meeting and share what content\, test-taking\, and stress-reduction strategies helped you to pass the exam. We’ll share your knowledge with the next generation.
URL:https://newsuat.fordham.edu/event/gss-black-alumni-caucus-meeting/
LOCATION:Zoom
CATEGORIES:Social
END:VEVENT
BEGIN:VEVENT
DTSTART;TZID=America/New_York:20211121T150000
DTEND;TZID=America/New_York:20211121T180000
DTSTAMP:20260425T095015
CREATED:20210927T160642Z
LAST-MODIFIED:20210927T160642Z
UID:10004444-1637506800-1637517600@newsuat.fordham.edu
SUMMARY:2021 Long Island Mass and Presidential Reception
DESCRIPTION:Eileen Lamberti and Tom Lamberti\, FCRH ’52; the Fordham Alumni Chapter of Long Island; and Joseph M. McShane\, S.J.\, president of Fordham University\, cordially invite you to our annual Mass and reception for alumni\, parents\, and friends. \nThis event costs $25 per person and includes heavy hors d’oeuvres\, food stations\, and an open bar. \nPlease consider making a gift of $25 or more to support the Long Island Scholarship in Memory of John Cifichiello\, GABELLI ’68.
URL:https://newsuat.fordham.edu/event/2021-long-island-mass-and-presidential-reception/
LOCATION:Garden City Hotel\, 45 Seventh Street\, Garden City\, NY\, 11530\, United States
CATEGORIES:Receptions,Social,Spiritual and Religious Events
ORGANIZER;CN="Office of Alumni Relations":MAILTO:alumnioffice@fordham.edu
GEO:40.7245497;-73.6406515
X-APPLE-STRUCTURED-LOCATION;VALUE=URI;X-ADDRESS=Garden City Hotel 45 Seventh Street Garden City NY 11530 United States;X-APPLE-RADIUS=500;X-TITLE=45 Seventh Street:geo:-73.6406515,40.7245497
END:VEVENT
BEGIN:VEVENT
DTSTART;TZID=America/New_York:20211125T190000
DTEND;TZID=America/New_York:20211125T210000
DTSTAMP:20260425T095015
CREATED:20211102T162839Z
LAST-MODIFIED:20211102T162839Z
UID:10004501-1637866800-1637874000@newsuat.fordham.edu
SUMMARY:Alumni Chapter of Germany: Thanksgiving Meets Bavaria
DESCRIPTION:Join the Alumni Chapter of Germany for a Thanksgiving dinner in the heart of Munich. We’d love for you to join us as we kick-off the festive season with Fordham alumni and friends here in Germany!
URL:https://newsuat.fordham.edu/event/alumni-chapter-of-germany-thanksgiving-meets-bavaria/
LOCATION:Spatenhaus an der Oper\, Residenzstraße 12\, München\, 80333\, Germany
CATEGORIES:Cultural,Receptions,Social
END:VEVENT
END:VCALENDAR