BEGIN:VCALENDAR
VERSION:2.0
PRODID:-//Fordham Now - ECPv6.15.20//NONSGML v1.0//EN
CALSCALE:GREGORIAN
METHOD:PUBLISH
X-WR-CALNAME:Fordham Now
X-ORIGINAL-URL:https://newsuat.fordham.edu
X-WR-CALDESC:Events for Fordham Now
REFRESH-INTERVAL;VALUE=DURATION:PT1H
X-Robots-Tag:noindex
X-PUBLISHED-TTL:PT1H
BEGIN:VTIMEZONE
TZID:America/New_York
BEGIN:DAYLIGHT
TZOFFSETFROM:-0500
TZOFFSETTO:-0400
TZNAME:EDT
DTSTART:20200308T070000
END:DAYLIGHT
BEGIN:STANDARD
TZOFFSETFROM:-0400
TZOFFSETTO:-0500
TZNAME:EST
DTSTART:20201101T060000
END:STANDARD
BEGIN:DAYLIGHT
TZOFFSETFROM:-0500
TZOFFSETTO:-0400
TZNAME:EDT
DTSTART:20210314T070000
END:DAYLIGHT
BEGIN:STANDARD
TZOFFSETFROM:-0400
TZOFFSETTO:-0500
TZNAME:EST
DTSTART:20211107T060000
END:STANDARD
BEGIN:DAYLIGHT
TZOFFSETFROM:-0500
TZOFFSETTO:-0400
TZNAME:EDT
DTSTART:20220313T070000
END:DAYLIGHT
BEGIN:STANDARD
TZOFFSETFROM:-0400
TZOFFSETTO:-0500
TZNAME:EST
DTSTART:20221106T060000
END:STANDARD
END:VTIMEZONE
BEGIN:VEVENT
DTSTART;TZID=America/New_York:20210510T183000
DTEND;TZID=America/New_York:20210510T193000
DTSTAMP:20260425T195250
CREATED:20210503T142241Z
LAST-MODIFIED:20210503T142241Z
UID:10004331-1620671400-1620675000@newsuat.fordham.edu
SUMMARY:Meeting: Fordham GSS Students and Alumni Challenging Anti-Black Racism
DESCRIPTION:Join fellow students and alumni of the Fordham University Graduate School of Social Service (GSS) who identify as non-Black and are dedicated allies of their Black colleagues in the advocacy for anti-racism.
URL:https://newsuat.fordham.edu/event/meeting-fordham-gss-students-and-alumni-challenging-anti-black-racism/
LOCATION:Zoom
CATEGORIES:Social
END:VEVENT
BEGIN:VEVENT
DTSTART;TZID=America/New_York:20210510T183000
DTEND;TZID=America/New_York:20210510T200000
DTSTAMP:20260425T195250
CREATED:20210503T143146Z
LAST-MODIFIED:20210503T143146Z
UID:10004330-1620671400-1620676800@newsuat.fordham.edu
SUMMARY:GSS Black Student Caucus Meeting
DESCRIPTION:The GSS Black Student Caucus (BSC) is a virtual space for self-identified Black students of Fordham University’s Graduate School of Social Service (GSS). Fordham GSS is holding space for you to connect with other Black students and with GSS in order to create a relaxed and affirming environment in which we can support one another. There is strength in numbers. \nPlease bring your own food and beverage and join us for virtual games and music. We will recognize the close of the academic year and students in BSC who will be graduating. If you are scheduled to graduate this May or August\, please email Derek Tice-Brown\, Ph.D.\, (adebrown@fordham.edu) individually. At the meeting\, we’ll also update everyone on the plans for the upcoming academic year based on feedback at the meeting this past Monday.
URL:https://newsuat.fordham.edu/event/gss-black-student-caucus-meeting/
LOCATION:Zoom
CATEGORIES:Social
END:VEVENT
BEGIN:VEVENT
DTSTART;TZID=America/New_York:20210512T184500
DTEND;TZID=America/New_York:20210512T201500
DTSTAMP:20260425T195250
CREATED:20210503T142610Z
LAST-MODIFIED:20210503T142610Z
UID:10004329-1620845100-1620850500@newsuat.fordham.edu
SUMMARY:Fordham GSS Black Alumni Caucus Meeting
DESCRIPTION:The GSS Black Alumni Caucus is a virtual space for self-identified Black alumni of Fordham University’s Graduate School of Social Service (GSS). Fordham GSS is holding space for you to connect with other Black alumni and with GSS in order to create a relaxed and affirming environment where we can support one another.
URL:https://newsuat.fordham.edu/event/fordham-gss-black-alumni-caucus-meeting/
LOCATION:Zoom
CATEGORIES:Social
END:VEVENT
BEGIN:VEVENT
DTSTART;TZID=America/New_York:20210527T180000
DTEND;TZID=America/New_York:20210527T200000
DTSTAMP:20260425T195250
CREATED:20210520T192746Z
LAST-MODIFIED:20210520T192746Z
UID:10004364-1622138400-1622145600@newsuat.fordham.edu
SUMMARY:Asian American and Pacific Islander Heritage Month Event
DESCRIPTION:Please join the virtual celebration of Asian American and Pacific Islander Heritage Month\, sponsored by the Asian American Alumni at Fordham (AAF) affinity group. \nThe event will feature distinguished guest speakers who will dive into several topical conversations about the current experiences of AAPI communities on and off the Fordham campus. Topics will include promoting awareness and political representation in New York City\, academic and social issues that current Fordham AAPI students face\, and an introduction to the Pacific Islander cultures and traditions. \nWe look forward to seeing you all there\, virtually!
URL:https://newsuat.fordham.edu/event/asian-american-and-pacific-islander-heritage-month-event/
LOCATION:Zoom
CATEGORIES:Lectures,Social
ATTACH;FMTTYPE=image/png:https://newsuat.fordham.edu/wp-content/uploads/2021/05/Fordham-News-Event-Page-Image.png
ORGANIZER;CN="Taylor Palmer":MAILTO:tpalmer7@fordham.edu
END:VEVENT
END:VCALENDAR