BEGIN:VCALENDAR
VERSION:2.0
PRODID:-//Fordham Now - ECPv6.15.20//NONSGML v1.0//EN
CALSCALE:GREGORIAN
METHOD:PUBLISH
X-WR-CALNAME:Fordham Now
X-ORIGINAL-URL:https://newsuat.fordham.edu
X-WR-CALDESC:Events for Fordham Now
REFRESH-INTERVAL;VALUE=DURATION:PT1H
X-Robots-Tag:noindex
X-PUBLISHED-TTL:PT1H
BEGIN:VTIMEZONE
TZID:America/New_York
BEGIN:DAYLIGHT
TZOFFSETFROM:-0500
TZOFFSETTO:-0400
TZNAME:EDT
DTSTART:20210314T070000
END:DAYLIGHT
BEGIN:STANDARD
TZOFFSETFROM:-0400
TZOFFSETTO:-0500
TZNAME:EST
DTSTART:20211107T060000
END:STANDARD
BEGIN:DAYLIGHT
TZOFFSETFROM:-0500
TZOFFSETTO:-0400
TZNAME:EDT
DTSTART:20220313T070000
END:DAYLIGHT
BEGIN:STANDARD
TZOFFSETFROM:-0400
TZOFFSETTO:-0500
TZNAME:EST
DTSTART:20221106T060000
END:STANDARD
BEGIN:DAYLIGHT
TZOFFSETFROM:-0500
TZOFFSETTO:-0400
TZNAME:EDT
DTSTART:20230312T070000
END:DAYLIGHT
BEGIN:STANDARD
TZOFFSETFROM:-0400
TZOFFSETTO:-0500
TZNAME:EST
DTSTART:20231105T060000
END:STANDARD
END:VTIMEZONE
BEGIN:VEVENT
DTSTART;TZID=America/New_York:20220916T190000
DTEND;TZID=America/New_York:20220916T190000
DTSTAMP:20260421T161206
CREATED:20220901T184655Z
LAST-MODIFIED:20220901T184655Z
UID:10004805-1663354800-1663354800@newsuat.fordham.edu
SUMMARY:2022 Young Alumni Yacht Cruise
DESCRIPTION:Come aboard for an elegant evening cruise featuring dinner\, cocktails\, dancing\, and breathtaking views on a privately chartered yacht. Young alumni and friends will circle lower Manhattan on one of the city’s most luxurious vessels\, which features an open-air top and separate levels for dinner and dancing. \nRegistration includes a buffet dinner and an open bar. Early bird pricing ends on September 6\, and tickets will increase to $100\, so get yours today! \nAre you a member of the Class of 2022? Sign up by September 5 for a discounted ticket of just $50. We’re excited to welcome you to the alumni community! \nPlease be advised that boarding begins at 7 p.m. and the ship will depart promptly at 7:30 p.m.—it will not wait for late passengers. \nWe are currently restricting the young alumni yacht cruise to alumni who graduated from 2012 to 2022. Attendees may purchase a maximum of one guest ticket (non-Fordham guests are currently permitted). \nHaven’t purchased drink tickets for Homecoming the next day? Head back to the main Homecoming registration page.
URL:https://newsuat.fordham.edu/event/2022-young-alumni-yacht-cruise/
LOCATION:Pier 40\, 353 West Street\, New York\, NY\, 10014\, United States
CATEGORIES:Reunions,Social
ORGANIZER;CN="Office of Alumni Relations":MAILTO:alumnioffice@fordham.edu
END:VEVENT
BEGIN:VEVENT
DTSTART;TZID=America/New_York:20220917T080000
DTEND;TZID=America/New_York:20220917T170000
DTSTAMP:20260421T161206
CREATED:20220705T192905Z
LAST-MODIFIED:20220705T192905Z
UID:10004765-1663401600-1663434000@newsuat.fordham.edu
SUMMARY:Homecoming 2022
DESCRIPTION:Homecoming 2022 will be held on Saturday\, September 17 as the Fordham Rams take on the Albany Great Danes.
URL:https://newsuat.fordham.edu/event/save-the-date-homecoming-2022/
LOCATION:Edwards Parade\, 441 East Fordham Road\, Bronx\, NY\, 10458\, United States
CATEGORIES:Athletics,Reunions
GEO:40.8612275;-73.8892354
X-APPLE-STRUCTURED-LOCATION;VALUE=URI;X-ADDRESS=Edwards Parade 441 East Fordham Road Bronx NY 10458 United States;X-APPLE-RADIUS=500;X-TITLE=441 East Fordham Road:geo:-73.8892354,40.8612275
END:VEVENT
END:VCALENDAR